{"text_format":"1","workbook":"xlsx","n_sheets":4,"sheets":["Mileage Log","Print WorkSheet","Print Matrix","Module"],"not_rendered":{"charts":0,"images":1,"macros":1,"external_links":0,"defined_names":63,"comments":0,"pivot_tables":0},"unopened":[],"bounds":{"document_bytes":16777216,"sheet_cells":100000,"rows_first":2000,"rows_last":500,"rows_between":2000,"halvings":0,"cell_chars":16384,"cell_head_chars":4096},"cells_cut":0,"cells_raw":0,"read":"whole","date_system":"1900"}

{"sheet":"Mileage Log","index":0,"n_rows":56,"n_cols":83,"rows_kept":56,"cut":false,"hidden":false,"merged":[[49,20,49,31],[53,20,53,31],[49,33,49,38],[51,33,51,38],[53,33,53,38],[53,59,53,62],[51,59,51,62],[49,59,49,62],[7,12,8,17],[11,25,11,26],[11,27,11,28],[12,27,12,28],[13,27,13,28],[38,23,38,24],[39,23,39,24],[34,23,34,24],[35,23,35,24],[28,23,28,24],[29,23,29,24],[19,25,19,26],[20,25,20,26],[36,23,36,24],[37,23,37,24],[30,23,30,24],[3,2,3,5],[8,39,8,40],[9,39,9,40],[4,8,4,9],[5,36,5,40],[6,36,6,40],[5,21,5,26],[6,21,6,23],[6,24,6,26],[4,2,4,5],[3,13,3,15],[4,13,4,15],[5,13,5,15],[3,8,3,9],[7,1,8,1],[7,2,8,8],[7,9,8,9],[8,21,8,22],[9,21,9,22],[24,23,24,24],[25,23,25,24],[16,23,16,24],[17,23,17,24],[11,23,11,24],[12,23,12,24],[13,23,13,24],[14,23,14,24],[15,23,15,24],[18,23,18,24],[19,23,19,24],[20,23,20,24],[21,23,21,24],[22,23,22,24],[23,23,23,24],[31,23,31,24],[32,23,32,24],[33,23,33,24],[26,23,26,24],[27,23,27,24],[42,23,42,24],[12,25,12,26],[13,25,13,26],[14,25,14,26],[15,25,15,26],[16,25,16,26],[17,25,17,26],[18,25,18,26],[40,23,40,24],[41,23,41,24],[37,25,37,26],[38,25,38,26],[21,25,21,26],[22,25,22,26],[23,25,23,26],[24,25,24,26],[25,25,25,26],[26,25,26,26],[29,25,29,26],[30,25,30,26],[31,25,31,26],[32,25,32,26],[35,25,35,26],[36,25,36,26],[14,27,14,28],[15,27,15,28],[16,27,16,28],[17,27,17,28],[24,27,24,28],[25,27,25,28],[18,27,18,28],[19,27,19,28],[20,27,20,28],[21,27,21,28],[22,27,22,28],[23,27,23,28],[31,27,31,28],[39,25,39,26],[40,25,40,26],[41,25,41,26],[32,27,32,28],[33,27,33,28],[26,27,26,28],[27,27,27,28],[42,25,42,26],[33,25,33,26],[34,25,34,26],[27,25,27,26],[28,25,28,26],[38,27,38,28],[39,27,39,28],[34,27,34,28],[35,27,35,28],[28,27,28,28],[29,27,29,28],[42,27,42,28],[40,27,40,28],[41,27,41,28],[36,27,36,28],[37,27,37,28],[30,27,30,28],[32,29,32,30],[33,29,33,30],[28,29,28,30],[29,29,29,30],[30,29,30,30],[31,29,31,30],[20,29,20,30],[21,29,21,30],[22,29,22,30],[23,29,23,30],[24,29,24,30],[25,29,25,30],[26,29,26,30],[27,29,27,30],[11,33,11,34],[12,33,12,34],[13,33,13,34],[14,33,14,34],[15,33,15,34],[11,31,11,32],[12,31,12,32],[13,31,13,32],[14,31,14,32],[15,31,15,32],[11,29,11,30],[12,29,12,30],[13,29,13,30],[14,29,14,30],[15,29,15,30],[16,29,16,30],[17,29,17,30],[18,29,18,30],[19,29,19,30],[34,29,34,30],[35,29,35,30],[22,33,22,34],[23,33,23,34],[20,33,20,34],[21,33,21,34],[38,33,38,34],[39,33,39,34],[28,33,28,34],[29,33,29,34],[30,33,30,34],[31,33,31,34],[32,33,32,34],[33,33,33,34],[22,31,22,32],[23,31,23,32],[24,31,24,32],[25,31,25,32],[26,31,26,32],[27,31,27,32],[28,31,28,32],[29,31,29,32],[36,29,36,30],[37,29,37,30],[40,31,40,32],[16,33,16,34],[17,33,17,34],[18,33,18,34],[19,33,19,34],[18,31,18,32],[41,31,41,32],[30,31,30,32],[31,31,31,32],[32,31,32,32],[33,31,33,32],[34,31,34,32],[35,31,35,32],[36,31,36,32],[37,31,37,32],[40,33,40,34],[34,33,34,34],[35,33,35,34],[36,33,36,34],[37,33,37,34],[24,33,24,34],[25,33,25,34],[26,33,26,34],[27,33,27,34],[15,35,15,36],[16,35,16,36],[17,35,17,36],[29,35,29,36],[19,31,19,32],[20,31,20,32],[21,31,21,32],[16,31,16,32],[17,31,17,32],[24,35,24,36],[21,35,21,36],[37,35,37,36],[38,35,38,36],[39,35,39,36],[40,35,40,36],[18,35,18,36],[19,35,19,36],[20,35,20,36],[34,35,34,36],[23,35,23,36],[28,35,28,36],[25,35,25,36],[26,35,26,36],[27,35,27,36],[35,35,35,36],[22,35,22,36],[31,35,31,36],[32,35,32,36],[11,35,11,36],[52,20,52,26],[30,35,30,36],[33,35,33,36],[41,35,41,36],[42,35,42,36],[36,35,36,36],[53,41,53,42],[54,41,54,42],[54,20,54,26],[51,20,51,25],[42,31,42,32],[38,31,38,32],[39,31,39,32],[41,33,41,34],[42,33,42,34],[42,29,42,30],[38,29,38,30],[39,29,39,30],[40,29,40,30],[41,29,41,30],[12,35,12,36],[13,35,13,36],[14,35,14,36]]}
[null,"Mileage Program for the San Luis Obispo County Office of Education - Mileage verified with Google Maps - Revised 09/2022"]
[null,"NOTE: This prorgam is for convenience. Calculated mileage may differ from actual mileage depending on travel route. If your route mileage is different please use the Mileage Expense worksheet."]
[]
[null,"Name=",null,null,null,null,null,"Month=",null,null,"Year=","2023",null,null,null,null,null,"Budget Code | %"]
[null,"Address=",null,null,null,null,null,"City=",null,null,"ZIP=",null,null,null,null,null,null,"Budget Code | %"]
[null,null,null,null,null,null,null,null,null,null,null,null,null,null,null,null,null,"Budget Code | %",null,null,null,{"$f":"C4","v":0},null,null,null,null,null,null,null,null,null,null,null,null,null,null,{"$f":"IF(ISBLANK(C5),\"\",C5)","v":""}]
[null,null,null,null,null,null,null,null,null,null,null,null,null,null,null,null,null,null,null,null,null,{"$f":"I4","v":"00:00:00"},null,null,{"$f":"L4","v":"2023"},null,null,null,null,null,null,null,null,null,null,null,{"$f":"IF(ISBLANK(I5),\"\",CONCATENATE(I5,\", CA \",L5))","v":""}]
[null,"Enter numeric day of month","Enter abbreviation for each site",null,null,null,null,null,null,"Enter purpose of trip",null,null,{"$f":"+'Print WorkSheet'!AB3","v":"Site Abbreviations"}]
[null,null,null,null,null,null,null,null,null,null,null,null,null,null,null,null,null,null,null,null,null,"Day Of",null,"Where Traveled and Purpose of Trip",null,null,null,null,null,null,null,null,null,null,null,null,null,null,null,"Private ",null,null,null,null,"Day of",null,null,"Where Traveled and Purpose of Trip",null,null,null,null,null,null,null,null,null,null,null,null,null,null,null,"Private "]
[null,"Date",1,2,3,4,5,6,7,"Purpose","Miles",null,{"$f":"'Print WorkSheet'!AB5","v":"AGHS"},{"$f":"'Print WorkSheet'!AC5","v":"Arroyo Grande HS"},{"$f":"'Print WorkSheet'!AB36","v":"JCS"},{"$f":"'Print WorkSheet'!AC36","v":"Juvenile Court Sch"},{"$f":"'Print WorkSheet'!AB67","v":"SB"},{"$f":"'Print WorkSheet'!AC67","v":"Shell Beach Elem"},null,null,null,"Month",null,"or Location and Type of Meeting",null,null,null,null,null,null,null,null,null,null,null,null,null,null,null,"Car Miles",null,null,null,null,"Month",null,null,null,null,null,null,null,null,null,null,null,null,null,null,null,null,null,null,"Car Miles"]
[null,null,null,null,null,null,null,null,null,null,{"$f":"IF(ISBLANK(AN12),\"\",AN12)","v":""},null,{"$f":"'Print WorkSheet'!AB6","v":"ADO"},{"$f":"'Print WorkSheet'!AC6","v":"Atascadero DO"},{"$f":"'Print WorkSheet'!AB37","v":"KK"},{"$f":"'Print WorkSheet'!AC37","v":"Kermit King Elem"},{"$f":"'Print WorkSheet'!AB68","v":"SG"},{"$f":"'Print WorkSheet'!AC68","v":"San Gabriel Elem"},null,null,null,null,null,null,null,null,null,null,null,null,null,null,null,null,null,null,null,null,null,null,null,null,null,null,null,null,null,null,null,null,null,null,null,null,null,null,null,null,null,null,null,null,null,null,null,null,"B","D","F","H","J","L","N"]
[null,null,null,null,null,null,null,null,null,null,{"$f":"IF(ISBLANK(AN13),\"\",AN13)","v":""},null,{"$f":"'Print WorkSheet'!AB7","v":"ATHS"},{"$f":"'Print WorkSheet'!AC7","v":"Atascadero HS"},{"$f":"'Print WorkSheet'!AB38","v":"LAMS"},{"$f":"'Print WorkSheet'!AC38","v":"Laguna MS"},{"$f":"'Print WorkSheet'!AB69","v":"SHS"},{"$f":"'Print WorkSheet'!AC69","v":"Shandon HS"},null,null,null,{"$f":"IF(ISBLANK(B11),\"\",IF(ISTEXT(B11),TEXT(+B11,\"dd\"),DAY(B11)))","v":""},null,{"$f":"IF(ISBLANK(C11),\"\",UPPER(C11))","v":""},null,{"$f":"IF(ISBLANK(D11),\"\",UPPER(D11))","v":""},null,{"$f":"IF(ISBLANK(E11),\"\",UPPER(E11))","v":""},null,{"$f":"IF(ISBLANK(F11),\"\",UPPER(F11))","v":""},null,{"$f":"IF(ISBLANK(G11),\"\",UPPER(G11))","v":""},null,{"$f":"IF(ISBLANK(H11),\"\",UPPER(H11))","v":""},null,{"$f":"IF(ISBLANK(I11),\"\",UPPER(I11))","v":""},null,{"$f":"IF(ISBLANK(J11),\"\",(J11))","v":""},null,{"$f":"IF(ISBLANK(BL12),\"\",BL12)","v":""},null,null,null,null,null,{"$f":"IF(ISBLANK($B11),\"\",DAY($B11))","v":""},null,{"$f":"IF(ISTEXT($C11),VLOOKUP($C11,'Print WorkSheet'!$X$4:$Z$115,3),\"\")","v":""},{"$f":"IF(AV12=0,\"\",VLOOKUP(VALUE(AV12),'Print Matrix'!$B$5:$C$100,2))","v":""},{"$f":"IF(ISTEXT($D11),VLOOKUP($D11,'Print WorkSheet'!$X$4:$Z$115,3),\"\")","v":""},{"$f":"IF(AX12=0,\"\",VLOOKUP(VALUE(AX12),'Print Matrix'!$B$5:$C$100,2))","v":""},{"$f":"IF(ISTEXT($E11),VLOOKUP($E11,'Print WorkSheet'!$X$4:$Z$115,3),\"\")","v":""},{"$f":"IF(AZ12=0,\"\",VLOOKUP(VALUE(AZ12),'Print Matrix'!$B$5:$C$100,2))","v":""},{"$f":"IF(ISTEXT($F11),VLOOKUP($F11,'Print WorkSheet'!$X$4:$Z$115,3),\"\")","v":""},{"$f":"IF(BB12=0,\"\",VLOOKUP(BB12,'Print Matrix'!$B$5:$C$100,2))","v":""},{"$f":"IF(ISTEXT($G11),VLOOKUP($G11,'Print WorkSheet'!$X$4:$Z$115,3),\"\")","v":""},{"$f":"IF(BD12=0,\"\",VLOOKUP(BD12,'Print Matrix'!$B$5:$C$100,2))","v":""},{"$f":"IF(ISTEXT($H11),VLOOKUP($H11,'Print WorkSheet'!$X$4:$Z$115,3),\"\")","v":""},{"$f":"IF(BF12=0,\"\",VLOOKUP(BF12,'Print Matrix'!$B$5:$C$100,2))","v":""},{"$f":"IF(ISTEXT($I11),VLOOKUP($I11,'Print WorkSheet'!$X$4:$Z$115,3),\"\")","v":""},{"$f":"IF(BH12=0,\"\",VLOOKUP(BH12,'Print Matrix'!$B$5:$C$100,2))","v":""},null,{"$f":"IF(ISBLANK(J11),\"\",J11)","v":""},{"$f":"IF(CE12=0,\"\",CE12)","v":""},null,null,{"$f":"VALUE(AV12)","v":0},{"$f":"VALUE(AX12)","v":0},{"$f":"VALUE(AZ12)","v":0},{"$f":"VALUE(BB12)","v":0},{"$f":"VALUE(BD12)","v":0},{"$f":"VALUE(BF12)","v":0},{"$f":"VALUE(BH12)","v":0},null,1,{"$f":"IF(OR(BO12=0,BP12=0),0,VLOOKUP(BO12,'Print Matrix'!$B$3:$CU$102,BP12+2))","v":0},{"$f":"IF(OR(BP12=0,BQ12=0),0,VLOOKUP(BP12,'Print Matrix'!$B$3:$CU$102,BQ12+2))","v":0},{"$f":"IF(OR(BQ12=0,BR12=0),0,VLOOKUP(BQ12,'Print Matrix'!$B$3:$CU$102,BR12+2))","v":0},{"$f":"IF(OR(BR12=0,BS12=0),0,VLOOKUP(BR12,'Print Matrix'!$B$3:$CU$102,BS12+2))","v":0},{"$f":"IF(OR(BS12=0,BT12=0),0,VLOOKUP(BS12,'Print Matrix'!$B$3:$CU$102,BT12+2))","v":0},{"$f":"IF(OR(BT12=0,BU12=0),0,VLOOKUP(BT12,'Print Matrix'!$B$3:$CU$102,BU12+2))","v":0}," =",{"$f":"IF(SUM($BX12:$CC12)=0,0,SUM(BX12:CC12))","v":0}]
[null,null,null,null,null,null,null,null,null,null,"",null,{"$f":"'Print WorkSheet'!AB8","v":"AMS"},{"$f":"'Print WorkSheet'!AC8","v":"Atascadero MS"},{"$f":"'Print WorkSheet'!AB52","v":"LCS"},{"$f":"'Print WorkSheet'!AC52","v":"Lopez Cont./Adult Sch."},{"$f":"'Print WorkSheet'!AB70","v":"SI"},{"$f":"'Print WorkSheet'!AC70","v":"Sinshiemer Elem"},null,null,null,"",null,{"$f":"IF(ISBLANK(C12),\"\",UPPER(C12))","v":""},null,{"$f":"IF(ISBLANK(D12),\"\",UPPER(D12))","v":""},null,{"$f":"IF(ISBLANK(E12),\"\",UPPER(E12))","v":""},null,{"$f":"IF(ISBLANK(F12),\"\",UPPER(F12))","v":""},null,{"$f":"IF(ISBLANK(G12),\"\",UPPER(G12))","v":""},null,{"$f":"IF(ISBLANK(H12),\"\",UPPER(H12))","v":""},null,"",null,{"$f":"IF(ISBLANK(J12),\"\",J12)","v":""},null,"",null,null,null,null,null,"",null,{"$f":"IF(ISTEXT($C12),VLOOKUP($C12,'Print WorkSheet'!$X$4:$Z$115,3),\"\")","v":""},{"$f":"IF(AV13=0,\"\",VLOOKUP(VALUE(AV13),'Print Matrix'!$B$5:$C$100,2))","v":""},{"$f":"IF(ISTEXT($D12),VLOOKUP($D12,'Print WorkSheet'!$X$4:$Z$115,3),\"\")","v":""},{"$f":"IF(AX13=0,\"\",VLOOKUP(VALUE(AX13),'Print Matrix'!$B$5:$C$100,2))","v":""},{"$f":"IF(ISTEXT($E12),VLOOKUP($E12,'Print WorkSheet'!$X$4:$Z$115,3),\"\")","v":""},{"$f":"IF(AZ13=0,\"\",VLOOKUP(VALUE(AZ13),'Print Matrix'!$B$5:$C$100,2))","v":""},{"$f":"IF(ISTEXT($F12),VLOOKUP($F12,'Print WorkSheet'!$X$4:$Z$115,3),\"\")","v":""},{"$f":"IF(BB13=0,\"\",VLOOKUP(BB13,'Print Matrix'!$B$5:$C$100,2))","v":""},{"$f":"IF(ISTEXT($G12),VLOOKUP($G12,'Print WorkSheet'!$X$4:$Z$115,3),\"\")","v":""},{"$f":"IF(BD13=0,\"\",VLOOKUP(BD13,'Print Matrix'!$B$5:$C$100,2))","v":""},{"$f":"IF(ISTEXT($H12),VLOOKUP($H12,'Print WorkSheet'!$X$4:$Z$115,3),\"\")","v":""},{"$f":"IF(BF13=0,\"\",VLOOKUP(BF13,'Print Matrix'!$B$5:$C$100,2))","v":""},{"$f":"IF(ISTEXT($I12),VLOOKUP($I12,'Print WorkSheet'!$X$4:$Z$115,3),\"\")","v":""},{"$f":"IF(BH13=0,\"\",VLOOKUP(BH13,'Print Matrix'!$B$5:$C$100,2))","v":""},null,"","",null,null,0,0,0,0,0,0,0,null,2,{"$f":"IF(OR(BO13=0,BP13=0),0,VLOOKUP(BO13,'Print Matrix'!$B$3:$CU$102,BP13+2))","v":0},{"$f":"IF(OR(BP13=0,BQ13=0),0,VLOOKUP(BP13,'Print Matrix'!$B$3:$CU$102,BQ13+2))","v":0},{"$f":"IF(OR(BQ13=0,BR13=0),0,VLOOKUP(BQ13,'Print Matrix'!$B$3:$CU$102,BR13+2))","v":0},{"$f":"IF(OR(BR13=0,BS13=0),0,VLOOKUP(BR13,'Print Matrix'!$B$3:$CU$102,BS13+2))","v":0},{"$f":"IF(OR(BS13=0,BT13=0),0,VLOOKUP(BS13,'Print Matrix'!$B$3:$CU$102,BT13+2))","v":0},{"$f":"IF(OR(BT13=0,BU13=0),0,VLOOKUP(BT13,'Print Matrix'!$B$3:$CU$102,BU13+2))","v":0}," =",0]
[null,null,null,null,null,null,null,null,null,null,"",null,{"$f":"'Print WorkSheet'!AB9","v":"BS"},{"$f":"'Print WorkSheet'!AC9","v":"Bauer/Speck"},{"$f":"'Print WorkSheet'!AB96","v":"LHS"},{"$f":"'Print WorkSheet'!AC96","v":"Leffingwell High"},{"$f":"'Print WorkSheet'!AB71","v":"SO"},{"$f":"'Print WorkSheet'!AC71","v":"San Benito Elem"},null,null,null,"",null,"",null,"",null,"",null,"",null,"",null,"",null,"",null,"",null,"",null,null,null,null,null,"",null,{"$f":"IF(ISTEXT($C13),VLOOKUP($C13,'Print WorkSheet'!$X$4:$Z$115,3),\"\")","v":""},{"$f":"IF(AV14=0,\"\",VLOOKUP(VALUE(AV14),'Print Matrix'!$B$5:$C$100,2))","v":""},{"$f":"IF(ISTEXT($D13),VLOOKUP($D13,'Print WorkSheet'!$X$4:$Z$115,3),\"\")","v":""},{"$f":"IF(AX14=0,\"\",VLOOKUP(VALUE(AX14),'Print Matrix'!$B$5:$C$100,2))","v":""},{"$f":"IF(ISTEXT($E13),VLOOKUP($E13,'Print WorkSheet'!$X$4:$Z$115,3),\"\")","v":""},{"$f":"IF(AZ14=0,\"\",VLOOKUP(VALUE(AZ14),'Print Matrix'!$B$5:$C$100,2))","v":""},{"$f":"IF(ISTEXT($F13),VLOOKUP($F13,'Print WorkSheet'!$X$4:$Z$115,3),\"\")","v":""},{"$f":"IF(BB14=0,\"\",VLOOKUP(BB14,'Print Matrix'!$B$5:$C$100,2))","v":""},{"$f":"IF(ISTEXT($G13),VLOOKUP($G13,'Print WorkSheet'!$X$4:$Z$115,3),\"\")","v":""},{"$f":"IF(BD14=0,\"\",VLOOKUP(BD14,'Print Matrix'!$B$5:$C$100,2))","v":""},{"$f":"IF(ISTEXT($H13),VLOOKUP($H13,'Print WorkSheet'!$X$4:$Z$115,3),\"\")","v":""},{"$f":"IF(BF14=0,\"\",VLOOKUP(BF14,'Print Matrix'!$B$5:$C$100,2))","v":""},{"$f":"IF(ISTEXT($I13),VLOOKUP($I13,'Print WorkSheet'!$X$4:$Z$115,3),\"\")","v":""},{"$f":"IF(BH14=0,\"\",VLOOKUP(BH14,'Print Matrix'!$B$5:$C$100,2))","v":""},null,"","",null,null,0,0,0,0,0,0,0,null,3,{"$f":"IF(OR(BO14=0,BP14=0),0,VLOOKUP(BO14,'Print Matrix'!$B$3:$CU$102,BP14+2))","v":0},{"$f":"IF(OR(BP14=0,BQ14=0),0,VLOOKUP(BP14,'Print Matrix'!$B$3:$CU$102,BQ14+2))","v":0},{"$f":"IF(OR(BQ14=0,BR14=0),0,VLOOKUP(BQ14,'Print Matrix'!$B$3:$CU$102,BR14+2))","v":0},{"$f":"IF(OR(BR14=0,BS14=0),0,VLOOKUP(BR14,'Print Matrix'!$B$3:$CU$102,BS14+2))","v":0},{"$f":"IF(OR(BS14=0,BT14=0),0,VLOOKUP(BS14,'Print Matrix'!$B$3:$CU$102,BT14+2))","v":0},{"$f":"IF(OR(BT14=0,BU14=0),0,VLOOKUP(BT14,'Print Matrix'!$B$3:$CU$102,BU14+2))","v":0}," =",0]
[null,null,null,null,null,null,null,null,null,null,"",null,{"$f":"'Print WorkSheet'!AB10","v":"BA"},{"$f":"'Print WorkSheet'!AC10","v":"Baywood Elem"},{"$f":"'Print WorkSheet'!AB39","v":"LL"},{"$f":"'Print WorkSheet'!AC39","v":"Lillian Larsen"},{"$f":"'Print WorkSheet'!AB98","v":"PBH"},{"$f":"'Print WorkSheet'!AC98","v":"Pacific Beach High"},null,null,null,"",null,"",null,"",null,"",null,"",null,"",null,"",null,"",null,"",null,"",null,null,null,null,null,"",null,{"$f":"IF(ISTEXT($C14),VLOOKUP($C14,'Print WorkSheet'!$X$4:$Z$115,3),\"\")","v":""},{"$f":"IF(AV15=0,\"\",VLOOKUP(VALUE(AV15),'Print Matrix'!$B$5:$C$100,2))","v":""},{"$f":"IF(ISTEXT($D14),VLOOKUP($D14,'Print WorkSheet'!$X$4:$Z$115,3),\"\")","v":""},{"$f":"IF(AX15=0,\"\",VLOOKUP(VALUE(AX15),'Print Matrix'!$B$5:$C$100,2))","v":""},{"$f":"IF(ISTEXT($E14),VLOOKUP($E14,'Print WorkSheet'!$X$4:$Z$115,3),\"\")","v":""},{"$f":"IF(AZ15=0,\"\",VLOOKUP(VALUE(AZ15),'Print Matrix'!$B$5:$C$100,2))","v":""},{"$f":"IF(ISTEXT($F14),VLOOKUP($F14,'Print WorkSheet'!$X$4:$Z$115,3),\"\")","v":""},{"$f":"IF(BB15=0,\"\",VLOOKUP(BB15,'Print Matrix'!$B$5:$C$100,2))","v":""},{"$f":"IF(ISTEXT($G14),VLOOKUP($G14,'Print WorkSheet'!$X$4:$Z$115,3),\"\")","v":""},{"$f":"IF(BD15=0,\"\",VLOOKUP(BD15,'Print Matrix'!$B$5:$C$100,2))","v":""},{"$f":"IF(ISTEXT($H14),VLOOKUP($H14,'Print WorkSheet'!$X$4:$Z$115,3),\"\")","v":""},{"$f":"IF(BF15=0,\"\",VLOOKUP(BF15,'Print Matrix'!$B$5:$C$100,2))","v":""},{"$f":"IF(ISTEXT($I14),VLOOKUP($I14,'Print WorkSheet'!$X$4:$Z$115,3),\"\")","v":""},{"$f":"IF(BH15=0,\"\",VLOOKUP(BH15,'Print Matrix'!$B$5:$C$100,2))","v":""},null,"","",null,null,0,0,0,0,0,0,0,null,4,{"$f":"IF(OR(BO15=0,BP15=0),0,VLOOKUP(BO15,'Print Matrix'!$B$3:$CU$102,BP15+2))","v":0},{"$f":"IF(OR(BP15=0,BQ15=0),0,VLOOKUP(BP15,'Print Matrix'!$B$3:$CU$102,BQ15+2))","v":0},{"$f":"IF(OR(BQ15=0,BR15=0),0,VLOOKUP(BQ15,'Print Matrix'!$B$3:$CU$102,BR15+2))","v":0},{"$f":"IF(OR(BR15=0,BS15=0),0,VLOOKUP(BR15,'Print Matrix'!$B$3:$CU$102,BS15+2))","v":0},{"$f":"IF(OR(BS15=0,BT15=0),0,VLOOKUP(BS15,'Print Matrix'!$B$3:$CU$102,BT15+2))","v":0},{"$f":"IF(OR(BT15=0,BU15=0),0,VLOOKUP(BT15,'Print Matrix'!$B$3:$CU$102,BU15+2))","v":0}," =",0]
[null,null,null,null,null,null,null,null,null,null,"",null,{"$f":"'Print WorkSheet'!AB11","v":"BSF"},{"$f":"'Print WorkSheet'!AC11","v":"Belvue Santa Fe Elem"},{"$f":"'Print WorkSheet'!AB40","v":"LMS"},{"$f":"'Print WorkSheet'!AC40","v":"Daniel Lewis MS"},{"$f":"'Print WorkSheet'!AB73","v":"SLOHS"},{"$f":"'Print WorkSheet'!AC73","v":"San Luis Obispo HS"},null,null,null,"",null,"",null,"",null,"",null,"",null,"",null,{"$f":"IF(ISBLANK(H15),\"\",UPPER(H15))","v":""},null,"",null,"",null,"",null,null,null,null,null,"",null,{"$f":"IF(ISTEXT($C15),VLOOKUP($C15,'Print WorkSheet'!$X$4:$Z$115,3),\"\")","v":""},{"$f":"IF(AV16=0,\"\",VLOOKUP(VALUE(AV16),'Print Matrix'!$B$5:$C$100,2))","v":""},{"$f":"IF(ISTEXT($D15),VLOOKUP($D15,'Print WorkSheet'!$X$4:$Z$115,3),\"\")","v":""},{"$f":"IF(AX16=0,\"\",VLOOKUP(VALUE(AX16),'Print Matrix'!$B$5:$C$100,2))","v":""},{"$f":"IF(ISTEXT($E15),VLOOKUP($E15,'Print WorkSheet'!$X$4:$Z$115,3),\"\")","v":""},{"$f":"IF(AZ16=0,\"\",VLOOKUP(VALUE(AZ16),'Print Matrix'!$B$5:$C$100,2))","v":""},{"$f":"IF(ISTEXT($F15),VLOOKUP($F15,'Print WorkSheet'!$X$4:$Z$115,3),\"\")","v":""},{"$f":"IF(BB16=0,\"\",VLOOKUP(BB16,'Print Matrix'!$B$5:$C$100,2))","v":""},{"$f":"IF(ISTEXT($G15),VLOOKUP($G15,'Print WorkSheet'!$X$4:$Z$115,3),\"\")","v":""},{"$f":"IF(BD16=0,\"\",VLOOKUP(BD16,'Print Matrix'!$B$5:$C$100,2))","v":""},{"$f":"IF(ISTEXT($H15),VLOOKUP($H15,'Print WorkSheet'!$X$4:$Z$115,3),\"\")","v":""},{"$f":"IF(BF16=0,\"\",VLOOKUP(BF16,'Print Matrix'!$B$5:$C$100,2))","v":""},{"$f":"IF(ISTEXT($I15),VLOOKUP($I15,'Print WorkSheet'!$X$4:$Z$115,3),\"\")","v":""},{"$f":"IF(BH16=0,\"\",VLOOKUP(BH16,'Print Matrix'!$B$5:$C$100,2))","v":""},null,"","",null,null,0,0,0,0,0,0,0,null,5,{"$f":"IF(OR(BO16=0,BP16=0),0,VLOOKUP(BO16,'Print Matrix'!$B$3:$CU$102,BP16+2))","v":0},{"$f":"IF(OR(BP16=0,BQ16=0),0,VLOOKUP(BP16,'Print Matrix'!$B$3:$CU$102,BQ16+2))","v":0},{"$f":"IF(OR(BQ16=0,BR16=0),0,VLOOKUP(BQ16,'Print Matrix'!$B$3:$CU$102,BR16+2))","v":0},{"$f":"IF(OR(BR16=0,BS16=0),0,VLOOKUP(BR16,'Print Matrix'!$B$3:$CU$102,BS16+2))","v":0},{"$f":"IF(OR(BS16=0,BT16=0),0,VLOOKUP(BS16,'Print Matrix'!$B$3:$CU$102,BT16+2))","v":0},{"$f":"IF(OR(BT16=0,BU16=0),0,VLOOKUP(BT16,'Print Matrix'!$B$3:$CU$102,BU16+2))","v":0}," =",0]
[null,null,null,null,null,null,null,null,null,null,"",null,{"$f":"'Print WorkSheet'!AB12","v":"BP"},{"$f":"'Print WorkSheet'!AC12","v":"Bishop's Peak Elem"},{"$f":"'Print WorkSheet'!AB50","v":"LMIS"},{"$f":"'Print WorkSheet'!AC50","v":"Lucia Mar Ind Study"},{"$f":"'Print WorkSheet'!AB74","v":"SM"},{"$f":"'Print WorkSheet'!AC74","v":"Santa Margarita Elem"},null,null,null,"",null,"",null,"",null,"",null,"",null,"",null,"",null,"",null,"",null,"",null,null,null,null,null,"",null,{"$f":"IF(ISTEXT($C16),VLOOKUP($C16,'Print WorkSheet'!$X$4:$Z$115,3),\"\")","v":""},{"$f":"IF(AV17=0,\"\",VLOOKUP(VALUE(AV17),'Print Matrix'!$B$5:$C$100,2))","v":""},{"$f":"IF(ISTEXT($D16),VLOOKUP($D16,'Print WorkSheet'!$X$4:$Z$115,3),\"\")","v":""},{"$f":"IF(AX17=0,\"\",VLOOKUP(VALUE(AX17),'Print Matrix'!$B$5:$C$100,2))","v":""},{"$f":"IF(ISTEXT($E16),VLOOKUP($E16,'Print WorkSheet'!$X$4:$Z$115,3),\"\")","v":""},{"$f":"IF(AZ17=0,\"\",VLOOKUP(VALUE(AZ17),'Print Matrix'!$B$5:$C$100,2))","v":""},{"$f":"IF(ISTEXT($F16),VLOOKUP($F16,'Print WorkSheet'!$X$4:$Z$115,3),\"\")","v":""},{"$f":"IF(BB17=0,\"\",VLOOKUP(BB17,'Print Matrix'!$B$5:$C$100,2))","v":""},{"$f":"IF(ISTEXT($G16),VLOOKUP($G16,'Print WorkSheet'!$X$4:$Z$115,3),\"\")","v":""},{"$f":"IF(BD17=0,\"\",VLOOKUP(BD17,'Print Matrix'!$B$5:$C$100,2))","v":""},{"$f":"IF(ISTEXT($H16),VLOOKUP($H16,'Print WorkSheet'!$X$4:$Z$115,3),\"\")","v":""},{"$f":"IF(BF17=0,\"\",VLOOKUP(BF17,'Print Matrix'!$B$5:$C$100,2))","v":""},{"$f":"IF(ISTEXT($I16),VLOOKUP($I16,'Print WorkSheet'!$X$4:$Z$115,3),\"\")","v":""},{"$f":"IF(BH17=0,\"\",VLOOKUP(BH17,'Print Matrix'!$B$5:$C$100,2))","v":""},null,"","",null,null,0,0,0,0,0,0,0,null,6,{"$f":"IF(OR(BO17=0,BP17=0),0,VLOOKUP(BO17,'Print Matrix'!$B$3:$CU$102,BP17+2))","v":0},{"$f":"IF(OR(BP17=0,BQ17=0),0,VLOOKUP(BP17,'Print Matrix'!$B$3:$CU$102,BQ17+2))","v":0},{"$f":"IF(OR(BQ17=0,BR17=0),0,VLOOKUP(BQ17,'Print Matrix'!$B$3:$CU$102,BR17+2))","v":0},{"$f":"IF(OR(BR17=0,BS17=0),0,VLOOKUP(BR17,'Print Matrix'!$B$3:$CU$102,BS17+2))","v":0},{"$f":"IF(OR(BS17=0,BT17=0),0,VLOOKUP(BS17,'Print Matrix'!$B$3:$CU$102,BT17+2))","v":0},{"$f":"IF(OR(BT17=0,BU17=0),0,VLOOKUP(BT17,'Print Matrix'!$B$3:$CU$102,BU17+2))","v":0}," =",0]
[null,null,null,null,null,null,null,null,null,null,"",null,{"$f":"'Print WorkSheet'!AB13","v":"BR"},{"$f":"'Print WorkSheet'!AC13","v":"Branch Elem"},{"$f":"'Print WorkSheet'!AB41","v":"LOMS"},{"$f":"'Print WorkSheet'!AC41","v":"Los Osos MS"},{"$f":"'Print WorkSheet'!AB75","v":"SN"},{"$f":"'Print WorkSheet'!AC75","v":"Shandon Elem"},null,null,null,"",null,"",null,"",null,"",null,"",null,"",null,"",null,"",null,"",null,"",null,null,null,null,null,"",null,{"$f":"IF(ISTEXT($C17),VLOOKUP($C17,'Print WorkSheet'!$X$4:$Z$115,3),\"\")","v":""},{"$f":"IF(AV18=0,\"\",VLOOKUP(VALUE(AV18),'Print Matrix'!$B$5:$C$100,2))","v":""},{"$f":"IF(ISTEXT($D17),VLOOKUP($D17,'Print WorkSheet'!$X$4:$Z$115,3),\"\")","v":""},{"$f":"IF(AX18=0,\"\",VLOOKUP(VALUE(AX18),'Print Matrix'!$B$5:$C$100,2))","v":""},{"$f":"IF(ISTEXT($E17),VLOOKUP($E17,'Print WorkSheet'!$X$4:$Z$115,3),\"\")","v":""},{"$f":"IF(AZ18=0,\"\",VLOOKUP(VALUE(AZ18),'Print Matrix'!$B$5:$C$100,2))","v":""},{"$f":"IF(ISTEXT($F17),VLOOKUP($F17,'Print WorkSheet'!$X$4:$Z$115,3),\"\")","v":""},{"$f":"IF(BB18=0,\"\",VLOOKUP(BB18,'Print Matrix'!$B$5:$C$100,2))","v":""},{"$f":"IF(ISTEXT($G17),VLOOKUP($G17,'Print WorkSheet'!$X$4:$Z$115,3),\"\")","v":""},{"$f":"IF(BD18=0,\"\",VLOOKUP(BD18,'Print Matrix'!$B$5:$C$100,2))","v":""},{"$f":"IF(ISTEXT($H17),VLOOKUP($H17,'Print WorkSheet'!$X$4:$Z$115,3),\"\")","v":""},{"$f":"IF(BF18=0,\"\",VLOOKUP(BF18,'Print Matrix'!$B$5:$C$100,2))","v":""},{"$f":"IF(ISTEXT($I17),VLOOKUP($I17,'Print WorkSheet'!$X$4:$Z$115,3),\"\")","v":""},{"$f":"IF(BH18=0,\"\",VLOOKUP(BH18,'Print Matrix'!$B$5:$C$100,2))","v":""},null,"","",null,null,0,0,0,0,0,0,0,null,7,{"$f":"IF(OR(BO18=0,BP18=0),0,VLOOKUP(BO18,'Print Matrix'!$B$3:$CU$102,BP18+2))","v":0},{"$f":"IF(OR(BP18=0,BQ18=0),0,VLOOKUP(BP18,'Print Matrix'!$B$3:$CU$102,BQ18+2))","v":0},{"$f":"IF(OR(BQ18=0,BR18=0),0,VLOOKUP(BQ18,'Print Matrix'!$B$3:$CU$102,BR18+2))","v":0},{"$f":"IF(OR(BR18=0,BS18=0),0,VLOOKUP(BR18,'Print Matrix'!$B$3:$CU$102,BS18+2))","v":0},{"$f":"IF(OR(BS18=0,BT18=0),0,VLOOKUP(BS18,'Print Matrix'!$B$3:$CU$102,BT18+2))","v":0},{"$f":"IF(OR(BT18=0,BU18=0),0,VLOOKUP(BT18,'Print Matrix'!$B$3:$CU$102,BU18+2))","v":0}," =",0]
[null,null,null,null,null,null,null,null,null,null,"",null,{"$f":"'Print WorkSheet'!AB14","v":"CA"},{"$f":"'Print WorkSheet'!AC14","v":"Cambria Grammar"},{"$f":"'Print WorkSheet'!AB42","v":"LR"},{"$f":"'Print WorkSheet'!AC42","v":"Los Ranchos Elem"},{"$f":"'Print WorkSheet'!AB76","v":"SNDO"},{"$f":"'Print WorkSheet'!AC76","v":"Shandon DO"},null,null,null,"",null,"",null,"",null,"",null,"",null,"",null,"",null,"",null,"",null,"",null,null,null,null,null,"",null,{"$f":"IF(ISTEXT($C18),VLOOKUP($C18,'Print WorkSheet'!$X$4:$Z$115,3),\"\")","v":""},{"$f":"IF(AV19=0,\"\",VLOOKUP(VALUE(AV19),'Print Matrix'!$B$5:$C$100,2))","v":""},{"$f":"IF(ISTEXT($D18),VLOOKUP($D18,'Print WorkSheet'!$X$4:$Z$115,3),\"\")","v":""},{"$f":"IF(AX19=0,\"\",VLOOKUP(VALUE(AX19),'Print Matrix'!$B$5:$C$100,2))","v":""},{"$f":"IF(ISTEXT($E18),VLOOKUP($E18,'Print WorkSheet'!$X$4:$Z$115,3),\"\")","v":""},{"$f":"IF(AZ19=0,\"\",VLOOKUP(VALUE(AZ19),'Print Matrix'!$B$5:$C$100,2))","v":""},{"$f":"IF(ISTEXT($F18),VLOOKUP($F18,'Print WorkSheet'!$X$4:$Z$115,3),\"\")","v":""},{"$f":"IF(BB19=0,\"\",VLOOKUP(BB19,'Print Matrix'!$B$5:$C$100,2))","v":""},{"$f":"IF(ISTEXT($G18),VLOOKUP($G18,'Print WorkSheet'!$X$4:$Z$115,3),\"\")","v":""},{"$f":"IF(BD19=0,\"\",VLOOKUP(BD19,'Print Matrix'!$B$5:$C$100,2))","v":""},{"$f":"IF(ISTEXT($H18),VLOOKUP($H18,'Print WorkSheet'!$X$4:$Z$115,3),\"\")","v":""},{"$f":"IF(BF19=0,\"\",VLOOKUP(BF19,'Print Matrix'!$B$5:$C$100,2))","v":""},{"$f":"IF(ISTEXT($I18),VLOOKUP($I18,'Print WorkSheet'!$X$4:$Z$115,3),\"\")","v":""},{"$f":"IF(BH19=0,\"\",VLOOKUP(BH19,'Print Matrix'!$B$5:$C$100,2))","v":""},null,"","",null,null,0,0,0,0,0,0,0,null,8,{"$f":"IF(OR(BO19=0,BP19=0),0,VLOOKUP(BO19,'Print Matrix'!$B$3:$CU$102,BP19+2))","v":0},{"$f":"IF(OR(BP19=0,BQ19=0),0,VLOOKUP(BP19,'Print Matrix'!$B$3:$CU$102,BQ19+2))","v":0},{"$f":"IF(OR(BQ19=0,BR19=0),0,VLOOKUP(BQ19,'Print Matrix'!$B$3:$CU$102,BR19+2))","v":0},{"$f":"IF(OR(BR19=0,BS19=0),0,VLOOKUP(BR19,'Print Matrix'!$B$3:$CU$102,BS19+2))","v":0},{"$f":"IF(OR(BS19=0,BT19=0),0,VLOOKUP(BS19,'Print Matrix'!$B$3:$CU$102,BT19+2))","v":0},{"$f":"IF(OR(BT19=0,BU19=0),0,VLOOKUP(BT19,'Print Matrix'!$B$3:$CU$102,BU19+2))","v":0}," =",0]
[null,null,null,null,null,null,null,null,null,null,"",null,{"$f":"'Print WorkSheet'!AB15","v":"CAA"},{"$f":"'Print WorkSheet'!AC15","v":"Culinary Arts Academy"},{"$f":"'Print WorkSheet'!AB43","v":"LV"},{"$f":"'Print WorkSheet'!AC43","v":"Loma Vista CS"},{"$f":"'Print WorkSheet'!AB77","v":"SR"},{"$f":"'Print WorkSheet'!AC77","v":"Santa Rosa  Elem"},null,null,null,"",null,"",null,"",null,"",null,"",null,"",null,{"$f":"IF(ISBLANK(H19),\"\",UPPER(H19))","v":""},null,"",null,"",null,"",null,null,null,null,null,"",null,{"$f":"IF(ISTEXT($C19),VLOOKUP($C19,'Print WorkSheet'!$X$4:$Z$115,3),\"\")","v":""},{"$f":"IF(AV20=0,\"\",VLOOKUP(VALUE(AV20),'Print Matrix'!$B$5:$C$100,2))","v":""},{"$f":"IF(ISTEXT($D19),VLOOKUP($D19,'Print WorkSheet'!$X$4:$Z$115,3),\"\")","v":""},{"$f":"IF(AX20=0,\"\",VLOOKUP(VALUE(AX20),'Print Matrix'!$B$5:$C$100,2))","v":""},{"$f":"IF(ISTEXT($E19),VLOOKUP($E19,'Print WorkSheet'!$X$4:$Z$115,3),\"\")","v":""},{"$f":"IF(AZ20=0,\"\",VLOOKUP(VALUE(AZ20),'Print Matrix'!$B$5:$C$100,2))","v":""},{"$f":"IF(ISTEXT($F19),VLOOKUP($F19,'Print WorkSheet'!$X$4:$Z$115,3),\"\")","v":""},{"$f":"IF(BB20=0,\"\",VLOOKUP(BB20,'Print Matrix'!$B$5:$C$100,2))","v":""},{"$f":"IF(ISTEXT($G19),VLOOKUP($G19,'Print WorkSheet'!$X$4:$Z$115,3),\"\")","v":""},{"$f":"IF(BD20=0,\"\",VLOOKUP(BD20,'Print Matrix'!$B$5:$C$100,2))","v":""},{"$f":"IF(ISTEXT($H19),VLOOKUP($H19,'Print WorkSheet'!$X$4:$Z$115,3),\"\")","v":""},{"$f":"IF(BF20=0,\"\",VLOOKUP(BF20,'Print Matrix'!$B$5:$C$100,2))","v":""},{"$f":"IF(ISTEXT($I19),VLOOKUP($I19,'Print WorkSheet'!$X$4:$Z$115,3),\"\")","v":""},{"$f":"IF(BH20=0,\"\",VLOOKUP(BH20,'Print Matrix'!$B$5:$C$100,2))","v":""},null,"","",null,null,0,0,0,0,0,0,0,null,9,{"$f":"IF(OR(BO20=0,BP20=0),0,VLOOKUP(BO20,'Print Matrix'!$B$3:$CU$102,BP20+2))","v":0},{"$f":"IF(OR(BP20=0,BQ20=0),0,VLOOKUP(BP20,'Print Matrix'!$B$3:$CU$102,BQ20+2))","v":0},{"$f":"IF(OR(BQ20=0,BR20=0),0,VLOOKUP(BQ20,'Print Matrix'!$B$3:$CU$102,BR20+2))","v":0},{"$f":"IF(OR(BR20=0,BS20=0),0,VLOOKUP(BR20,'Print Matrix'!$B$3:$CU$102,BS20+2))","v":0},{"$f":"IF(OR(BS20=0,BT20=0),0,VLOOKUP(BS20,'Print Matrix'!$B$3:$CU$102,BT20+2))","v":0},{"$f":"IF(OR(BT20=0,BU20=0),0,VLOOKUP(BT20,'Print Matrix'!$B$3:$CU$102,BU20+2))","v":0}," =",0]
[null,null,null,null,null,null,null,null,null,null,"",null,{"$f":"'Print WorkSheet'!AB24","v":"CAY"},{"$f":"'Print WorkSheet'!AC24","v":"Cayucos Elem"},{"$f":"'Print WorkSheet'!AB44","v":"MBHS"},{"$f":"'Print WorkSheet'!AC44","v":"Morro Bay HS"},{"$f":"'Print WorkSheet'!AB78","v":"SSDO"},{"$f":"'Print WorkSheet'!AC78","v":"SLC DO/SS"},null,null,null,"",null,"",null,"",null,"",null,"",null,"",null,"",null,"",null,"",null,"",null,null,null,null,null,"",null,{"$f":"IF(ISTEXT($C20),VLOOKUP($C20,'Print WorkSheet'!$X$4:$Z$115,3),\"\")","v":""},{"$f":"IF(AV21=0,\"\",VLOOKUP(VALUE(AV21),'Print Matrix'!$B$5:$C$100,2))","v":""},{"$f":"IF(ISTEXT($D20),VLOOKUP($D20,'Print WorkSheet'!$X$4:$Z$115,3),\"\")","v":""},{"$f":"IF(AX21=0,\"\",VLOOKUP(VALUE(AX21),'Print Matrix'!$B$5:$C$100,2))","v":""},{"$f":"IF(ISTEXT($E20),VLOOKUP($E20,'Print WorkSheet'!$X$4:$Z$115,3),\"\")","v":""},{"$f":"IF(AZ21=0,\"\",VLOOKUP(VALUE(AZ21),'Print Matrix'!$B$5:$C$100,2))","v":""},{"$f":"IF(ISTEXT($F20),VLOOKUP($F20,'Print WorkSheet'!$X$4:$Z$115,3),\"\")","v":""},{"$f":"IF(BB21=0,\"\",VLOOKUP(BB21,'Print Matrix'!$B$5:$C$100,2))","v":""},{"$f":"IF(ISTEXT($G20),VLOOKUP($G20,'Print WorkSheet'!$X$4:$Z$115,3),\"\")","v":""},{"$f":"IF(BD21=0,\"\",VLOOKUP(BD21,'Print Matrix'!$B$5:$C$100,2))","v":""},{"$f":"IF(ISTEXT($H20),VLOOKUP($H20,'Print WorkSheet'!$X$4:$Z$115,3),\"\")","v":""},{"$f":"IF(BF21=0,\"\",VLOOKUP(BF21,'Print Matrix'!$B$5:$C$100,2))","v":""},{"$f":"IF(ISTEXT($I20),VLOOKUP($I20,'Print WorkSheet'!$X$4:$Z$115,3),\"\")","v":""},{"$f":"IF(BH21=0,\"\",VLOOKUP(BH21,'Print Matrix'!$B$5:$C$100,2))","v":""},null,"","",null,null,0,0,0,0,0,0,0,null,10,{"$f":"IF(OR(BO21=0,BP21=0),0,VLOOKUP(BO21,'Print Matrix'!$B$3:$CU$102,BP21+2))","v":0},{"$f":"IF(OR(BP21=0,BQ21=0),0,VLOOKUP(BP21,'Print Matrix'!$B$3:$CU$102,BQ21+2))","v":0},{"$f":"IF(OR(BQ21=0,BR21=0),0,VLOOKUP(BQ21,'Print Matrix'!$B$3:$CU$102,BR21+2))","v":0},{"$f":"IF(OR(BR21=0,BS21=0),0,VLOOKUP(BR21,'Print Matrix'!$B$3:$CU$102,BS21+2))","v":0},{"$f":"IF(OR(BS21=0,BT21=0),0,VLOOKUP(BS21,'Print Matrix'!$B$3:$CU$102,BT21+2))","v":0},{"$f":"IF(OR(BT21=0,BU21=0),0,VLOOKUP(BT21,'Print Matrix'!$B$3:$CU$102,BU21+2))","v":0}," =",0]
[null,null,null,null,null,null,null,null,null,null,"",null,{"$f":"'Print WorkSheet'!AB16","v":"CC"},{"$f":"'Print WorkSheet'!AC16","v":"Cappy Culver"},{"$f":"'Print WorkSheet'!AB45","v":"MEC"},{"$f":"'Print WorkSheet'!AC45","v":"Meadowlark Ed Ctr"},{"$f":"'Print WorkSheet'!AB80","v":"TDO"},{"$f":"'Print WorkSheet'!AC80","v":"Templeton DO"},null,null,null,"",null,"",null,"",null,"",null,"",null,"",null,"",null,"",null,"",null,"",null,null,null,null,null,"",null,{"$f":"IF(ISTEXT($C21),VLOOKUP($C21,'Print WorkSheet'!$X$4:$Z$115,3),\"\")","v":""},{"$f":"IF(AV22=0,\"\",VLOOKUP(VALUE(AV22),'Print Matrix'!$B$5:$C$100,2))","v":""},{"$f":"IF(ISTEXT($D21),VLOOKUP($D21,'Print WorkSheet'!$X$4:$Z$115,3),\"\")","v":""},{"$f":"IF(AX22=0,\"\",VLOOKUP(VALUE(AX22),'Print Matrix'!$B$5:$C$100,2))","v":""},{"$f":"IF(ISTEXT($E21),VLOOKUP($E21,'Print WorkSheet'!$X$4:$Z$115,3),\"\")","v":""},{"$f":"IF(AZ22=0,\"\",VLOOKUP(VALUE(AZ22),'Print Matrix'!$B$5:$C$100,2))","v":""},{"$f":"IF(ISTEXT($F21),VLOOKUP($F21,'Print WorkSheet'!$X$4:$Z$115,3),\"\")","v":""},{"$f":"IF(BB22=0,\"\",VLOOKUP(BB22,'Print Matrix'!$B$5:$C$100,2))","v":""},{"$f":"IF(ISTEXT($G21),VLOOKUP($G21,'Print WorkSheet'!$X$4:$Z$115,3),\"\")","v":""},{"$f":"IF(BD22=0,\"\",VLOOKUP(BD22,'Print Matrix'!$B$5:$C$100,2))","v":""},{"$f":"IF(ISTEXT($H21),VLOOKUP($H21,'Print WorkSheet'!$X$4:$Z$115,3),\"\")","v":""},{"$f":"IF(BF22=0,\"\",VLOOKUP(BF22,'Print Matrix'!$B$5:$C$100,2))","v":""},{"$f":"IF(ISTEXT($I21),VLOOKUP($I21,'Print WorkSheet'!$X$4:$Z$115,3),\"\")","v":""},{"$f":"IF(BH22=0,\"\",VLOOKUP(BH22,'Print Matrix'!$B$5:$C$100,2))","v":""},null,"","",null,null,0,0,0,0,0,0,0,null,11,{"$f":"IF(OR(BO22=0,BP22=0),0,VLOOKUP(BO22,'Print Matrix'!$B$3:$CU$102,BP22+2))","v":0},{"$f":"IF(OR(BP22=0,BQ22=0),0,VLOOKUP(BP22,'Print Matrix'!$B$3:$CU$102,BQ22+2))","v":0},{"$f":"IF(OR(BQ22=0,BR22=0),0,VLOOKUP(BQ22,'Print Matrix'!$B$3:$CU$102,BR22+2))","v":0},{"$f":"IF(OR(BR22=0,BS22=0),0,VLOOKUP(BR22,'Print Matrix'!$B$3:$CU$102,BS22+2))","v":0},{"$f":"IF(OR(BS22=0,BT22=0),0,VLOOKUP(BS22,'Print Matrix'!$B$3:$CU$102,BT22+2))","v":0},{"$f":"IF(OR(BT22=0,BU22=0),0,VLOOKUP(BT22,'Print Matrix'!$B$3:$CU$102,BU22+2))","v":0}," =",0]
[null,null,null,null,null,null,null,null,null,null,"",null,{"$f":"'Print WorkSheet'!AB17","v":"CLS"},{"$f":"'Print WorkSheet'!AC17","v":"C.L. Smith Elem"},{"$f":"'Print WorkSheet'!AB41","v":"LOMS"},{"$f":"'Print WorkSheet'!AC41","v":"Los Osos MS"},{"$f":"'Print WorkSheet'!AB81","v":"TE"},{"$f":"'Print WorkSheet'!AC81","v":"Teach Elem"},null,null,null,"",null,"",null,"",null,"",null,"",null,"",null,{"$f":"IF(ISBLANK(H22),\"\",UPPER(H22))","v":""},null,"",null,"",null,"",null,null,null,null,null,"",null,{"$f":"IF(ISTEXT($C22),VLOOKUP($C22,'Print WorkSheet'!$X$4:$Z$115,3),\"\")","v":""},{"$f":"IF(AV23=0,\"\",VLOOKUP(VALUE(AV23),'Print Matrix'!$B$5:$C$100,2))","v":""},{"$f":"IF(ISTEXT($D22),VLOOKUP($D22,'Print WorkSheet'!$X$4:$Z$115,3),\"\")","v":""},{"$f":"IF(AX23=0,\"\",VLOOKUP(VALUE(AX23),'Print Matrix'!$B$5:$C$100,2))","v":""},{"$f":"IF(ISTEXT($E22),VLOOKUP($E22,'Print WorkSheet'!$X$4:$Z$115,3),\"\")","v":""},{"$f":"IF(AZ23=0,\"\",VLOOKUP(VALUE(AZ23),'Print Matrix'!$B$5:$C$100,2))","v":""},{"$f":"IF(ISTEXT($F22),VLOOKUP($F22,'Print WorkSheet'!$X$4:$Z$115,3),\"\")","v":""},{"$f":"IF(BB23=0,\"\",VLOOKUP(BB23,'Print Matrix'!$B$5:$C$100,2))","v":""},{"$f":"IF(ISTEXT($G22),VLOOKUP($G22,'Print WorkSheet'!$X$4:$Z$115,3),\"\")","v":""},{"$f":"IF(BD23=0,\"\",VLOOKUP(BD23,'Print Matrix'!$B$5:$C$100,2))","v":""},{"$f":"IF(ISTEXT($H22),VLOOKUP($H22,'Print WorkSheet'!$X$4:$Z$115,3),\"\")","v":""},{"$f":"IF(BF23=0,\"\",VLOOKUP(BF23,'Print Matrix'!$B$5:$C$100,2))","v":""},{"$f":"IF(ISTEXT($I22),VLOOKUP($I22,'Print WorkSheet'!$X$4:$Z$115,3),\"\")","v":""},{"$f":"IF(BH23=0,\"\",VLOOKUP(BH23,'Print Matrix'!$B$5:$C$100,2))","v":""},null,"","",null,null,0,0,0,0,0,0,0,null,12,{"$f":"IF(OR(BO23=0,BP23=0),0,VLOOKUP(BO23,'Print Matrix'!$B$3:$CU$102,BP23+2))","v":0},{"$f":"IF(OR(BP23=0,BQ23=0),0,VLOOKUP(BP23,'Print Matrix'!$B$3:$CU$102,BQ23+2))","v":0},{"$f":"IF(OR(BQ23=0,BR23=0),0,VLOOKUP(BQ23,'Print Matrix'!$B$3:$CU$102,BR23+2))","v":0},{"$f":"IF(OR(BR23=0,BS23=0),0,VLOOKUP(BR23,'Print Matrix'!$B$3:$CU$102,BS23+2))","v":0},{"$f":"IF(OR(BS23=0,BT23=0),0,VLOOKUP(BS23,'Print Matrix'!$B$3:$CU$102,BT23+2))","v":0},{"$f":"IF(OR(BT23=0,BU23=0),0,VLOOKUP(BT23,'Print Matrix'!$B$3:$CU$102,BU23+2))","v":0}," =",0]
[null,null,null,null,null,null,null,null,null,null,"",null,{"$f":"'Print WorkSheet'!AB18","v":"CP"},{"$f":"'Print WorkSheet'!AC18","v":"Carrisa Plains Elem"},{"$f":"'Print WorkSheet'!AB46","v":"MG"},{"$f":"'Print WorkSheet'!AC46","v":"Monarch Grove Elem"},{"$f":"'Print WorkSheet'!AB82","v":"THS"},{"$f":"'Print WorkSheet'!AC82","v":"Templeton HS"},null,null,null,"",null,"",null,"",null,"",null,"",null,"",null,{"$f":"IF(ISBLANK(H23),\"\",UPPER(H23))","v":""},null,"",null,"",null,"",null,null,null,null,null,"",null,{"$f":"IF(ISTEXT($C23),VLOOKUP($C23,'Print WorkSheet'!$X$4:$Z$115,3),\"\")","v":""},{"$f":"IF(AV24=0,\"\",VLOOKUP(VALUE(AV24),'Print Matrix'!$B$5:$C$100,2))","v":""},{"$f":"IF(ISTEXT($D23),VLOOKUP($D23,'Print WorkSheet'!$X$4:$Z$115,3),\"\")","v":""},{"$f":"IF(AX24=0,\"\",VLOOKUP(VALUE(AX24),'Print Matrix'!$B$5:$C$100,2))","v":""},{"$f":"IF(ISTEXT($E23),VLOOKUP($E23,'Print WorkSheet'!$X$4:$Z$115,3),\"\")","v":""},{"$f":"IF(AZ24=0,\"\",VLOOKUP(VALUE(AZ24),'Print Matrix'!$B$5:$C$100,2))","v":""},{"$f":"IF(ISTEXT($F23),VLOOKUP($F23,'Print WorkSheet'!$X$4:$Z$115,3),\"\")","v":""},{"$f":"IF(BB24=0,\"\",VLOOKUP(BB24,'Print Matrix'!$B$5:$C$100,2))","v":""},{"$f":"IF(ISTEXT($G23),VLOOKUP($G23,'Print WorkSheet'!$X$4:$Z$115,3),\"\")","v":""},{"$f":"IF(BD24=0,\"\",VLOOKUP(BD24,'Print Matrix'!$B$5:$C$100,2))","v":""},{"$f":"IF(ISTEXT($H23),VLOOKUP($H23,'Print WorkSheet'!$X$4:$Z$115,3),\"\")","v":""},{"$f":"IF(BF24=0,\"\",VLOOKUP(BF24,'Print Matrix'!$B$5:$C$100,2))","v":""},{"$f":"IF(ISTEXT($I23),VLOOKUP($I23,'Print WorkSheet'!$X$4:$Z$115,3),\"\")","v":""},{"$f":"IF(BH24=0,\"\",VLOOKUP(BH24,'Print Matrix'!$B$5:$C$100,2))","v":""},null,"","",null,null,0,0,0,0,0,0,0,null,13,{"$f":"IF(OR(BO24=0,BP24=0),0,VLOOKUP(BO24,'Print Matrix'!$B$3:$CU$102,BP24+2))","v":0},{"$f":"IF(OR(BP24=0,BQ24=0),0,VLOOKUP(BP24,'Print Matrix'!$B$3:$CU$102,BQ24+2))","v":0},{"$f":"IF(OR(BQ24=0,BR24=0),0,VLOOKUP(BQ24,'Print Matrix'!$B$3:$CU$102,BR24+2))","v":0},{"$f":"IF(OR(BR24=0,BS24=0),0,VLOOKUP(BR24,'Print Matrix'!$B$3:$CU$102,BS24+2))","v":0},{"$f":"IF(OR(BS24=0,BT24=0),0,VLOOKUP(BS24,'Print Matrix'!$B$3:$CU$102,BT24+2))","v":0},{"$f":"IF(OR(BT24=0,BU24=0),0,VLOOKUP(BT24,'Print Matrix'!$B$3:$CU$102,BU24+2))","v":0}," =",0]
[null,null,null,null,null,null,null,null,null,null,"",null,{"$f":"'Print WorkSheet'!AB20","v":"CJ"},{"$f":"'Print WorkSheet'!AC20","v":"Chris Jesperson"},{"$f":"'Print WorkSheet'!AB88","v":"MMS"},{"$f":"'Print WorkSheet'!AC88","v":"Mesa MS"},{"$f":"'Print WorkSheet'!AB83","v":"TMS"},{"$f":"'Print WorkSheet'!AC83","v":"Templeton MS"},null,null,null,"",null,{"$f":"IF(ISBLANK(C24),\"\",UPPER(C24))","v":""},null,{"$f":"IF(ISBLANK(D24),\"\",UPPER(D24))","v":""},null,{"$f":"IF(ISBLANK(E24),\"\",UPPER(E24))","v":""},null,{"$f":"IF(ISBLANK(F24),\"\",UPPER(F24))","v":""},null,{"$f":"IF(ISBLANK(G24),\"\",UPPER(G24))","v":""},null,{"$f":"IF(ISBLANK(H24),\"\",UPPER(H24))","v":""},null,"",null,"",null,"",null,null,null,null,null,"",null,{"$f":"IF(ISTEXT($C24),VLOOKUP($C24,'Print WorkSheet'!$X$4:$Z$115,3),\"\")","v":""},{"$f":"IF(AV25=0,\"\",VLOOKUP(VALUE(AV25),'Print Matrix'!$B$5:$C$100,2))","v":""},{"$f":"IF(ISTEXT($D24),VLOOKUP($D24,'Print WorkSheet'!$X$4:$Z$115,3),\"\")","v":""},{"$f":"IF(AX25=0,\"\",VLOOKUP(VALUE(AX25),'Print Matrix'!$B$5:$C$100,2))","v":""},{"$f":"IF(ISTEXT($E24),VLOOKUP($E24,'Print WorkSheet'!$X$4:$Z$115,3),\"\")","v":""},{"$f":"IF(AZ25=0,\"\",VLOOKUP(VALUE(AZ25),'Print Matrix'!$B$5:$C$100,2))","v":""},{"$f":"IF(ISTEXT($F24),VLOOKUP($F24,'Print WorkSheet'!$X$4:$Z$115,3),\"\")","v":""},{"$f":"IF(BB25=0,\"\",VLOOKUP(BB25,'Print Matrix'!$B$5:$C$100,2))","v":""},{"$f":"IF(ISTEXT($G24),VLOOKUP($G24,'Print WorkSheet'!$X$4:$Z$115,3),\"\")","v":""},{"$f":"IF(BD25=0,\"\",VLOOKUP(BD25,'Print Matrix'!$B$5:$C$100,2))","v":""},{"$f":"IF(ISTEXT($H24),VLOOKUP($H24,'Print WorkSheet'!$X$4:$Z$115,3),\"\")","v":""},{"$f":"IF(BF25=0,\"\",VLOOKUP(BF25,'Print Matrix'!$B$5:$C$100,2))","v":""},{"$f":"IF(ISTEXT($I24),VLOOKUP($I24,'Print WorkSheet'!$X$4:$Z$115,3),\"\")","v":""},{"$f":"IF(BH25=0,\"\",VLOOKUP(BH25,'Print Matrix'!$B$5:$C$100,2))","v":""},null,"","",null,null,0,0,0,0,0,0,0,null,14,{"$f":"IF(OR(BO25=0,BP25=0),0,VLOOKUP(BO25,'Print Matrix'!$B$3:$CU$102,BP25+2))","v":0},{"$f":"IF(OR(BP25=0,BQ25=0),0,VLOOKUP(BP25,'Print Matrix'!$B$3:$CU$102,BQ25+2))","v":0},{"$f":"IF(OR(BQ25=0,BR25=0),0,VLOOKUP(BQ25,'Print Matrix'!$B$3:$CU$102,BR25+2))","v":0},{"$f":"IF(OR(BR25=0,BS25=0),0,VLOOKUP(BR25,'Print Matrix'!$B$3:$CU$102,BS25+2))","v":0},{"$f":"IF(OR(BS25=0,BT25=0),0,VLOOKUP(BS25,'Print Matrix'!$B$3:$CU$102,BT25+2))","v":0},{"$f":"IF(OR(BT25=0,BU25=0),0,VLOOKUP(BT25,'Print Matrix'!$B$3:$CU$102,BU25+2))","v":0}," =",0]
[null,null,null,null,null,null,null,null,null,null,"",null,{"$f":"'Print WorkSheet'!AB21","v":"COE"},{"$f":"'Print WorkSheet'!AC21","v":"County Offices"},{"$f":"'Print WorkSheet'!AB47","v":"MR"},{"$f":"'Print WorkSheet'!AC47","v":"Monterey Road Elem"},{"$f":"'Print WorkSheet'!AB84","v":"VD"},{"$f":"'Print WorkSheet'!AC84","v":"Vineyard Elem"},null,null,null,"",null,"",null,"",null,"",null,"",null,"",null,{"$f":"IF(ISBLANK(H25),\"\",UPPER(H25))","v":""},null,"",null,"",null,"",null,null,null,null,null,"",null,{"$f":"IF(ISTEXT($C25),VLOOKUP($C25,'Print WorkSheet'!$X$4:$Z$115,3),\"\")","v":""},{"$f":"IF(AV26=0,\"\",VLOOKUP(VALUE(AV26),'Print Matrix'!$B$5:$C$100,2))","v":""},{"$f":"IF(ISTEXT($D25),VLOOKUP($D25,'Print WorkSheet'!$X$4:$Z$115,3),\"\")","v":""},{"$f":"IF(AX26=0,\"\",VLOOKUP(VALUE(AX26),'Print Matrix'!$B$5:$C$100,2))","v":""},{"$f":"IF(ISTEXT($E25),VLOOKUP($E25,'Print WorkSheet'!$X$4:$Z$115,3),\"\")","v":""},{"$f":"IF(AZ26=0,\"\",VLOOKUP(VALUE(AZ26),'Print Matrix'!$B$5:$C$100,2))","v":""},{"$f":"IF(ISTEXT($F25),VLOOKUP($F25,'Print WorkSheet'!$X$4:$Z$115,3),\"\")","v":""},{"$f":"IF(BB26=0,\"\",VLOOKUP(BB26,'Print Matrix'!$B$5:$C$100,2))","v":""},{"$f":"IF(ISTEXT($G25),VLOOKUP($G25,'Print WorkSheet'!$X$4:$Z$115,3),\"\")","v":""},{"$f":"IF(BD26=0,\"\",VLOOKUP(BD26,'Print Matrix'!$B$5:$C$100,2))","v":""},{"$f":"IF(ISTEXT($H25),VLOOKUP($H25,'Print WorkSheet'!$X$4:$Z$115,3),\"\")","v":""},{"$f":"IF(BF26=0,\"\",VLOOKUP(BF26,'Print Matrix'!$B$5:$C$100,2))","v":""},{"$f":"IF(ISTEXT($I25),VLOOKUP($I25,'Print WorkSheet'!$X$4:$Z$115,3),\"\")","v":""},{"$f":"IF(BH26=0,\"\",VLOOKUP(BH26,'Print Matrix'!$B$5:$C$100,2))","v":""},null,"","",null,null,0,0,0,0,0,0,0,null,15,{"$f":"IF(OR(BO26=0,BP26=0),0,VLOOKUP(BO26,'Print Matrix'!$B$3:$CU$102,BP26+2))","v":0},{"$f":"IF(OR(BP26=0,BQ26=0),0,VLOOKUP(BP26,'Print Matrix'!$B$3:$CU$102,BQ26+2))","v":0},{"$f":"IF(OR(BQ26=0,BR26=0),0,VLOOKUP(BQ26,'Print Matrix'!$B$3:$CU$102,BR26+2))","v":0},{"$f":"IF(OR(BR26=0,BS26=0),0,VLOOKUP(BR26,'Print Matrix'!$B$3:$CU$102,BS26+2))","v":0},{"$f":"IF(OR(BS26=0,BT26=0),0,VLOOKUP(BS26,'Print Matrix'!$B$3:$CU$102,BT26+2))","v":0},{"$f":"IF(OR(BT26=0,BU26=0),0,VLOOKUP(BT26,'Print Matrix'!$B$3:$CU$102,BU26+2))","v":0}," =",0]
[null,null,null,null,null,null,null,null,null,null,"",null,{"$f":"'Print WorkSheet'!AB22","v":"CR"},{"$f":"'Print WorkSheet'!AC22","v":"Creston Elem"},{"$f":"'Print WorkSheet'!AB48","v":"MREC"},{"$f":"'Print WorkSheet'!AC48","v":"Morro Road Ed Ctr/SELPA"},{"$f":"'Print WorkSheet'!AB85","v":"VI"},{"$f":"'Print WorkSheet'!AC85","v":"Vicente"},null,null,null,"",null,"",null,"",null,"",null,"",null,"",null,{"$f":"IF(ISBLANK(H26),\"\",UPPER(H26))","v":""},null,"",null,"",null,"",null,null,null,null,null,"",null,{"$f":"IF(ISTEXT($C26),VLOOKUP($C26,'Print WorkSheet'!$X$4:$Z$115,3),\"\")","v":""},{"$f":"IF(AV27=0,\"\",VLOOKUP(VALUE(AV27),'Print Matrix'!$B$5:$C$100,2))","v":""},{"$f":"IF(ISTEXT($D26),VLOOKUP($D26,'Print WorkSheet'!$X$4:$Z$115,3),\"\")","v":""},{"$f":"IF(AX27=0,\"\",VLOOKUP(VALUE(AX27),'Print Matrix'!$B$5:$C$100,2))","v":""},{"$f":"IF(ISTEXT($E26),VLOOKUP($E26,'Print WorkSheet'!$X$4:$Z$115,3),\"\")","v":""},{"$f":"IF(AZ27=0,\"\",VLOOKUP(VALUE(AZ27),'Print Matrix'!$B$5:$C$100,2))","v":""},{"$f":"IF(ISTEXT($F26),VLOOKUP($F26,'Print WorkSheet'!$X$4:$Z$115,3),\"\")","v":""},{"$f":"IF(BB27=0,\"\",VLOOKUP(BB27,'Print Matrix'!$B$5:$C$100,2))","v":""},{"$f":"IF(ISTEXT($G26),VLOOKUP($G26,'Print WorkSheet'!$X$4:$Z$115,3),\"\")","v":""},{"$f":"IF(BD27=0,\"\",VLOOKUP(BD27,'Print Matrix'!$B$5:$C$100,2))","v":""},{"$f":"IF(ISTEXT($H26),VLOOKUP($H26,'Print WorkSheet'!$X$4:$Z$115,3),\"\")","v":""},{"$f":"IF(BF27=0,\"\",VLOOKUP(BF27,'Print Matrix'!$B$5:$C$100,2))","v":""},{"$f":"IF(ISTEXT($I26),VLOOKUP($I26,'Print WorkSheet'!$X$4:$Z$115,3),\"\")","v":""},{"$f":"IF(BH27=0,\"\",VLOOKUP(BH27,'Print Matrix'!$B$5:$C$100,2))","v":""},null,"","",null,null,0,0,0,0,0,0,0,null,16,{"$f":"IF(OR(BO27=0,BP27=0),0,VLOOKUP(BO27,'Print Matrix'!$B$3:$CU$102,BP27+2))","v":0},{"$f":"IF(OR(BP27=0,BQ27=0),0,VLOOKUP(BP27,'Print Matrix'!$B$3:$CU$102,BQ27+2))","v":0},{"$f":"IF(OR(BQ27=0,BR27=0),0,VLOOKUP(BQ27,'Print Matrix'!$B$3:$CU$102,BR27+2))","v":0},{"$f":"IF(OR(BR27=0,BS27=0),0,VLOOKUP(BR27,'Print Matrix'!$B$3:$CU$102,BS27+2))","v":0},{"$f":"IF(OR(BS27=0,BT27=0),0,VLOOKUP(BS27,'Print Matrix'!$B$3:$CU$102,BT27+2))","v":0},{"$f":"IF(OR(BT27=0,BU27=0),0,VLOOKUP(BT27,'Print Matrix'!$B$3:$CU$102,BU27+2))","v":0}," =",0]
[null,null,null,null,null,null,null,null,null,null,"",null,{"$f":"'Print WorkSheet'!AB93","v":"CDO"},{"$f":"'Print WorkSheet'!AC93","v":"Coast Union DO"},{"$f":"'Print WorkSheet'!AB53","v":"NI"},{"$f":"'Print WorkSheet'!AC53","v":"Nipomo Elem"},{"$f":"'Print WorkSheet'!AB86","v":"VP"},{"$f":"'Print WorkSheet'!AC86","v":"Virgina Peterson Elem"},null,null,null,"",null,{"$f":"IF(ISBLANK(C27),\"\",UPPER(C27))","v":""},null,{"$f":"IF(ISBLANK(D27),\"\",UPPER(D27))","v":""},null,{"$f":"IF(ISBLANK(E27),\"\",UPPER(E27))","v":""},null,{"$f":"IF(ISBLANK(F27),\"\",UPPER(F27))","v":""},null,{"$f":"IF(ISBLANK(G27),\"\",UPPER(G27))","v":""},null,"",null,"",null,"",null,"",null,null,null,null,null,"",null,{"$f":"IF(ISTEXT($C27),VLOOKUP($C27,'Print WorkSheet'!$X$4:$Z$115,3),\"\")","v":""},{"$f":"IF(AV28=0,\"\",VLOOKUP(VALUE(AV28),'Print Matrix'!$B$5:$C$100,2))","v":""},{"$f":"IF(ISTEXT($D27),VLOOKUP($D27,'Print WorkSheet'!$X$4:$Z$115,3),\"\")","v":""},{"$f":"IF(AX28=0,\"\",VLOOKUP(VALUE(AX28),'Print Matrix'!$B$5:$C$100,2))","v":""},{"$f":"IF(ISTEXT($E27),VLOOKUP($E27,'Print WorkSheet'!$X$4:$Z$115,3),\"\")","v":""},{"$f":"IF(AZ28=0,\"\",VLOOKUP(VALUE(AZ28),'Print Matrix'!$B$5:$C$100,2))","v":""},{"$f":"IF(ISTEXT($F27),VLOOKUP($F27,'Print WorkSheet'!$X$4:$Z$115,3),\"\")","v":""},{"$f":"IF(BB28=0,\"\",VLOOKUP(BB28,'Print Matrix'!$B$5:$C$100,2))","v":""},{"$f":"IF(ISTEXT($G27),VLOOKUP($G27,'Print WorkSheet'!$X$4:$Z$115,3),\"\")","v":""},{"$f":"IF(BD28=0,\"\",VLOOKUP(BD28,'Print Matrix'!$B$5:$C$100,2))","v":""},{"$f":"IF(ISTEXT($H27),VLOOKUP($H27,'Print WorkSheet'!$X$4:$Z$115,3),\"\")","v":""},{"$f":"IF(BF28=0,\"\",VLOOKUP(BF28,'Print Matrix'!$B$5:$C$100,2))","v":""},{"$f":"IF(ISTEXT($I27),VLOOKUP($I27,'Print WorkSheet'!$X$4:$Z$115,3),\"\")","v":""},{"$f":"IF(BH28=0,\"\",VLOOKUP(BH28,'Print Matrix'!$B$5:$C$100,2))","v":""},null,"","",null,null,0,0,0,0,0,0,0,null,17,{"$f":"IF(OR(BO28=0,BP28=0),0,VLOOKUP(BO28,'Print Matrix'!$B$3:$CU$102,BP28+2))","v":0},{"$f":"IF(OR(BP28=0,BQ28=0),0,VLOOKUP(BP28,'Print Matrix'!$B$3:$CU$102,BQ28+2))","v":0},{"$f":"IF(OR(BQ28=0,BR28=0),0,VLOOKUP(BQ28,'Print Matrix'!$B$3:$CU$102,BR28+2))","v":0},{"$f":"IF(OR(BR28=0,BS28=0),0,VLOOKUP(BR28,'Print Matrix'!$B$3:$CU$102,BS28+2))","v":0},{"$f":"IF(OR(BS28=0,BT28=0),0,VLOOKUP(BS28,'Print Matrix'!$B$3:$CU$102,BT28+2))","v":0},{"$f":"IF(OR(BT28=0,BU28=0),0,VLOOKUP(BT28,'Print Matrix'!$B$3:$CU$102,BU28+2))","v":0}," =",0]
[null,null,null,null,null,null,null,null,null,null,"",null,{"$f":"'Print WorkSheet'!AB23","v":"CHS"},{"$f":"'Print WorkSheet'!AC23","v":"Coast Union HS"},{"$f":"'Print WorkSheet'!AB54","v":"NIHS"},{"$f":"'Print WorkSheet'!AC54","v":"Nipomo High School"},{"$f":"'Print WorkSheet'!AB87","v":"WP"},{"$f":"'Print WorkSheet'!AC87","v":"Winifred Pifer Elem"},null,null,null,"",null,"",null,"",null,"",null,"",null,"",null,"",null,"",null,"",null,"",null,null,null,null,null,"",null,{"$f":"IF(ISTEXT($C28),VLOOKUP($C28,'Print WorkSheet'!$X$4:$Z$115,3),\"\")","v":""},{"$f":"IF(AV29=0,\"\",VLOOKUP(VALUE(AV29),'Print Matrix'!$B$5:$C$100,2))","v":""},{"$f":"IF(ISTEXT($D28),VLOOKUP($D28,'Print WorkSheet'!$X$4:$Z$115,3),\"\")","v":""},{"$f":"IF(AX29=0,\"\",VLOOKUP(VALUE(AX29),'Print Matrix'!$B$5:$C$100,2))","v":""},{"$f":"IF(ISTEXT($E28),VLOOKUP($E28,'Print WorkSheet'!$X$4:$Z$115,3),\"\")","v":""},{"$f":"IF(AZ29=0,\"\",VLOOKUP(VALUE(AZ29),'Print Matrix'!$B$5:$C$100,2))","v":""},{"$f":"IF(ISTEXT($F28),VLOOKUP($F28,'Print WorkSheet'!$X$4:$Z$115,3),\"\")","v":""},{"$f":"IF(BB29=0,\"\",VLOOKUP(BB29,'Print Matrix'!$B$5:$C$100,2))","v":""},{"$f":"IF(ISTEXT($G28),VLOOKUP($G28,'Print WorkSheet'!$X$4:$Z$115,3),\"\")","v":""},{"$f":"IF(BD29=0,\"\",VLOOKUP(BD29,'Print Matrix'!$B$5:$C$100,2))","v":""},{"$f":"IF(ISTEXT($H28),VLOOKUP($H28,'Print WorkSheet'!$X$4:$Z$115,3),\"\")","v":""},{"$f":"IF(BF29=0,\"\",VLOOKUP(BF29,'Print Matrix'!$B$5:$C$100,2))","v":""},{"$f":"IF(ISTEXT($I28),VLOOKUP($I28,'Print WorkSheet'!$X$4:$Z$115,3),\"\")","v":""},{"$f":"IF(BH29=0,\"\",VLOOKUP(BH29,'Print Matrix'!$B$5:$C$100,2))","v":""},null,"","",null,null,0,0,0,0,0,0,0,null,18,{"$f":"IF(OR(BO29=0,BP29=0),0,VLOOKUP(BO29,'Print Matrix'!$B$3:$CU$102,BP29+2))","v":0},{"$f":"IF(OR(BP29=0,BQ29=0),0,VLOOKUP(BP29,'Print Matrix'!$B$3:$CU$102,BQ29+2))","v":0},{"$f":"IF(OR(BQ29=0,BR29=0),0,VLOOKUP(BQ29,'Print Matrix'!$B$3:$CU$102,BR29+2))","v":0},{"$f":"IF(OR(BR29=0,BS29=0),0,VLOOKUP(BR29,'Print Matrix'!$B$3:$CU$102,BS29+2))","v":0},{"$f":"IF(OR(BS29=0,BT29=0),0,VLOOKUP(BS29,'Print Matrix'!$B$3:$CU$102,BT29+2))","v":0},{"$f":"IF(OR(BT29=0,BU29=0),0,VLOOKUP(BT29,'Print Matrix'!$B$3:$CU$102,BU29+2))","v":0}," =",0]
[null,null,null,null,null,null,null,null,null,null,"",null,{"$f":"'Print WorkSheet'!AB25","v":"DA"},{"$f":"'Print WorkSheet'!AC25","v":"Dana Elem"},{"$f":"'Print WorkSheet'!AB55","v":"NTHS"},{"$f":"'Print WorkSheet'!AC55","v":"Central Coast New Tech HS"},{"$f":"'Print WorkSheet'!AB96","v":"LHS"},{"$f":"'Print WorkSheet'!AC96","v":"Leffingwell High"},null,null,null,"",null,"",null,"",null,"",null,"",null,"",null,"",null,"",null,"",null,"",null,null,null,null,null,"",null,{"$f":"IF(ISTEXT($C29),VLOOKUP($C29,'Print WorkSheet'!$X$4:$Z$115,3),\"\")","v":""},{"$f":"IF(AV30=0,\"\",VLOOKUP(VALUE(AV30),'Print Matrix'!$B$5:$C$100,2))","v":""},{"$f":"IF(ISTEXT($D29),VLOOKUP($D29,'Print WorkSheet'!$X$4:$Z$115,3),\"\")","v":""},{"$f":"IF(AX30=0,\"\",VLOOKUP(VALUE(AX30),'Print Matrix'!$B$5:$C$100,2))","v":""},{"$f":"IF(ISTEXT($E29),VLOOKUP($E29,'Print WorkSheet'!$X$4:$Z$115,3),\"\")","v":""},{"$f":"IF(AZ30=0,\"\",VLOOKUP(VALUE(AZ30),'Print Matrix'!$B$5:$C$100,2))","v":""},{"$f":"IF(ISTEXT($F29),VLOOKUP($F29,'Print WorkSheet'!$X$4:$Z$115,3),\"\")","v":""},{"$f":"IF(BB30=0,\"\",VLOOKUP(BB30,'Print Matrix'!$B$5:$C$100,2))","v":""},{"$f":"IF(ISTEXT($G29),VLOOKUP($G29,'Print WorkSheet'!$X$4:$Z$115,3),\"\")","v":""},{"$f":"IF(BD30=0,\"\",VLOOKUP(BD30,'Print Matrix'!$B$5:$C$100,2))","v":""},{"$f":"IF(ISTEXT($H29),VLOOKUP($H29,'Print WorkSheet'!$X$4:$Z$115,3),\"\")","v":""},{"$f":"IF(BF30=0,\"\",VLOOKUP(BF30,'Print Matrix'!$B$5:$C$100,2))","v":""},{"$f":"IF(ISTEXT($I29),VLOOKUP($I29,'Print WorkSheet'!$X$4:$Z$115,3),\"\")","v":""},{"$f":"IF(BH30=0,\"\",VLOOKUP(BH30,'Print Matrix'!$B$5:$C$100,2))","v":""},null,"","",null,null,0,0,0,0,0,0,0,null,19,{"$f":"IF(OR(BO30=0,BP30=0),0,VLOOKUP(BO30,'Print Matrix'!$B$3:$CU$102,BP30+2))","v":0},{"$f":"IF(OR(BP30=0,BQ30=0),0,VLOOKUP(BP30,'Print Matrix'!$B$3:$CU$102,BQ30+2))","v":0},{"$f":"IF(OR(BQ30=0,BR30=0),0,VLOOKUP(BQ30,'Print Matrix'!$B$3:$CU$102,BR30+2))","v":0},{"$f":"IF(OR(BR30=0,BS30=0),0,VLOOKUP(BR30,'Print Matrix'!$B$3:$CU$102,BS30+2))","v":0},{"$f":"IF(OR(BS30=0,BT30=0),0,VLOOKUP(BS30,'Print Matrix'!$B$3:$CU$102,BT30+2))","v":0},{"$f":"IF(OR(BT30=0,BU30=0),0,VLOOKUP(BT30,'Print Matrix'!$B$3:$CU$102,BU30+2))","v":0}," =",0]
[null,null,null,null,null,null,null,null,null,null,"",null,{"$f":"'Print WorkSheet'!AB26","v":"DL"},{"$f":"'Print WorkSheet'!AC26","v":"Dorthea Lange"},{"$f":"'Print WorkSheet'!AB56","v":"OC"},{"$f":"'Print WorkSheet'!AC56","v":"Oceano Elem"},{"$f":"'Print WorkSheet'!AB88","v":"MMS"},{"$f":"'Print WorkSheet'!AC88","v":"Mesa MS"},null,null,null,"",null,{"$f":"IF(ISBLANK(C30),\"\",UPPER(C30))","v":""},null,{"$f":"IF(ISBLANK(D30),\"\",UPPER(D30))","v":""},null,{"$f":"IF(ISBLANK(E30),\"\",UPPER(E30))","v":""},null,{"$f":"IF(ISBLANK(F30),\"\",UPPER(F30))","v":""},null,"",null,"",null,"",null,"",null,"",null,null,null,null,null,"",null,{"$f":"IF(ISTEXT($C30),VLOOKUP($C30,'Print WorkSheet'!$X$4:$Z$115,3),\"\")","v":""},{"$f":"IF(AV31=0,\"\",VLOOKUP(VALUE(AV31),'Print Matrix'!$B$5:$C$100,2))","v":""},{"$f":"IF(ISTEXT($D30),VLOOKUP($D30,'Print WorkSheet'!$X$4:$Z$115,3),\"\")","v":""},{"$f":"IF(AX31=0,\"\",VLOOKUP(VALUE(AX31),'Print Matrix'!$B$5:$C$100,2))","v":""},{"$f":"IF(ISTEXT($E30),VLOOKUP($E30,'Print WorkSheet'!$X$4:$Z$115,3),\"\")","v":""},{"$f":"IF(AZ31=0,\"\",VLOOKUP(VALUE(AZ31),'Print Matrix'!$B$5:$C$100,2))","v":""},{"$f":"IF(ISTEXT($F30),VLOOKUP($F30,'Print WorkSheet'!$X$4:$Z$115,3),\"\")","v":""},{"$f":"IF(BB31=0,\"\",VLOOKUP(BB31,'Print Matrix'!$B$5:$C$100,2))","v":""},{"$f":"IF(ISTEXT($G30),VLOOKUP($G30,'Print WorkSheet'!$X$4:$Z$115,3),\"\")","v":""},{"$f":"IF(BD31=0,\"\",VLOOKUP(BD31,'Print Matrix'!$B$5:$C$100,2))","v":""},{"$f":"IF(ISTEXT($H30),VLOOKUP($H30,'Print WorkSheet'!$X$4:$Z$115,3),\"\")","v":""},{"$f":"IF(BF31=0,\"\",VLOOKUP(BF31,'Print Matrix'!$B$5:$C$100,2))","v":""},{"$f":"IF(ISTEXT($I30),VLOOKUP($I30,'Print WorkSheet'!$X$4:$Z$115,3),\"\")","v":""},{"$f":"IF(BH31=0,\"\",VLOOKUP(BH31,'Print Matrix'!$B$5:$C$100,2))","v":""},null,"","",null,null,0,0,0,0,0,0,0,null,20,{"$f":"IF(OR(BO31=0,BP31=0),0,VLOOKUP(BO31,'Print Matrix'!$B$3:$CU$102,BP31+2))","v":0},{"$f":"IF(OR(BP31=0,BQ31=0),0,VLOOKUP(BP31,'Print Matrix'!$B$3:$CU$102,BQ31+2))","v":0},{"$f":"IF(OR(BQ31=0,BR31=0),0,VLOOKUP(BQ31,'Print Matrix'!$B$3:$CU$102,BR31+2))","v":0},{"$f":"IF(OR(BR31=0,BS31=0),0,VLOOKUP(BR31,'Print Matrix'!$B$3:$CU$102,BS31+2))","v":0},{"$f":"IF(OR(BS31=0,BT31=0),0,VLOOKUP(BS31,'Print Matrix'!$B$3:$CU$102,BT31+2))","v":0},{"$f":"IF(OR(BT31=0,BU31=0),0,VLOOKUP(BT31,'Print Matrix'!$B$3:$CU$102,BU31+2))","v":0}," =",0]
[null,null,null,null,null,null,null,null,null,null,"",null,{"$f":"'Print WorkSheet'!AB94","v":"DRO"},{"$f":"'Print WorkSheet'!AC94","v":"Del Rio Continuation"},{"$f":"'Print WorkSheet'!AB57","v":"OEC"},{"$f":"'Print WorkSheet'!AC57","v":"Oeano Ed Ctr"},null,null,null,null,null,"",null,{"$f":"IF(ISBLANK(C31),\"\",UPPER(C31))","v":""},null,{"$f":"IF(ISBLANK(D31),\"\",UPPER(D31))","v":""},null,{"$f":"IF(ISBLANK(E31),\"\",UPPER(E31))","v":""},null,{"$f":"IF(ISBLANK(F31),\"\",UPPER(F31))","v":""},null,"",null,"",null,"",null,"",null,"",null,null,null,null,null,"",null,{"$f":"IF(ISTEXT($C31),VLOOKUP($C31,'Print WorkSheet'!$X$4:$Z$115,3),\"\")","v":""},{"$f":"IF(AV32=0,\"\",VLOOKUP(VALUE(AV32),'Print Matrix'!$B$5:$C$100,2))","v":""},{"$f":"IF(ISTEXT($D31),VLOOKUP($D31,'Print WorkSheet'!$X$4:$Z$115,3),\"\")","v":""},{"$f":"IF(AX32=0,\"\",VLOOKUP(VALUE(AX32),'Print Matrix'!$B$5:$C$100,2))","v":""},{"$f":"IF(ISTEXT($E31),VLOOKUP($E31,'Print WorkSheet'!$X$4:$Z$115,3),\"\")","v":""},{"$f":"IF(AZ32=0,\"\",VLOOKUP(VALUE(AZ32),'Print Matrix'!$B$5:$C$100,2))","v":""},{"$f":"IF(ISTEXT($F31),VLOOKUP($F31,'Print WorkSheet'!$X$4:$Z$115,3),\"\")","v":""},{"$f":"IF(BB32=0,\"\",VLOOKUP(BB32,'Print Matrix'!$B$5:$C$100,2))","v":""},{"$f":"IF(ISTEXT($G31),VLOOKUP($G31,'Print WorkSheet'!$X$4:$Z$115,3),\"\")","v":""},{"$f":"IF(BD32=0,\"\",VLOOKUP(BD32,'Print Matrix'!$B$5:$C$100,2))","v":""},{"$f":"IF(ISTEXT($H31),VLOOKUP($H31,'Print WorkSheet'!$X$4:$Z$115,3),\"\")","v":""},{"$f":"IF(BF32=0,\"\",VLOOKUP(BF32,'Print Matrix'!$B$5:$C$100,2))","v":""},{"$f":"IF(ISTEXT($I31),VLOOKUP($I31,'Print WorkSheet'!$X$4:$Z$115,3),\"\")","v":""},{"$f":"IF(BH32=0,\"\",VLOOKUP(BH32,'Print Matrix'!$B$5:$C$100,2))","v":""},null,"","",null,null,0,0,0,0,0,0,0,null,21,{"$f":"IF(OR(BO32=0,BP32=0),0,VLOOKUP(BO32,'Print Matrix'!$B$3:$CU$102,BP32+2))","v":0},{"$f":"IF(OR(BP32=0,BQ32=0),0,VLOOKUP(BP32,'Print Matrix'!$B$3:$CU$102,BQ32+2))","v":0},{"$f":"IF(OR(BQ32=0,BR32=0),0,VLOOKUP(BQ32,'Print Matrix'!$B$3:$CU$102,BR32+2))","v":0},{"$f":"IF(OR(BR32=0,BS32=0),0,VLOOKUP(BR32,'Print Matrix'!$B$3:$CU$102,BS32+2))","v":0},{"$f":"IF(OR(BS32=0,BT32=0),0,VLOOKUP(BS32,'Print Matrix'!$B$3:$CU$102,BT32+2))","v":0},{"$f":"IF(OR(BT32=0,BU32=0),0,VLOOKUP(BT32,'Print Matrix'!$B$3:$CU$102,BU32+2))","v":0}," =",0]
[null,null,null,null,null,null,null,null,null,null,"",null,{"$f":"'Print WorkSheet'!AB27","v":"FG"},{"$f":"'Print WorkSheet'!AC27","v":"Fairgrove  Elem"},{"$f":"'Print WorkSheet'!AB58","v":"OV"},{"$f":"'Print WorkSheet'!AC58","v":"Ocean View Elem"},null,null,null,null,null,"",null,"",null,"",null,"",null,"",null,"",null,"",null,"",null,"",null,"",null,null,null,null,null,"",null,{"$f":"IF(ISTEXT($C32),VLOOKUP($C32,'Print WorkSheet'!$X$4:$Z$115,3),\"\")","v":""},{"$f":"IF(AV33=0,\"\",VLOOKUP(VALUE(AV33),'Print Matrix'!$B$5:$C$100,2))","v":""},{"$f":"IF(ISTEXT($D32),VLOOKUP($D32,'Print WorkSheet'!$X$4:$Z$115,3),\"\")","v":""},{"$f":"IF(AX33=0,\"\",VLOOKUP(VALUE(AX33),'Print Matrix'!$B$5:$C$100,2))","v":""},{"$f":"IF(ISTEXT($E32),VLOOKUP($E32,'Print WorkSheet'!$X$4:$Z$115,3),\"\")","v":""},{"$f":"IF(AZ33=0,\"\",VLOOKUP(VALUE(AZ33),'Print Matrix'!$B$5:$C$100,2))","v":""},{"$f":"IF(ISTEXT($F32),VLOOKUP($F32,'Print WorkSheet'!$X$4:$Z$115,3),\"\")","v":""},{"$f":"IF(BB33=0,\"\",VLOOKUP(BB33,'Print Matrix'!$B$5:$C$100,2))","v":""},{"$f":"IF(ISTEXT($G32),VLOOKUP($G32,'Print WorkSheet'!$X$4:$Z$115,3),\"\")","v":""},{"$f":"IF(BD33=0,\"\",VLOOKUP(BD33,'Print Matrix'!$B$5:$C$100,2))","v":""},{"$f":"IF(ISTEXT($H32),VLOOKUP($H32,'Print WorkSheet'!$X$4:$Z$115,3),\"\")","v":""},{"$f":"IF(BF33=0,\"\",VLOOKUP(BF33,'Print Matrix'!$B$5:$C$100,2))","v":""},{"$f":"IF(ISTEXT($I32),VLOOKUP($I32,'Print WorkSheet'!$X$4:$Z$115,3),\"\")","v":""},{"$f":"IF(BH33=0,\"\",VLOOKUP(BH33,'Print Matrix'!$B$5:$C$100,2))","v":""},null,"","",null,null,0,0,0,0,0,0,0,null,22,{"$f":"IF(OR(BO33=0,BP33=0),0,VLOOKUP(BO33,'Print Matrix'!$B$3:$CU$102,BP33+2))","v":0},{"$f":"IF(OR(BP33=0,BQ33=0),0,VLOOKUP(BP33,'Print Matrix'!$B$3:$CU$102,BQ33+2))","v":0},{"$f":"IF(OR(BQ33=0,BR33=0),0,VLOOKUP(BQ33,'Print Matrix'!$B$3:$CU$102,BR33+2))","v":0},{"$f":"IF(OR(BR33=0,BS33=0),0,VLOOKUP(BR33,'Print Matrix'!$B$3:$CU$102,BS33+2))","v":0},{"$f":"IF(OR(BS33=0,BT33=0),0,VLOOKUP(BS33,'Print Matrix'!$B$3:$CU$102,BT33+2))","v":0},{"$f":"IF(OR(BT33=0,BU33=0),0,VLOOKUP(BT33,'Print Matrix'!$B$3:$CU$102,BU33+2))","v":0}," =",0]
[null,null,null,null,null,null,null,null,null,null,"",null,{"$f":"'Print WorkSheet'!AB27","v":"FG"},{"$f":"'Print WorkSheet'!AC27","v":"Fairgrove  Elem"},{"$f":"'Print WorkSheet'!AB59","v":"PA"},{"$f":"'Print WorkSheet'!AC59","v":"Pacheco Elem"},null,null,null,null,null,"",null,"",null,"",null,"",null,"",null,"",null,"",null,"",null,"",null,"",null,null,null,null,null,"",null,{"$f":"IF(ISTEXT($C33),VLOOKUP($C33,'Print WorkSheet'!$X$4:$Z$115,3),\"\")","v":""},{"$f":"IF(AV34=0,\"\",VLOOKUP(VALUE(AV34),'Print Matrix'!$B$5:$C$100,2))","v":""},{"$f":"IF(ISTEXT($D33),VLOOKUP($D33,'Print WorkSheet'!$X$4:$Z$115,3),\"\")","v":""},{"$f":"IF(AX34=0,\"\",VLOOKUP(VALUE(AX34),'Print Matrix'!$B$5:$C$100,2))","v":""},{"$f":"IF(ISTEXT($E33),VLOOKUP($E33,'Print WorkSheet'!$X$4:$Z$115,3),\"\")","v":""},{"$f":"IF(AZ34=0,\"\",VLOOKUP(VALUE(AZ34),'Print Matrix'!$B$5:$C$100,2))","v":""},{"$f":"IF(ISTEXT($F33),VLOOKUP($F33,'Print WorkSheet'!$X$4:$Z$115,3),\"\")","v":""},{"$f":"IF(BB34=0,\"\",VLOOKUP(BB34,'Print Matrix'!$B$5:$C$100,2))","v":""},{"$f":"IF(ISTEXT($G33),VLOOKUP($G33,'Print WorkSheet'!$X$4:$Z$115,3),\"\")","v":""},{"$f":"IF(BD34=0,\"\",VLOOKUP(BD34,'Print Matrix'!$B$5:$C$100,2))","v":""},{"$f":"IF(ISTEXT($H33),VLOOKUP($H33,'Print WorkSheet'!$X$4:$Z$115,3),\"\")","v":""},{"$f":"IF(BF34=0,\"\",VLOOKUP(BF34,'Print Matrix'!$B$5:$C$100,2))","v":""},{"$f":"IF(ISTEXT($I33),VLOOKUP($I33,'Print WorkSheet'!$X$4:$Z$115,3),\"\")","v":""},{"$f":"IF(BH34=0,\"\",VLOOKUP(BH34,'Print Matrix'!$B$5:$C$100,2))","v":""},null,"","",null,null,0,0,0,0,0,0,0,null,23,{"$f":"IF(OR(BO34=0,BP34=0),0,VLOOKUP(BO34,'Print Matrix'!$B$3:$CU$102,BP34+2))","v":0},{"$f":"IF(OR(BP34=0,BQ34=0),0,VLOOKUP(BP34,'Print Matrix'!$B$3:$CU$102,BQ34+2))","v":0},{"$f":"IF(OR(BQ34=0,BR34=0),0,VLOOKUP(BQ34,'Print Matrix'!$B$3:$CU$102,BR34+2))","v":0},{"$f":"IF(OR(BR34=0,BS34=0),0,VLOOKUP(BR34,'Print Matrix'!$B$3:$CU$102,BS34+2))","v":0},{"$f":"IF(OR(BS34=0,BT34=0),0,VLOOKUP(BS34,'Print Matrix'!$B$3:$CU$102,BT34+2))","v":0},{"$f":"IF(OR(BT34=0,BU34=0),0,VLOOKUP(BT34,'Print Matrix'!$B$3:$CU$102,BU34+2))","v":0}," =",0]
[null,null,null,null,null,null,null,null,null,null,"",null,{"$f":"'Print WorkSheet'!AB28","v":"FMS"},{"$f":"'Print WorkSheet'!AC28","v":"George Flamson MS"},{"$f":"'Print WorkSheet'!AB60","v":"PB"},{"$f":"'Print WorkSheet'!AC60","v":"Pat Butler Elem"},null,null,null,null,null,{"$f":"IF(ISBLANK(B34),\"\",IF(ISTEXT(B34),TEXT(+B34,\"dd\"),DAY(B34)))","v":""},null,"",null,"",null,"",null,"",null,"",null,"",null,"",null,"",null,"",null,null,null,null,null,{"$f":"IF(ISBLANK($B34),\"\",DAY($B34))","v":""},null,{"$f":"IF(ISTEXT($C34),VLOOKUP($C34,'Print WorkSheet'!$X$4:$Z$115,3),\"\")","v":""},{"$f":"IF(AV35=0,\"\",VLOOKUP(VALUE(AV35),'Print Matrix'!$B$5:$C$100,2))","v":""},{"$f":"IF(ISTEXT($D34),VLOOKUP($D34,'Print WorkSheet'!$X$4:$Z$115,3),\"\")","v":""},{"$f":"IF(AX35=0,\"\",VLOOKUP(VALUE(AX35),'Print Matrix'!$B$5:$C$100,2))","v":""},{"$f":"IF(ISTEXT($E34),VLOOKUP($E34,'Print WorkSheet'!$X$4:$Z$115,3),\"\")","v":""},{"$f":"IF(AZ35=0,\"\",VLOOKUP(VALUE(AZ35),'Print Matrix'!$B$5:$C$100,2))","v":""},{"$f":"IF(ISTEXT($F34),VLOOKUP($F34,'Print WorkSheet'!$X$4:$Z$115,3),\"\")","v":""},{"$f":"IF(BB35=0,\"\",VLOOKUP(BB35,'Print Matrix'!$B$5:$C$100,2))","v":""},{"$f":"IF(ISTEXT($G34),VLOOKUP($G34,'Print WorkSheet'!$X$4:$Z$115,3),\"\")","v":""},{"$f":"IF(BD35=0,\"\",VLOOKUP(BD35,'Print Matrix'!$B$5:$C$100,2))","v":""},{"$f":"IF(ISTEXT($H34),VLOOKUP($H34,'Print WorkSheet'!$X$4:$Z$115,3),\"\")","v":""},{"$f":"IF(BF35=0,\"\",VLOOKUP(BF35,'Print Matrix'!$B$5:$C$100,2))","v":""},{"$f":"IF(ISTEXT($I34),VLOOKUP($I34,'Print WorkSheet'!$X$4:$Z$115,3),\"\")","v":""},{"$f":"IF(BH35=0,\"\",VLOOKUP(BH35,'Print Matrix'!$B$5:$C$100,2))","v":""},null,"","",null,null,0,0,0,0,0,0,0,null,24,{"$f":"IF(OR(BO35=0,BP35=0),0,VLOOKUP(BO35,'Print Matrix'!$B$3:$CU$102,BP35+2))","v":0},{"$f":"IF(OR(BP35=0,BQ35=0),0,VLOOKUP(BP35,'Print Matrix'!$B$3:$CU$102,BQ35+2))","v":0},{"$f":"IF(OR(BQ35=0,BR35=0),0,VLOOKUP(BQ35,'Print Matrix'!$B$3:$CU$102,BR35+2))","v":0},{"$f":"IF(OR(BR35=0,BS35=0),0,VLOOKUP(BR35,'Print Matrix'!$B$3:$CU$102,BS35+2))","v":0},{"$f":"IF(OR(BS35=0,BT35=0),0,VLOOKUP(BS35,'Print Matrix'!$B$3:$CU$102,BT35+2))","v":0},{"$f":"IF(OR(BT35=0,BU35=0),0,VLOOKUP(BT35,'Print Matrix'!$B$3:$CU$102,BU35+2))","v":0}," =",0]
[null,null,null,null,null,null,null,null,null,null,"",null,{"$f":"'Print WorkSheet'!AB29","v":"GB"},{"$f":"'Print WorkSheet'!AC29","v":"Georgia Brown Elem"},{"$f":"'Print WorkSheet'!AB61","v":"PD"},{"$f":"'Print WorkSheet'!AC61","v":"Parkfield Elem"},null,null,null,null,null,{"$f":"IF(ISBLANK(B35),\"\",IF(ISTEXT(B35),TEXT(+B35,\"dd\"),DAY(B35)))","v":""},null,"",null,"",null,"",null,"",null,"",null,"",null,"",null,"",null,"",null,null,null,null,null,{"$f":"IF(ISBLANK($B35),\"\",DAY($B35))","v":""},null,{"$f":"IF(ISTEXT($C35),VLOOKUP($C35,'Print WorkSheet'!$X$4:$Z$115,3),\"\")","v":""},{"$f":"IF(AV36=0,\"\",VLOOKUP(VALUE(AV36),'Print Matrix'!$B$5:$C$100,2))","v":""},{"$f":"IF(ISTEXT($D35),VLOOKUP($D35,'Print WorkSheet'!$X$4:$Z$115,3),\"\")","v":""},{"$f":"IF(AX36=0,\"\",VLOOKUP(VALUE(AX36),'Print Matrix'!$B$5:$C$100,2))","v":""},{"$f":"IF(ISTEXT($E35),VLOOKUP($E35,'Print WorkSheet'!$X$4:$Z$115,3),\"\")","v":""},{"$f":"IF(AZ36=0,\"\",VLOOKUP(VALUE(AZ36),'Print Matrix'!$B$5:$C$100,2))","v":""},{"$f":"IF(ISTEXT($F35),VLOOKUP($F35,'Print WorkSheet'!$X$4:$Z$115,3),\"\")","v":""},{"$f":"IF(BB36=0,\"\",VLOOKUP(BB36,'Print Matrix'!$B$5:$C$100,2))","v":""},{"$f":"IF(ISTEXT($G35),VLOOKUP($G35,'Print WorkSheet'!$X$4:$Z$115,3),\"\")","v":""},{"$f":"IF(BD36=0,\"\",VLOOKUP(BD36,'Print Matrix'!$B$5:$C$100,2))","v":""},{"$f":"IF(ISTEXT($H35),VLOOKUP($H35,'Print WorkSheet'!$X$4:$Z$115,3),\"\")","v":""},{"$f":"IF(BF36=0,\"\",VLOOKUP(BF36,'Print Matrix'!$B$5:$C$100,2))","v":""},{"$f":"IF(ISTEXT($I35),VLOOKUP($I35,'Print WorkSheet'!$X$4:$Z$115,3),\"\")","v":""},{"$f":"IF(BH36=0,\"\",VLOOKUP(BH36,'Print Matrix'!$B$5:$C$100,2))","v":""},null,"","",null,null,0,0,0,0,0,0,0,null,25,{"$f":"IF(OR(BO36=0,BP36=0),0,VLOOKUP(BO36,'Print Matrix'!$B$3:$CU$102,BP36+2))","v":0},{"$f":"IF(OR(BP36=0,BQ36=0),0,VLOOKUP(BP36,'Print Matrix'!$B$3:$CU$102,BQ36+2))","v":0},{"$f":"IF(OR(BQ36=0,BR36=0),0,VLOOKUP(BQ36,'Print Matrix'!$B$3:$CU$102,BR36+2))","v":0},{"$f":"IF(OR(BR36=0,BS36=0),0,VLOOKUP(BR36,'Print Matrix'!$B$3:$CU$102,BS36+2))","v":0},{"$f":"IF(OR(BS36=0,BT36=0),0,VLOOKUP(BS36,'Print Matrix'!$B$3:$CU$102,BT36+2))","v":0},{"$f":"IF(OR(BT36=0,BU36=0),0,VLOOKUP(BT36,'Print Matrix'!$B$3:$CU$102,BU36+2))","v":0}," =",0]
[null,null,null,null,null,null,null,null,null,null,"",null,{"$f":"'Print WorkSheet'!AB30","v":"GA"},{"$f":"'Print WorkSheet'!AC30","v":"Grizzly Academy"},{"$f":"'Print WorkSheet'!AB62","v":"PMS"},{"$f":"'Print WorkSheet'!AC62","v":"Paulding MS"},null,null,null,null,null,{"$f":"IF(ISBLANK(B36),\"\",IF(ISTEXT(B36),TEXT(+B36,\"dd\"),DAY(B36)))","v":""},null,"",null,"",null,"",null,"",null,"",null,"",null,"",null,"",null,"",null,null,null,null,null,{"$f":"IF(ISBLANK($B36),\"\",DAY($B36))","v":""},null,{"$f":"IF(ISTEXT($C36),VLOOKUP($C36,'Print WorkSheet'!$X$4:$Z$115,3),\"\")","v":""},{"$f":"IF(AV37=0,\"\",VLOOKUP(VALUE(AV37),'Print Matrix'!$B$5:$C$100,2))","v":""},{"$f":"IF(ISTEXT($D36),VLOOKUP($D36,'Print WorkSheet'!$X$4:$Z$115,3),\"\")","v":""},{"$f":"IF(AX37=0,\"\",VLOOKUP(VALUE(AX37),'Print Matrix'!$B$5:$C$100,2))","v":""},{"$f":"IF(ISTEXT($E36),VLOOKUP($E36,'Print WorkSheet'!$X$4:$Z$115,3),\"\")","v":""},{"$f":"IF(AZ37=0,\"\",VLOOKUP(VALUE(AZ37),'Print Matrix'!$B$5:$C$100,2))","v":""},{"$f":"IF(ISTEXT($F36),VLOOKUP($F36,'Print WorkSheet'!$X$4:$Z$115,3),\"\")","v":""},{"$f":"IF(BB37=0,\"\",VLOOKUP(BB37,'Print Matrix'!$B$5:$C$100,2))","v":""},{"$f":"IF(ISTEXT($G36),VLOOKUP($G36,'Print WorkSheet'!$X$4:$Z$115,3),\"\")","v":""},{"$f":"IF(BD37=0,\"\",VLOOKUP(BD37,'Print Matrix'!$B$5:$C$100,2))","v":""},{"$f":"IF(ISTEXT($H36),VLOOKUP($H36,'Print WorkSheet'!$X$4:$Z$115,3),\"\")","v":""},{"$f":"IF(BF37=0,\"\",VLOOKUP(BF37,'Print Matrix'!$B$5:$C$100,2))","v":""},{"$f":"IF(ISTEXT($I36),VLOOKUP($I36,'Print WorkSheet'!$X$4:$Z$115,3),\"\")","v":""},{"$f":"IF(BH37=0,\"\",VLOOKUP(BH37,'Print Matrix'!$B$5:$C$100,2))","v":""},null,"","",null,null,0,0,0,0,0,0,0,null,26,{"$f":"IF(OR(BO37=0,BP37=0),0,VLOOKUP(BO37,'Print Matrix'!$B$3:$CU$102,BP37+2))","v":0},{"$f":"IF(OR(BP37=0,BQ37=0),0,VLOOKUP(BP37,'Print Matrix'!$B$3:$CU$102,BQ37+2))","v":0},{"$f":"IF(OR(BQ37=0,BR37=0),0,VLOOKUP(BQ37,'Print Matrix'!$B$3:$CU$102,BR37+2))","v":0},{"$f":"IF(OR(BR37=0,BS37=0),0,VLOOKUP(BR37,'Print Matrix'!$B$3:$CU$102,BS37+2))","v":0},{"$f":"IF(OR(BS37=0,BT37=0),0,VLOOKUP(BS37,'Print Matrix'!$B$3:$CU$102,BT37+2))","v":0},{"$f":"IF(OR(BT37=0,BU37=0),0,VLOOKUP(BT37,'Print Matrix'!$B$3:$CU$102,BU37+2))","v":0}," =",0]
[null,null,null,null,null,null,null,null,null,null,"",null,{"$f":"'Print WorkSheet'!AB31","v":"GR"},{"$f":"'Print WorkSheet'!AC31","v":"Grover Beach Elem"},{"$f":"'Print WorkSheet'!AB63","v":"PPS"},{"$f":"'Print WorkSheet'!AC63","v":"PPS Lucia Mar"},null,null,null,null,null,{"$f":"IF(ISBLANK(B37),\"\",IF(ISTEXT(B37),TEXT(+B37,\"dd\"),DAY(B37)))","v":""},null,"",null,"",null,"",null,"",null,"",null,"",null,"",null,"",null,"",null,null,null,null,null,{"$f":"IF(ISBLANK($B37),\"\",DAY($B37))","v":""},null,{"$f":"IF(ISTEXT($C37),VLOOKUP($C37,'Print WorkSheet'!$X$4:$Z$115,3),\"\")","v":""},{"$f":"IF(AV38=0,\"\",VLOOKUP(VALUE(AV38),'Print Matrix'!$B$5:$C$100,2))","v":""},{"$f":"IF(ISTEXT($D37),VLOOKUP($D37,'Print WorkSheet'!$X$4:$Z$115,3),\"\")","v":""},{"$f":"IF(AX38=0,\"\",VLOOKUP(VALUE(AX38),'Print Matrix'!$B$5:$C$100,2))","v":""},{"$f":"IF(ISTEXT($E37),VLOOKUP($E37,'Print WorkSheet'!$X$4:$Z$115,3),\"\")","v":""},{"$f":"IF(AZ38=0,\"\",VLOOKUP(VALUE(AZ38),'Print Matrix'!$B$5:$C$100,2))","v":""},{"$f":"IF(ISTEXT($F37),VLOOKUP($F37,'Print WorkSheet'!$X$4:$Z$115,3),\"\")","v":""},{"$f":"IF(BB38=0,\"\",VLOOKUP(BB38,'Print Matrix'!$B$5:$C$100,2))","v":""},{"$f":"IF(ISTEXT($G37),VLOOKUP($G37,'Print WorkSheet'!$X$4:$Z$115,3),\"\")","v":""},{"$f":"IF(BD38=0,\"\",VLOOKUP(BD38,'Print Matrix'!$B$5:$C$100,2))","v":""},{"$f":"IF(ISTEXT($H37),VLOOKUP($H37,'Print WorkSheet'!$X$4:$Z$115,3),\"\")","v":""},{"$f":"IF(BF38=0,\"\",VLOOKUP(BF38,'Print Matrix'!$B$5:$C$100,2))","v":""},{"$f":"IF(ISTEXT($I37),VLOOKUP($I37,'Print WorkSheet'!$X$4:$Z$115,3),\"\")","v":""},{"$f":"IF(BH38=0,\"\",VLOOKUP(BH38,'Print Matrix'!$B$5:$C$100,2))","v":""},null,"","",null,null,0,0,0,0,0,0,0,null,27,{"$f":"IF(OR(BO38=0,BP38=0),0,VLOOKUP(BO38,'Print Matrix'!$B$3:$CU$102,BP38+2))","v":0},{"$f":"IF(OR(BP38=0,BQ38=0),0,VLOOKUP(BP38,'Print Matrix'!$B$3:$CU$102,BQ38+2))","v":0},{"$f":"IF(OR(BQ38=0,BR38=0),0,VLOOKUP(BQ38,'Print Matrix'!$B$3:$CU$102,BR38+2))","v":0},{"$f":"IF(OR(BR38=0,BS38=0),0,VLOOKUP(BR38,'Print Matrix'!$B$3:$CU$102,BS38+2))","v":0},{"$f":"IF(OR(BS38=0,BT38=0),0,VLOOKUP(BS38,'Print Matrix'!$B$3:$CU$102,BT38+2))","v":0},{"$f":"IF(OR(BT38=0,BU38=0),0,VLOOKUP(BT38,'Print Matrix'!$B$3:$CU$102,BU38+2))","v":0}," =",0]
[null,null,null,null,null,null,null,null,null,null,"",null,{"$f":"'Print WorkSheet'!AB32","v":"GH"},{"$f":"'Print WorkSheet'!AC32","v":"Grover Heights Elem"},{"$f":"'Print WorkSheet'!AB64","v":"PRHS"},{"$f":"'Print WorkSheet'!AC64","v":"Paso Robles HS"},null,null,null,null,null,{"$f":"IF(ISBLANK(B38),\"\",IF(ISTEXT(B38),TEXT(+B38,\"dd\"),DAY(B38)))","v":""},null,"",null,"",null,{"$f":"IF(ISBLANK(E38),\"\",UPPER(E38))","v":""},null,"",null,"",null,"",null,"",null,"",null,"",null,null,null,null,null,{"$f":"IF(ISBLANK($B38),\"\",DAY($B38))","v":""},null,{"$f":"IF(ISTEXT($C38),VLOOKUP($C38,'Print WorkSheet'!$X$4:$Z$115,3),\"\")","v":""},{"$f":"IF(AV39=0,\"\",VLOOKUP(VALUE(AV39),'Print Matrix'!$B$5:$C$100,2))","v":""},{"$f":"IF(ISTEXT($D38),VLOOKUP($D38,'Print WorkSheet'!$X$4:$Z$115,3),\"\")","v":""},{"$f":"IF(AX39=0,\"\",VLOOKUP(VALUE(AX39),'Print Matrix'!$B$5:$C$100,2))","v":""},{"$f":"IF(ISTEXT($E38),VLOOKUP($E38,'Print WorkSheet'!$X$4:$Z$115,3),\"\")","v":""},{"$f":"IF(AZ39=0,\"\",VLOOKUP(VALUE(AZ39),'Print Matrix'!$B$5:$C$100,2))","v":""},{"$f":"IF(ISTEXT($F38),VLOOKUP($F38,'Print WorkSheet'!$X$4:$Z$115,3),\"\")","v":""},{"$f":"IF(BB39=0,\"\",VLOOKUP(BB39,'Print Matrix'!$B$5:$C$100,2))","v":""},{"$f":"IF(ISTEXT($G38),VLOOKUP($G38,'Print WorkSheet'!$X$4:$Z$115,3),\"\")","v":""},{"$f":"IF(BD39=0,\"\",VLOOKUP(BD39,'Print Matrix'!$B$5:$C$100,2))","v":""},{"$f":"IF(ISTEXT($H38),VLOOKUP($H38,'Print WorkSheet'!$X$4:$Z$115,3),\"\")","v":""},{"$f":"IF(BF39=0,\"\",VLOOKUP(BF39,'Print Matrix'!$B$5:$C$100,2))","v":""},{"$f":"IF(ISTEXT($I38),VLOOKUP($I38,'Print WorkSheet'!$X$4:$Z$115,3),\"\")","v":""},{"$f":"IF(BH39=0,\"\",VLOOKUP(BH39,'Print Matrix'!$B$5:$C$100,2))","v":""},null,"","",null,null,0,0,0,0,0,0,0,null,28,{"$f":"IF(OR(BO39=0,BP39=0),0,VLOOKUP(BO39,'Print Matrix'!$B$3:$CU$102,BP39+2))","v":0},{"$f":"IF(OR(BP39=0,BQ39=0),0,VLOOKUP(BP39,'Print Matrix'!$B$3:$CU$102,BQ39+2))","v":0},{"$f":"IF(OR(BQ39=0,BR39=0),0,VLOOKUP(BQ39,'Print Matrix'!$B$3:$CU$102,BR39+2))","v":0},{"$f":"IF(OR(BR39=0,BS39=0),0,VLOOKUP(BR39,'Print Matrix'!$B$3:$CU$102,BS39+2))","v":0},{"$f":"IF(OR(BS39=0,BT39=0),0,VLOOKUP(BS39,'Print Matrix'!$B$3:$CU$102,BT39+2))","v":0},{"$f":"IF(OR(BT39=0,BU39=0),0,VLOOKUP(BT39,'Print Matrix'!$B$3:$CU$102,BU39+2))","v":0}," =",0]
[null,null,null,null,null,null,null,null,null,null,"",null,{"$f":"'Print WorkSheet'!AB33","v":"HA"},{"$f":"'Print WorkSheet'!AC33","v":"Harloe Elem"},{"$f":"'Print WorkSheet'!AB51","v":"PRIS"},{"$f":"'Print WorkSheet'!AC51","v":"Paso Robles Ind. Stdy."},null,null,null,null,null,"",null,"",null,"",null,"",null,"",null,"",null,"",null,"",null,"",null,"",null,null,null,null,null,"",null,{"$f":"IF(ISTEXT($C39),VLOOKUP($C39,'Print WorkSheet'!$X$4:$Z$115,3),\"\")","v":""},{"$f":"IF(AV40=0,\"\",VLOOKUP(VALUE(AV40),'Print Matrix'!$B$5:$C$100,2))","v":""},{"$f":"IF(ISTEXT($D39),VLOOKUP($D39,'Print WorkSheet'!$X$4:$Z$115,3),\"\")","v":""},{"$f":"IF(AX40=0,\"\",VLOOKUP(VALUE(AX40),'Print Matrix'!$B$5:$C$100,2))","v":""},{"$f":"IF(ISTEXT($E39),VLOOKUP($E39,'Print WorkSheet'!$X$4:$Z$115,3),\"\")","v":""},{"$f":"IF(AZ40=0,\"\",VLOOKUP(VALUE(AZ40),'Print Matrix'!$B$5:$C$100,2))","v":""},{"$f":"IF(ISTEXT($F39),VLOOKUP($F39,'Print WorkSheet'!$X$4:$Z$115,3),\"\")","v":""},{"$f":"IF(BB40=0,\"\",VLOOKUP(BB40,'Print Matrix'!$B$5:$C$100,2))","v":""},{"$f":"IF(ISTEXT($G39),VLOOKUP($G39,'Print WorkSheet'!$X$4:$Z$115,3),\"\")","v":""},{"$f":"IF(BD40=0,\"\",VLOOKUP(BD40,'Print Matrix'!$B$5:$C$100,2))","v":""},{"$f":"IF(ISTEXT($H39),VLOOKUP($H39,'Print WorkSheet'!$X$4:$Z$115,3),\"\")","v":""},{"$f":"IF(BF40=0,\"\",VLOOKUP(BF40,'Print Matrix'!$B$5:$C$100,2))","v":""},{"$f":"IF(ISTEXT($I39),VLOOKUP($I39,'Print WorkSheet'!$X$4:$Z$115,3),\"\")","v":""},{"$f":"IF(BH40=0,\"\",VLOOKUP(BH40,'Print Matrix'!$B$5:$C$100,2))","v":""},null,"","",null,null,0,0,0,0,0,0,0,null,29,{"$f":"IF(OR(BO40=0,BP40=0),0,VLOOKUP(BO40,'Print Matrix'!$B$3:$CU$102,BP40+2))","v":0},{"$f":"IF(OR(BP40=0,BQ40=0),0,VLOOKUP(BP40,'Print Matrix'!$B$3:$CU$102,BQ40+2))","v":0},{"$f":"IF(OR(BQ40=0,BR40=0),0,VLOOKUP(BQ40,'Print Matrix'!$B$3:$CU$102,BR40+2))","v":0},{"$f":"IF(OR(BR40=0,BS40=0),0,VLOOKUP(BR40,'Print Matrix'!$B$3:$CU$102,BS40+2))","v":0},{"$f":"IF(OR(BS40=0,BT40=0),0,VLOOKUP(BS40,'Print Matrix'!$B$3:$CU$102,BT40+2))","v":0},{"$f":"IF(OR(BT40=0,BU40=0),0,VLOOKUP(BT40,'Print Matrix'!$B$3:$CU$102,BU40+2))","v":0}," =",0]
[null,null,null,null,null,null,null,null,null,null,"",null,{"$f":"'Print WorkSheet'!AB34","v":"HW"},{"$f":"'Print WorkSheet'!AC34","v":"Hawthorne Elem"},{"$f":"'Print WorkSheet'!AB65","v":"PRTC"},{"$f":"'Print WorkSheet'!AC65","v":"Paso Robles Tch Ctr"},null,null,null,null,null,"",null,"",null,"",null,"",null,"",null,"",null,"",null,"",null,"",null,"",null,null,null,null,null,"",null,{"$f":"IF(ISTEXT($C40),VLOOKUP($C40,'Print WorkSheet'!$X$4:$Z$115,3),\"\")","v":""},{"$f":"IF(AV41=0,\"\",VLOOKUP(VALUE(AV41),'Print Matrix'!$B$5:$C$100,2))","v":""},{"$f":"IF(ISTEXT($D40),VLOOKUP($D40,'Print WorkSheet'!$X$4:$Z$115,3),\"\")","v":""},{"$f":"IF(AX41=0,\"\",VLOOKUP(VALUE(AX41),'Print Matrix'!$B$5:$C$100,2))","v":""},{"$f":"IF(ISTEXT($E40),VLOOKUP($E40,'Print WorkSheet'!$X$4:$Z$115,3),\"\")","v":""},{"$f":"IF(AZ41=0,\"\",VLOOKUP(VALUE(AZ41),'Print Matrix'!$B$5:$C$100,2))","v":""},{"$f":"IF(ISTEXT($F40),VLOOKUP($F40,'Print WorkSheet'!$X$4:$Z$115,3),\"\")","v":""},{"$f":"IF(BB41=0,\"\",VLOOKUP(BB41,'Print Matrix'!$B$5:$C$100,2))","v":""},{"$f":"IF(ISTEXT($G40),VLOOKUP($G40,'Print WorkSheet'!$X$4:$Z$115,3),\"\")","v":""},{"$f":"IF(BD41=0,\"\",VLOOKUP(BD41,'Print Matrix'!$B$5:$C$100,2))","v":""},{"$f":"IF(ISTEXT($H40),VLOOKUP($H40,'Print WorkSheet'!$X$4:$Z$115,3),\"\")","v":""},{"$f":"IF(BF41=0,\"\",VLOOKUP(BF41,'Print Matrix'!$B$5:$C$100,2))","v":""},{"$f":"IF(ISTEXT($I40),VLOOKUP($I40,'Print WorkSheet'!$X$4:$Z$115,3),\"\")","v":""},{"$f":"IF(BH41=0,\"\",VLOOKUP(BH41,'Print Matrix'!$B$5:$C$100,2))","v":""},null,"","",null,null,0,0,0,0,0,0,0,null,30,{"$f":"IF(OR(BO41=0,BP41=0),0,VLOOKUP(BO41,'Print Matrix'!$B$3:$CU$102,BP41+2))","v":0},{"$f":"IF(OR(BP41=0,BQ41=0),0,VLOOKUP(BP41,'Print Matrix'!$B$3:$CU$102,BQ41+2))","v":0},{"$f":"IF(OR(BQ41=0,BR41=0),0,VLOOKUP(BQ41,'Print Matrix'!$B$3:$CU$102,BR41+2))","v":0},{"$f":"IF(OR(BR41=0,BS41=0),0,VLOOKUP(BR41,'Print Matrix'!$B$3:$CU$102,BS41+2))","v":0},{"$f":"IF(OR(BS41=0,BT41=0),0,VLOOKUP(BS41,'Print Matrix'!$B$3:$CU$102,BT41+2))","v":0},{"$f":"IF(OR(BT41=0,BU41=0),0,VLOOKUP(BT41,'Print Matrix'!$B$3:$CU$102,BU41+2))","v":0}," =",0]
[null,null,null,null,null,null,null,null,null,null,"",null,{"$f":"'Print WorkSheet'!AB35","v":"JMS"},{"$f":"'Print WorkSheet'!AC35","v":"Judkins MS"},{"$f":"'Print WorkSheet'!AB66","v":"PV"},{"$f":"'Print WorkSheet'!AC66","v":"Pleasant Valley"},null,null,null,null,null,{"$f":"IF(ISBLANK(B41),\"\",IF(ISTEXT(B41),TEXT(+B41,\"dd\"),DAY(B41)))","v":""},null,{"$f":"IF(ISBLANK(C41),\"\",UPPER(C41))","v":""},null,{"$f":"IF(ISBLANK(D41),\"\",UPPER(D41))","v":""},null,{"$f":"IF(ISBLANK(E41),\"\",UPPER(E41))","v":""},null,{"$f":"IF(ISBLANK(F41),\"\",UPPER(F41))","v":""},null,{"$f":"IF(ISBLANK(G41),\"\",UPPER(G41))","v":""},null,{"$f":"IF(ISBLANK(H41),\"\",UPPER(H41))","v":""},null,{"$f":"IF(ISBLANK(I41),\"\",UPPER(I41))","v":""},null,{"$f":"IF(ISBLANK(J41),\"\",J41)","v":""},null,"",null,null,null,null,null,{"$f":"IF(ISBLANK($B42),\"\",DAY($B42))","v":""},null,{"$f":"IF(ISTEXT($C41),VLOOKUP($C41,'Print WorkSheet'!$X$4:$Z$115,3),\"\")","v":""},{"$f":"IF(AV42=0,\"\",VLOOKUP(VALUE(AV42),'Print Matrix'!$B$5:$C$100,2))","v":""},{"$f":"IF(ISTEXT($D41),VLOOKUP($D41,'Print WorkSheet'!$X$4:$Z$115,3),\"\")","v":""},{"$f":"IF(AX42=0,\"\",VLOOKUP(VALUE(AX42),'Print Matrix'!$B$5:$C$100,2))","v":""},{"$f":"IF(ISTEXT($E41),VLOOKUP($E41,'Print WorkSheet'!$X$4:$Z$115,3),\"\")","v":""},{"$f":"IF(AZ42=0,\"\",VLOOKUP(VALUE(AZ42),'Print Matrix'!$B$5:$C$100,2))","v":""},{"$f":"IF(ISTEXT($F41),VLOOKUP($F41,'Print WorkSheet'!$X$4:$Z$115,3),\"\")","v":""},{"$f":"IF(BB42=0,\"\",VLOOKUP(BB42,'Print Matrix'!$B$5:$C$100,2))","v":""},{"$f":"IF(ISTEXT($G41),VLOOKUP($G41,'Print WorkSheet'!$X$4:$Z$115,3),\"\")","v":""},{"$f":"IF(BD42=0,\"\",VLOOKUP(BD42,'Print Matrix'!$B$5:$C$100,2))","v":""},{"$f":"IF(ISTEXT($H41),VLOOKUP($H41,'Print WorkSheet'!$X$4:$Z$115,3),\"\")","v":""},{"$f":"IF(BF42=0,\"\",VLOOKUP(BF42,'Print Matrix'!$B$5:$C$100,2))","v":""},{"$f":"IF(ISTEXT($I41),VLOOKUP($I41,'Print WorkSheet'!$X$4:$Z$115,3),\"\")","v":""},{"$f":"IF(BH42=0,\"\",VLOOKUP(BH42,'Print Matrix'!$B$5:$C$100,2))","v":""},null,{"$f":"IF(ISBLANK(J42),\"\",J42)","v":""},"",null,null,0,0,0,0,0,0,0,null,31,{"$f":"IF(OR(BO42=0,BP42=0),0,VLOOKUP(BO42,'Print Matrix'!$B$3:$CU$102,BP42+2))","v":0},{"$f":"IF(OR(BP42=0,BQ42=0),0,VLOOKUP(BP42,'Print Matrix'!$B$3:$CU$102,BQ42+2))","v":0},{"$f":"IF(OR(BQ42=0,BR42=0),0,VLOOKUP(BQ42,'Print Matrix'!$B$3:$CU$102,BR42+2))","v":0},{"$f":"IF(OR(BR42=0,BS42=0),0,VLOOKUP(BR42,'Print Matrix'!$B$3:$CU$102,BS42+2))","v":0},{"$f":"IF(OR(BS42=0,BT42=0),0,VLOOKUP(BS42,'Print Matrix'!$B$3:$CU$102,BT42+2))","v":0},{"$f":"IF(OR(BT42=0,BU42=0),0,VLOOKUP(BT42,'Print Matrix'!$B$3:$CU$102,BU42+2))","v":0}," =",0]
[null,null,null,null,null,null,null,null,null,{"$f":"AM44","v":"Total Miles"},{"$f":"AN44","v":0},null,null,null,null,null,null,null,null,null,null,{"$f":"IF(ISBLANK(B42),\"\",IF(ISTEXT(B42),TEXT(+B42,\"dd\"),DAY(B42)))","v":""},null,{"$f":"IF(ISBLANK(C42),\"\",UPPER(C42))","v":""},null,{"$f":"IF(ISBLANK(D42),\"\",UPPER(D42))","v":""},null,{"$f":"IF(ISBLANK(E42),\"\",UPPER(E42))","v":""},null,{"$f":"IF(ISBLANK(F42),\"\",UPPER(F42))","v":""},null,{"$f":"IF(ISBLANK(G42),\"\",UPPER(G42))","v":""},null,{"$f":"IF(ISBLANK(H42),\"\",UPPER(H42))","v":""},null,{"$f":"IF(ISBLANK(I42),\"\",UPPER(I42))","v":""},null,{"$f":"IF(ISBLANK(J42),\"\",J42)","v":""}]
[null,null,null,null,null,null,null,null,null,{"$f":"AM45","v":"x Per Mile"},0.65500000000000003,null,null,null,null,null,null,null,null,null,null,{"$f":"IF(ISBLANK(B43),\"\",IF(ISTEXT(B43),TEXT(+B43,\"dd\"),DAY(B43)))","v":""},null,null,null,null,null,null,null,null,null,null,null,null,null,null,null,null,"Total Miles",{"$f":"IF(ISBLANK(AN12),\"\",SUM(AN12:AN43))","v":0},null,null,null,null,null,null,null,null,null,null,null,null,null,null,null,null,null,null,null,null,null,null,"Total Miles",{"$f":"SUM($BL$12:$BL$42)","v":0}]
[null,null,null,null,null,null,null,null,null,{"$f":"AM46","v":"TOTAL="},{"$f":"AN46","v":0},null,null,null,null,null,null,null,null,null,null,{"$f":"IF(ISBLANK(B44),\"\",IF(ISTEXT(B44),TEXT(+B44,\"dd\"),DAY(B44)))","v":""},null,null,null,null,null,null,null,null,null,null,null,null,null,null,null,null,"x Per Mile",{"$f":"$K$44","v":0.65500000000000003},null,null,null,null,null,null,null,null,null,null,null,null,null,null,null,null,null,null,null,null,null,null,"x Per Mile",0.65500000000000003]
[null,null,null,null,null,null,null,null,null,null,null,null,null,null,null,null,null,null,null,null,null,{"$f":"IF(ISBLANK(B45),\"\",IF(ISTEXT(B45),TEXT(+B45,\"dd\"),DAY(B45)))","v":""},null,null,null,null,null,null,null,null,null,null,null,null,null,null,null,null,"TOTAL=",{"$f":"IF(ISBLANK(AN12),\"\",AN45*AN44)","v":0},null,null,null,null,null,null,null,null,null,null,null,null,null,null,null,null,null,null,null,null,null,null,"TOTAL=",{"$f":"BL44*BL45","v":0}]
[null,null,null,null,null,null,null,null,null,null,null,null,null,null,null,null,null,null,null,null,"I hereby certify that the above is a true statement of the travel expense incurred by me while on official",null,null,null,null,null,null,null,null,null,null,null,null,null,null,null,null,null,null,null,null,null,null,null,null,"I hereby certify that the above is a true statement of the travel expense incurred by me while on official"]
[null,null,null,null,null,null,null,null,null,null,null,null,null,null,null,null,null,null,null,null,"business for the San Luis Obispo County Superintendent of Schools.",null,null,null,null,null,null,null,null,null,null,null,null,null,null,null,null,null,null,null,null,null,null,null,null,"business for the San Luis Obispo County Superintendent of Schools."]
[]
[null,null,null,null,null,null,null,null,null,null,null,null,null,null,null,null,null,null,null,null,null,null,null,null,null,null,null,null,null,null,null,null,null,{"$f":"IF(ISBLANK(N4),\"\",N4)","v":""},null,null,null,null,null,{"$f":"IF(ISBLANK(Q4),\"\",Q4)","v":""}]
[null,null,null,null,null,null,null,null,null,null,null,null,null,null,null,null,null,null,null,null,"Signature of Claimant",null,null,null,null,null,null,null,null,null,null,null,null,null,null,"Budget Code",null,null,null,"%",null,null,null,null,null,"Signature of Claimant",null,null,null,null,null,null,null,null,null,null,null,null,null,"Budget Code",null,null,null,"%"]
[null,null,null,null,null,null,null,null,null,null,null,null,null,null,null,null,null,null,null,null,null,null,null,null,null,null,null,null,null,null,null,null,null,{"$f":"IF(ISBLANK(N5),\"\",N5)","v":""},null,null,null,null,null,{"$f":"IF(ISBLANK(Q5),\"\",Q5)","v":""},null,null,null,null,null,"APPROVED AND ORDERED PAID:"]
[null,null,null,null,null,null,null,null,null,null,null,null,null,null,null,null,null,null,null,null,"APPROVED AND ORDERED PAID BY:",null,null,null,null,null,null,null,null,null,null,null,null,null,null,"Budget Code",null,null,null,"%",null,null,null,null,null,null,null,null,null,null,null,null,null,null,null,null,null,null,null,"Budget Code",null,null,null,"%"]
[null,null,null,null,null,null,null,null,null,null,null,null,null,null,null,null,null,null,null,null,null,null,null,null,null,null,null,null,null,null,null,null,null,{"$f":"IF(ISBLANK(N6),\"\",N6)","v":""},null,null,null,null,null,{"$f":"IF(ISBLANK(Q6),\"\",Q6)","v":""}]
[null,null,null,null,null,null,null,null,null,null,null,null,null,null,null,null,null,null,null,null,null,null,null,null,null,null,null,null,null,null,null,null,null,null,null,"Budget Code",null,null,null,"%",null,null,null,null,null,null,null,null,null,null,null,null,null,null,null,null,null,null,null,"Budget Code",null,null,null,"%"]
[null,null,null,null,null,null,null,null,null,null,null,null,null,null,null,null,null,null,null,null,{"$f":"B1","v":"Mileage Program for the San Luis Obispo County Office of Education - Mileage verified with Google Maps - Revised 09/2022"}]

{"sheet":"Print WorkSheet","index":1,"n_rows":115,"n_cols":29,"rows_kept":115,"cut":false,"hidden":false,"merged":[[2,27,2,28],[11,9,11,10],[12,9,12,10],[13,9,13,10],[7,9,7,10],[8,9,8,10],[4,12,4,17],[4,1,5,1],[4,2,5,8],[4,9,5,10],[6,9,6,10],[9,9,9,10],[36,9,36,10],[37,9,37,10],[39,9,39,10],[40,9,40,10],[17,9,17,10],[32,9,32,10],[1,2,1,4],[2,2,2,4],[30,9,30,10],[24,9,24,10],[29,9,29,10],[25,9,25,10],[26,9,26,10],[27,9,27,10],[20,9,20,10],[10,9,10,10],[1,7,1,8],[14,9,14,10],[15,9,15,10],[16,9,16,10],[47,12,48,16],[2,12,3,17],[1,12,1,17],[2,7,2,8],[38,9,38,10],[22,9,22,10],[18,9,18,10],[31,9,31,10],[33,9,33,10],[34,9,34,10],[23,9,23,10],[21,9,21,10],[28,9,28,10],[19,9,19,10],[41,9,41,10],[35,9,35,10]]}
[]
[null,"Name=",null,null,null,null,"Month=",null,null,"Year="]
[null,"Address=",null,null,null,null,"City=",null,null,"ZIP=",null,null,"Fund / Program / Object",null,null,null,null,null,null,null,null,null,null,null,"Alphabetical Listing",null,null,"Site Abbreviations"]
[null,null,null,null,null,null,null,null,null,null,null,null,null,null,null,null,null,null,null,null,null,null,32,"LMDO","Lucia Mar DO",32,null,{"$f":"+X4","v":"LMDO"},{"$f":"+Y4","v":"Lucia Mar DO"}]
[null,"Enter numeric day of month","Enter abbreviation for each site\n(see \"Site and Abbreviations\" worksheet).",null,null,null,null,null,null,"Enter purpsoe of trip",null,null,"Abbreviations for each site",null,null,null,null,null,null,null,null,null,32,"AGHS","Arroyo Grande HS",32,null,"AGHS","Arroyo Grande HS"]
[null,null,null,null,null,null,null,null,null,null,null,null,{"$f":"'Print WorkSheet'!AB5","v":"AGHS"},{"$f":"'Print WorkSheet'!AC5","v":"Arroyo Grande HS"},{"$f":"'Print WorkSheet'!AB37","v":"KK"},{"$f":"'Print WorkSheet'!AC37","v":"Kermit King Elem"},{"$f":"'Print WorkSheet'!AB66","v":"PV"},{"$f":"'Print WorkSheet'!AC66","v":"Pleasant Valley"},null,null,null,null,60,"ADO","Atascadero DO",60,null,"ADO","Atascadero DO"]
[null,"Date",1,2,3,4,5,6,7,"Purpose",null,null,{"$f":"'Print WorkSheet'!AB6","v":"ADO"},{"$f":"'Print WorkSheet'!AC6","v":"Atascadero DO"},{"$f":"'Print WorkSheet'!AB38","v":"LAMS"},{"$f":"'Print WorkSheet'!AC38","v":"Laguna MS"},{"$f":"'Print WorkSheet'!AB67","v":"SB"},{"$f":"'Print WorkSheet'!AC67","v":"Shell Beach Elem"},null,null,null,null,61,"ATHS","Atascadero HS",61,null,"ATHS","Atascadero HS"]
[null,null,null,null,null,null,null,null,null,null,null,null,{"$f":"'Print WorkSheet'!AB7","v":"ATHS"},{"$f":"'Print WorkSheet'!AC7","v":"Atascadero HS"},{"$f":"'Print WorkSheet'!AB52","v":"LCS"},{"$f":"'Print WorkSheet'!AC52","v":"Lopez Cont./Adult Sch."},{"$f":"'Print WorkSheet'!AB68","v":"SG"},{"$f":"'Print WorkSheet'!AC68","v":"San Gabriel Elem"},null,null,null,null,60,"AMS","Atascadero MS",60,null,"AMS","Atascadero MS"]
[null,null,null,null,null,null,null,null,null,null,null,null,{"$f":"'Print WorkSheet'!AB8","v":"AMS"},{"$f":"'Print WorkSheet'!AC8","v":"Atascadero MS"},{"$f":"'Print WorkSheet'!AB96","v":"LHS"},{"$f":"'Print WorkSheet'!AC96","v":"Leffingwell High"},{"$f":"'Print WorkSheet'!AB69","v":"SHS"},{"$f":"'Print WorkSheet'!AC69","v":"Shandon HS"},null,null,null,null,40,"BS","Bauer/Speck",40,null,"BS","Bauer/Speck"]
[null,null,null,null,null,null,null,null,null,null,null,null,{"$f":"'Print WorkSheet'!AB9","v":"BS"},{"$f":"'Print WorkSheet'!AC9","v":"Bauer/Speck"},{"$f":"'Print WorkSheet'!AB39","v":"LL"},{"$f":"'Print WorkSheet'!AC39","v":"Lillian Larsen"},{"$f":"'Print WorkSheet'!AB70","v":"SI"},{"$f":"'Print WorkSheet'!AC70","v":"Sinshiemer Elem"},null,null,null,null,1,"BA","Baywood Elem",1,null,"BA","Baywood Elem"]
[null,null,null,null,null,null,null,null,null,null,null,null,{"$f":"'Print WorkSheet'!AB10","v":"BA"},{"$f":"'Print WorkSheet'!AC10","v":"Baywood Elem"},{"$f":"'Print WorkSheet'!AB4","v":"LMDO"},{"$f":"'Print WorkSheet'!AC4","v":"Lucia Mar DO"},{"$f":"'Print WorkSheet'!AB71","v":"SO"},{"$f":"'Print WorkSheet'!AC71","v":"San Benito Elem"},null,null,null,null,2,"BSF","Belvue Santa Fe Elem",2,null,"BSF","Belvue Santa Fe Elem"]
[null,null,null,null,null,null,null,null,null,null,null,null,{"$f":"'Print WorkSheet'!AB11","v":"BSF"},{"$f":"'Print WorkSheet'!AC11","v":"Belvue Santa Fe Elem"},{"$f":"'Print WorkSheet'!AB40","v":"LMS"},{"$f":"'Print WorkSheet'!AC40","v":"Daniel Lewis MS"},{"$f":"'Print WorkSheet'!AB97","v":"SL"},{"$f":"'Print WorkSheet'!AC97","v":"Santa Lucia Middle"},null,null,null,null,3,"BP","Bishop's Peak Elem",3,null,"BP","Bishop's Peak Elem"]
[null,null,null,null,null,null,null,null,null,null,null,null,{"$f":"'Print WorkSheet'!AB12","v":"BP"},{"$f":"'Print WorkSheet'!AC12","v":"Bishop's Peak Elem"},{"$f":"'Print WorkSheet'!AB41","v":"LOMS"},{"$f":"'Print WorkSheet'!AC41","v":"Los Osos MS"},{"$f":"'Print WorkSheet'!AB72","v":"SLCS"},{"$f":"'Print WorkSheet'!AC72","v":"SLO Community Sch"},null,null,null,null,19,"BR","Branch Elem",19,null,"BR","Branch Elem"]
[null,null,null,null,null,null,null,null,null,null,null,null,{"$f":"'Print WorkSheet'!AB13","v":"BR"},{"$f":"'Print WorkSheet'!AC13","v":"Branch Elem"},{"$f":"'Print WorkSheet'!AB42","v":"LR"},{"$f":"'Print WorkSheet'!AC42","v":"Los Ranchos Elem"},{"$f":"'Print WorkSheet'!AB73","v":"SLOHS"},{"$f":"'Print WorkSheet'!AC73","v":"San Luis Obispo HS"},null,null,null,null,11,"CLS","C.L. Smith Elem",11,null,{"$f":"+X15","v":"CA"},{"$f":"+Y15","v":"Cambria Grammar"}]
[null,null,null,null,null,null,null,null,null,null,null,null,{"$f":"'Print WorkSheet'!AB14","v":"CA"},{"$f":"'Print WorkSheet'!AC14","v":"Cambria Grammar"},{"$f":"'Print WorkSheet'!AB43","v":"LV"},{"$f":"'Print WorkSheet'!AC43","v":"Loma Vista CS"},{"$f":"'Print WorkSheet'!AB74","v":"SM"},{"$f":"'Print WorkSheet'!AC74","v":"Santa Margarita Elem"},null,null,null,null,34,"CA","Cambria Grammar",34,null,{"$f":"+X25","v":"CAA"},{"$f":"+Y25","v":"Culinary Arts Academy"}]
[null,null,null,null,null,null,null,null,null,null,null,null,{"$f":"'Print WorkSheet'!AB15","v":"CAA"},{"$f":"'Print WorkSheet'!AC15","v":"Culinary Arts Academy"},{"$f":"'Print WorkSheet'!AB44","v":"MBHS"},{"$f":"'Print WorkSheet'!AC44","v":"Morro Bay HS"},{"$f":"'Print WorkSheet'!AB75","v":"SN"},{"$f":"'Print WorkSheet'!AC75","v":"Shandon Elem"},null,null,null,null,64,"CC","Cappy Culver",64,null,{"$f":"+X16","v":"CC"},{"$f":"+Y16","v":"Cappy Culver"}]
[null,null,null,null,null,null,null,null,null,null,null,null,{"$f":"'Print WorkSheet'!AB24","v":"CAY"},{"$f":"'Print WorkSheet'!AC24","v":"Cayucos Elem"},{"$f":"'Print WorkSheet'!AB100","v":"MEP"},{"$f":"'Print WorkSheet'!AC100","v":"Migrant Ed Program"},{"$f":"'Print WorkSheet'!AB77","v":"SR"},{"$f":"'Print WorkSheet'!AC77","v":"Santa Rosa  Elem"},null,null,null,null,65,"NTHS","Central Coast New Tech HS",65,null,{"$f":"+X14","v":"CLS"},{"$f":"+Y14","v":"C.L. Smith Elem"}]
[null,null,null,null,null,null,null,null,null,null,null,null,{"$f":"'Print WorkSheet'!AB16","v":"CC"},{"$f":"'Print WorkSheet'!AC16","v":"Cappy Culver"},{"$f":"'Print WorkSheet'!AB46","v":"MG"},{"$f":"'Print WorkSheet'!AC46","v":"Monarch Grove Elem"},{"$f":"'Print WorkSheet'!AB78","v":"SSDO"},{"$f":"'Print WorkSheet'!AC78","v":"SLC DO/SS"},null,null,null,null,62,"CP","Carrisa Plains Elem",62,null,{"$f":"+X18","v":"CP"},{"$f":"+Y18","v":"Carrisa Plains Elem"}]
[null,null,null,null,null,null,null,null,null,null,null,null,{"$f":"'Print WorkSheet'!AB93","v":"CDO"},{"$f":"'Print WorkSheet'!AC93","v":"Coast Union DO"},{"$f":"'Print WorkSheet'!AB46","v":"MG"},{"$f":"'Print WorkSheet'!AC46","v":"Monarch Grove Elem"},{"$f":"'Print WorkSheet'!AB79","v":"SU"},{"$f":"'Print WorkSheet'!AC79","v":"Sunnyside Elem"},null,null,null,null,35,"CAY","Cayucos Elem",35,null,{"$f":"+X20","v":"PC"},{"$f":"+Y20","v":"Paloma Creek"}]
[null,null,null,null,null,null,null,null,null,null,null,null,{"$f":"'Print WorkSheet'!AB23","v":"CHS"},{"$f":"'Print WorkSheet'!AC23","v":"Coast Union HS"},{"$f":"'Print WorkSheet'!AB88","v":"MMS"},{"$f":"'Print WorkSheet'!AC88","v":"Mesa MS"},{"$f":"'Print WorkSheet'!AB80","v":"TDO"},{"$f":"'Print WorkSheet'!AC80","v":"Templeton DO"},null,null,null,null,66,"PC","Paloma Creek",66,null,{"$f":"+X21","v":"CJ"},{"$f":"+Y21","v":"Chris Jesperson"}]
[null,null,null,null,null,null,null,null,null,null,null,null,{"$f":"'Print WorkSheet'!AB17","v":"CLS"},{"$f":"'Print WorkSheet'!AC17","v":"C.L. Smith Elem"},{"$f":"'Print WorkSheet'!AB47","v":"MR"},{"$f":"'Print WorkSheet'!AC47","v":"Monterey Road Elem"},{"$f":"'Print WorkSheet'!AB81","v":"TE"},{"$f":"'Print WorkSheet'!AC81","v":"Teach Elem"},null,null,null,null,9,"CJ","Chris Jesperson",9,null,{"$f":"+X23","v":"COE"},{"$f":"+Y23","v":"County Offices"}]
[null,null,null,null,null,null,null,null,null,null,null,null,{"$f":"'Print WorkSheet'!AB18","v":"CP"},{"$f":"'Print WorkSheet'!AC18","v":"Carrisa Plains Elem"},{"$f":"'Print WorkSheet'!AB48","v":"MREC"},{"$f":"'Print WorkSheet'!AC48","v":"Morro Road Ed Ctr/SELPA"},{"$f":"'Print WorkSheet'!AB82","v":"THS"},{"$f":"'Print WorkSheet'!AC82","v":"Templeton HS"},null,null,null,null,87,"CHS","Coast Union HS",87,null,{"$f":"+X24","v":"CR"},{"$f":"+Y24","v":"Creston Elem"}]
[null,null,null,null,null,null,null,null,null,null,null,null,{"$f":"'Print WorkSheet'!AB20","v":"CJ"},{"$f":"'Print WorkSheet'!AC20","v":"Chris Jesperson"},{"$f":"'Print WorkSheet'!AB50","v":"LMIS"},{"$f":"'Print WorkSheet'!AC50","v":"Lucia Mar Ind Study"},{"$f":"'Print WorkSheet'!AB83","v":"TMS"},{"$f":"'Print WorkSheet'!AC83","v":"Templeton MS"},null,null,null,null,33,"COE","County Offices",33,null,{"$f":"+X22","v":"CHS"},{"$f":"+Y22","v":"Coast Union HS"}]
[null,null,null,null,null,null,null,null,null,null,null,null,{"$f":"'Print WorkSheet'!AB21","v":"COE"},{"$f":"'Print WorkSheet'!AC21","v":"County Offices"},{"$f":"'Print WorkSheet'!AB53","v":"NI"},{"$f":"'Print WorkSheet'!AC53","v":"Nipomo Elem"},{"$f":"'Print WorkSheet'!AB84","v":"VD"},{"$f":"'Print WorkSheet'!AC84","v":"Vineyard Elem"},null,null,null,null,63,"CR","Creston Elem",63,null,{"$f":"+X19","v":"CAY"},{"$f":"+Y19","v":"Cayucos Elem"}]
[null,null,null,null,null,null,null,null,null,null,null,null,{"$f":"'Print WorkSheet'!AB22","v":"CR"},{"$f":"'Print WorkSheet'!AC22","v":"Creston Elem"},{"$f":"'Print WorkSheet'!AB54","v":"NIHS"},{"$f":"'Print WorkSheet'!AC54","v":"Nipomo High School"},{"$f":"'Print WorkSheet'!AB85","v":"VI"},{"$f":"'Print WorkSheet'!AC85","v":"Vicente"},null,null,null,null,79,"CAA","Culinary Arts Academy",79,null,{"$f":"+X26","v":"DA"},{"$f":"+Y26","v":"Dana Elem"}]
[null,null,null,null,null,null,null,null,null,null,null,null,{"$f":"'Print WorkSheet'!AB24","v":"CAY"},{"$f":"'Print WorkSheet'!AC24","v":"Cayucos Elem"},{"$f":"'Print WorkSheet'!AB55","v":"NTHS"},{"$f":"'Print WorkSheet'!AC55","v":"Central Coast New Tech HS"},{"$f":"'Print WorkSheet'!AB86","v":"VP"},{"$f":"'Print WorkSheet'!AC86","v":"Virgina Peterson Elem"},null,null,null,null,20,"DA","Dana Elem",20,null,{"$f":"+X29","v":"DL"},{"$f":"+Y29","v":"Dorthea Lange"}]
[null,null,null,null,null,null,null,null,null,null,null,null,{"$f":"'Print WorkSheet'!AB25","v":"DA"},{"$f":"'Print WorkSheet'!AC25","v":"Dana Elem"},{"$f":"'Print WorkSheet'!AB56","v":"OC"},{"$f":"'Print WorkSheet'!AC56","v":"Oceano Elem"},{"$f":"'Print WorkSheet'!AB95","v":"WMA"},{"$f":"'Print WorkSheet'!AC95","v":"West Mall Alternative"},null,null,null,null,46,"LMS","Daniel Lewis MS",46,null,"FG","Fairgrove  Elem"]
[null,null,null,null,null,null,null,null,null,null,null,null,{"$f":"'Print WorkSheet'!AB93","v":"CDO"},{"$f":"'Print WorkSheet'!AC93","v":"Coast Union DO"},{"$f":"'Print WorkSheet'!AB57","v":"OEC"},{"$f":"'Print WorkSheet'!AC57","v":"Oeano Ed Ctr"},{"$f":"'Print WorkSheet'!AB87","v":"WP"},{"$f":"'Print WorkSheet'!AC87","v":"Winifred Pifer Elem"},null,null,null,null,4,"DM","Del Mar Elem",4,null,"FMS","George Flamson MS"]
[null,null,null,null,null,null,null,null,null,null,null,null,{"$f":"'Print WorkSheet'!AB26","v":"DL"},{"$f":"'Print WorkSheet'!AC26","v":"Dorthea Lange"},{"$f":"'Print WorkSheet'!AB58","v":"OV"},{"$f":"'Print WorkSheet'!AC58","v":"Ocean View Elem"},null,null,null,null,null,null,78,"DL","Dorthea Lange",78,null,"GB","Georgia Brown Elem"]
[null,null,null,null,null,null,null,null,null,null,null,null,{"$f":"'Print WorkSheet'!AB27","v":"FG"},{"$f":"'Print WorkSheet'!AC27","v":"Fairgrove  Elem"},{"$f":"'Print WorkSheet'!AB59","v":"PA"},{"$f":"'Print WorkSheet'!AC59","v":"Pacheco Elem"},null,null,null,null,null,null,25,"FG","Fairgrove  Elem",25,null,"GA","Grizzly Academy"]
[null,null,null,null,null,null,null,null,null,null,null,null,{"$f":"'Print WorkSheet'!AB28","v":"FMS"},{"$f":"'Print WorkSheet'!AC28","v":"George Flamson MS"},{"$f":"'Print WorkSheet'!AB60","v":"PB"},{"$f":"'Print WorkSheet'!AC60","v":"Pat Butler Elem"},null,null,null,null,null,null,45,"FMS","George Flamson MS",45,null,"GR","Grover Beach Elem"]
[null,null,null,null,null,null,null,null,null,null,null,null,{"$f":"'Print WorkSheet'!AB29","v":"GB"},{"$f":"'Print WorkSheet'!AC29","v":"Georgia Brown Elem"},{"$f":"'Print WorkSheet'!AB98","v":"PBH"},{"$f":"'Print WorkSheet'!AC98","v":"Pacific Beach High"},null,null,null,null,null,null,41,"GB","Georgia Brown Elem",41,null,"GH","Grover Heights Elem"]
[null,null,null,null,null,null,null,null,null,null,null,null,{"$f":"'Print WorkSheet'!AB30","v":"GA"},{"$f":"'Print WorkSheet'!AC30","v":"Grizzly Academy"},{"$f":"'Print WorkSheet'!AB19","v":"PC"},{"$f":"'Print WorkSheet'!AC19","v":"Paloma Creek"},null,null,null,null,null,null,54,"GA","Grizzly Academy",54,null,"HA","Harloe Elem"]
[null,null,null,null,null,null,null,null,null,null,null,null,{"$f":"'Print WorkSheet'!AB31","v":"GR"},{"$f":"'Print WorkSheet'!AC31","v":"Grover Beach Elem"},{"$f":"'Print WorkSheet'!AB61","v":"PD"},{"$f":"'Print WorkSheet'!AC61","v":"Parkfield Elem"},null,null,null,null,null,null,22,"GR","Grover Beach Elem",22,null,"HW","Hawthorne Elem"]
[null,null,null,null,null,null,null,null,null,null,null,null,{"$f":"'Print WorkSheet'!AB32","v":"GH"},{"$f":"'Print WorkSheet'!AC32","v":"Grover Heights Elem"},{"$f":"'Print WorkSheet'!AB62","v":"PMS"},{"$f":"'Print WorkSheet'!AC62","v":"Paulding MS"},null,null,null,null,null,null,21,"GH","Grover Heights Elem",21,null,"JMS","Judkins MS"]
[null,null,null,null,null,null,null,null,null,null,null,null,{"$f":"'Print WorkSheet'!AB33","v":"HA"},{"$f":"'Print WorkSheet'!AC33","v":"Harloe Elem"},{"$f":"'Print WorkSheet'!AB63","v":"PPS"},{"$f":"'Print WorkSheet'!AC63","v":"PPS Lucia Mar"},null,null,null,null,null,null,23,"HA","Harloe Elem",23,null,"JCS","Juvenile Court Sch"]
[null,null,null,null,null,null,null,null,null,null,null,null,{"$f":"'Print WorkSheet'!AB34","v":"HW"},{"$f":"'Print WorkSheet'!AC34","v":"Hawthorne Elem"},{"$f":"'Print WorkSheet'!AB64","v":"PRHS"},{"$f":"'Print WorkSheet'!AC64","v":"Paso Robles HS"},null,null,null,null,null,null,5,"HW","Hawthorne Elem",5,null,"KK","Kermit King Elem"]
[null,null,null,null,null,null,null,null,null,null,null,null,{"$f":"'Print WorkSheet'!AB35","v":"JMS"},{"$f":"'Print WorkSheet'!AC35","v":"Judkins MS"},{"$f":"'Print WorkSheet'!AB51","v":"PRIS"},{"$f":"'Print WorkSheet'!AC51","v":"Paso Robles Ind. Stdy."},null,null,null,null,null,null,29,"JMS","Judkins MS",29,null,"LAMS","Laguna MS"]
[null,null,null,null,null,null,null,null,null,null,null,null,{"$f":"'Print WorkSheet'!AB36","v":"JCS"},{"$f":"'Print WorkSheet'!AC36","v":"Juvenile Court Sch"},{"$f":"'Print WorkSheet'!AB65","v":"PRTC"},{"$f":"'Print WorkSheet'!AC65","v":"Paso Robles Tch Ctr"},null,null,null,null,null,null,49,"JCS","Juvenile Court Sch",49,null,"LL","Lillian Larsen"]
[null,null,null,null,null,null,null,null,null,null,null,null,null,null,null,null,null,null,null,null,null,null,68,"KK","Kermit King Elem",68,null,{"$f":"+X27","v":"LMS"},{"$f":"+Y27","v":"Daniel Lewis MS"}]
[null,null,null,null,null,null,null,null,null,null,null,null,null,null,null,null,null,null,null,null,null,null,15,"LAMS","Laguna MS",15,null,{"$f":"+X44","v":"LOMS"},{"$f":"+Y44","v":"Los Osos MS"}]
[null,null,null,null,null,null,null,null,null,null,null,null,null,null,null,null,null,null,null,null,null,null,48,"LL","Lillian Larsen",48,null,{"$f":"+X45","v":"LR"},{"$f":"+Y45","v":"Los Ranchos Elem"}]
[null,null,null,null,null,null,null,null,null,null,null,null,null,null,null,null,null,null,null,null,null,null,36,"LV","Loma Vista CS",36,null,{"$f":"+X43","v":"LV"},{"$f":"+Y43","v":"Loma Vista CS"}]
[null,null,null,null,null,null,null,null,null,null,null,null,null,null,null,null,null,null,null,null,null,null,16,"LOMS","Los Osos MS",16,null,{"$f":"+X51","v":"MBHS"},{"$f":"+Y51","v":"Morro Bay HS"}]
[null,null,null,null,null,null,null,null,null,null,null,null,null,null,null,null,null,null,null,null,null,null,6,"LR","Los Ranchos Elem",6,null,{"$f":"+X46","v":"MEC"},{"$f":"+Y46","v":"Meadowlark Ed Ctr"}]
[null,null,null,null,null,null,null,null,null,null,null,null,null,null,null,null,null,null,null,null,null,null,43,"MEC","Meadowlark Ed Ctr",43,null,{"$f":"+X49","v":"MG"},{"$f":"+Y49","v":"Monarch Grove Elem"}]
[null,null,null,null,null,null,null,null,null,null,null,null,null,null,null,null,null,null,null,null,null,null,31,"MMS","Mesa MS",31,null,{"$f":"+X50","v":"MR"},{"$f":"+Y50","v":"Monterey Road Elem"}]
[null,null,null,null,null,null,null,null,null,null,null,null,null,null,null,null,null,null,null,null,null,null,69,"LMIS","Lucia Mar Ind Study",69,null,{"$f":"+X52","v":"MREC"},{"$f":"+Y52","v":"Morro Road Ed Ctr/SELPA"}]
[null,null,null,null,null,null,null,null,null,null,null,null,null,null,null,null,null,null,null,null,null,null,8,"MG","Monarch Grove Elem",8,null,{"$f":"+X53","v":"MVCS"},{"$f":"+Y53","v":"Mountain View CS"}]
[null,null,null,null,null,null,null,null,null,null,null,null,null,null,null,null,null,null,null,null,null,null,55,"MR","Monterey Road Elem",55,null,{"$f":"+X48","v":"LMIS"},{"$f":"+Y48","v":"Lucia Mar Ind Study"}]
[null,null,null,null,null,null,null,null,null,null,null,null,null,null,null,null,null,null,null,null,null,null,17,"MBHS","Morro Bay HS",17,null,{"$f":"+X57","v":"PRIS"},{"$f":"+Y57","v":"Paso Robles Ind. Stdy."}]
[null,null,null,null,null,null,null,null,null,null,null,null,null,null,null,null,null,null,null,null,null,null,7,"MREC","Morro Road Ed Ctr/SELPA",7,null,{"$f":"+X55","v":"LCS"},{"$f":"+Y55","v":"Lopez Cont./Adult Sch."}]
[null,null,null,null,null,null,null,null,null,null,null,null,null,null,null,null,null,null,null,null,null,null,54,"MVCS","Mountain View CS",54,null,{"$f":"+X54","v":"NI"},{"$f":"+Y54","v":"Nipomo Elem"}]
[null,null,null,null,null,null,null,null,null,null,null,null,null,null,null,null,null,null,null,null,null,null,24,"NI","Nipomo Elem",24,null,{"$f":"+X56","v":"NIHS"},{"$f":"+Y56","v":"Nipomo High School"}]
[null,null,null,null,null,null,null,null,null,null,null,null,null,null,null,null,null,null,null,null,null,null,69,"LCS","Lopez Cont./Adult Sch.",69,null,{"$f":"+X17","v":"NTHS"},{"$f":"+Y17","v":"Central Coast New Tech HS"}]
[null,null,null,null,null,null,null,null,null,null,null,null,null,null,null,null,null,null,null,null,null,null,65,"NIHS","Nipomo High School",65,null,{"$f":"+X59","v":"OC"},{"$f":"+Y59","v":"Oceano Elem"}]
[null,null,null,null,null,null,null,null,null,null,null,null,null,null,null,null,null,null,null,null,null,null,72,"PRIS","Paso Robles Ind. Stdy.",72,null,{"$f":"+X60","v":"OEC"},{"$f":"+Y60","v":"Oeano Ed Ctr"}]
[null,null,null,null,null,null,null,null,null,null,null,null,null,null,null,null,null,null,null,null,null,null,27,"OV","Ocean View Elem",27,null,{"$f":"+X58","v":"OV"},{"$f":"+Y58","v":"Ocean View Elem"}]
[null,null,null,null,null,null,null,null,null,null,null,null,null,null,null,null,null,null,null,null,null,null,26,"OC","Oceano Elem",26,null,{"$f":"+X61","v":"PA"},{"$f":"+Y61","v":"Pacheco Elem"}]
[null,null,null,null,null,null,null,null,null,null,null,null,null,null,null,null,null,null,null,null,null,null,26,"OEC","Oeano Ed Ctr",26,null,{"$f":"+X66","v":"PB"},{"$f":"+Y66","v":"Pat Butler Elem"}]
[null,null,null,null,null,null,null,null,null,null,null,null,null,null,null,null,null,null,null,null,null,null,81,"PA","Pacheco Elem",81,null,{"$f":"+X62","v":"PD"},{"$f":"+Y62","v":"Parkfield Elem"}]
[null,null,null,null,null,null,null,null,null,null,null,null,null,null,null,null,null,null,null,null,null,null,39,"PD","Parkfield Elem",39,null,{"$f":"+X67","v":"PMS"},{"$f":"+Y67","v":"Paulding MS"}]
[null,null,null,null,null,null,null,null,null,null,null,null,null,null,null,null,null,null,null,null,null,null,47,"PR","Paso Robles DO",47,null,{"$f":"+X69","v":"PPS"},{"$f":"+Y69","v":"PPS Lucia Mar"}]
[null,null,null,null,null,null,null,null,null,null,null,null,null,null,null,null,null,null,null,null,null,null,47,"PRHS","Paso Robles HS",47,null,{"$f":"+X64","v":"PRHS"},{"$f":"+Y64","v":"Paso Robles HS"}]
[null,null,null,null,null,null,null,null,null,null,null,null,null,null,null,null,null,null,null,null,null,null,79,"PRTC","Paso Robles Tch Ctr",79,null,{"$f":"+X65","v":"PRTC"},{"$f":"+Y65","v":"Paso Robles Tch Ctr"}]
[null,null,null,null,null,null,null,null,null,null,null,null,null,null,null,null,null,null,null,null,null,null,42,"PB","Pat Butler Elem",42,null,{"$f":"+X68","v":"PV"},{"$f":"+Y68","v":"Pleasant Valley"}]
[null,null,null,null,null,null,null,null,null,null,null,null,null,null,null,null,null,null,null,null,null,null,30,"PMS","Paulding MS",30,null,{"$f":"+X78","v":"SB"},{"$f":"+Y78","v":"Shell Beach Elem"}]
[null,null,null,null,null,null,null,null,null,null,null,null,null,null,null,null,null,null,null,null,null,null,67,"PV","Pleasant Valley",67,null,{"$f":"+X71","v":"SG"},{"$f":"+Y71","v":"San Gabriel Elem"}]
[null,null,null,null,null,null,null,null,null,null,null,null,null,null,null,null,null,null,null,null,null,null,32,"PPS","PPS Lucia Mar",32,null,{"$f":"+X77","v":"SHS"},{"$f":"+Y77","v":"Shandon HS"}]
[null,null,null,null,null,null,null,null,null,null,null,null,null,null,null,null,null,null,null,null,null,null,56,"SO","San Benito Elem",56,null,{"$f":"+X79","v":"SI"},{"$f":"+Y79","v":"Sinshiemer Elem"}]
[null,null,null,null,null,null,null,null,null,null,null,null,null,null,null,null,null,null,null,null,null,null,57,"SG","San Gabriel Elem",57,null,{"$f":"+X70","v":"SO"},{"$f":"+Y70","v":"San Benito Elem"}]
[null,null,null,null,null,null,null,null,null,null,null,null,null,null,null,null,null,null,null,null,null,null,18,"SLOHS","San Luis Obispo HS",18,null,{"$f":"+X80","v":"SLCS"},{"$f":"+Y80","v":"SLO Community Sch"}]
[null,null,null,null,null,null,null,null,null,null,null,null,null,null,null,null,null,null,null,null,null,null,58,"SM","Santa Margarita Elem",58,null,{"$f":"+X72","v":"SLOHS"},{"$f":"+Y72","v":"San Luis Obispo HS"}]
[null,null,null,null,null,null,null,null,null,null,null,null,null,null,null,null,null,null,null,null,null,null,59,"SR","Santa Rosa  Elem",59,null,{"$f":"+X73","v":"SM"},{"$f":"+Y73","v":"Santa Margarita Elem"}]
[null,null,null,null,null,null,null,null,null,null,null,null,null,null,null,null,null,null,null,null,null,null,37,"SN","Shandon Elem",37,null,{"$f":"+X75","v":"SN"},{"$f":"+Y75","v":"Shandon Elem"}]
[null,null,null,null,null,null,null,null,null,null,null,null,null,null,null,null,null,null,null,null,null,null,38,"SNDO","Shandon DO",38,null,{"$f":"+X76","v":"SNDO"},{"$f":"+Y76","v":"Shandon DO"}]
[null,null,null,null,null,null,null,null,null,null,null,null,null,null,null,null,null,null,null,null,null,null,38,"SHS","Shandon HS",38,null,{"$f":"+X74","v":"SR"},{"$f":"+Y74","v":"Santa Rosa  Elem"}]
[null,null,null,null,null,null,null,null,null,null,null,null,null,null,null,null,null,null,null,null,null,null,28,"SB","Shell Beach Elem",28,null,{"$f":"+X81","v":"SSDO"},{"$f":"+Y81","v":"SLC DO/SS"}]
[null,null,null,null,null,null,null,null,null,null,null,null,null,null,null,null,null,null,null,null,null,null,10,"SI","Sinshiemer Elem",10,null,{"$f":"+X82","v":"SU"},{"$f":"+Y82","v":"Sunnyside Elem"}]
[null,null,null,null,null,null,null,null,null,null,null,null,null,null,null,null,null,null,null,null,null,null,71,"SLCS","SLO Community Sch",71,null,{"$f":"+X84","v":"TDO"},{"$f":"+Y84","v":"Templeton DO"}]
[null,null,null,null,null,null,null,null,null,null,null,null,null,null,null,null,null,null,null,null,null,null,18,"SSDO","SLC DO/SS",18,null,{"$f":"+X83","v":"TE"},{"$f":"+Y83","v":"Teach Elem"}]
[null,null,null,null,null,null,null,null,null,null,null,null,null,null,null,null,null,null,null,null,null,null,12,"SU","Sunnyside Elem",12,null,{"$f":"+X85","v":"THS"},{"$f":"+Y85","v":"Templeton HS"}]
[null,null,null,null,null,null,null,null,null,null,null,null,null,null,null,null,null,null,null,null,null,null,13,"TE","Teach Elem",13,null,{"$f":"+X86","v":"TMS"},{"$f":"+Y86","v":"Templeton MS"}]
[null,null,null,null,null,null,null,null,null,null,null,null,null,null,null,null,null,null,null,null,null,null,50,"TDO","Templeton DO",50,null,{"$f":"+X88","v":"VD"},{"$f":"+Y88","v":"Vineyard Elem"}]
[null,null,null,null,null,null,null,null,null,null,null,null,null,null,null,null,null,null,null,null,null,null,53,"THS","Templeton HS",53,null,{"$f":"+X87","v":"VI"},{"$f":"+Y87","v":"Vicente"}]
[null,null,null,null,null,null,null,null,null,null,null,null,null,null,null,null,null,null,null,null,null,null,52,"TMS","Templeton MS",52,null,{"$f":"+X89","v":"VP"},{"$f":"+Y89","v":"Virgina Peterson Elem"}]
[null,null,null,null,null,null,null,null,null,null,null,null,null,null,null,null,null,null,null,null,null,null,14,"VI","Vicente",14,null,"WP","Winifred Pifer Elem"]
[null,null,null,null,null,null,null,null,null,null,null,null,null,null,null,null,null,null,null,null,null,null,51,"VD","Vineyard Elem",51,null,{"$f":"+X47","v":"MMS"},{"$f":"+Y47","v":"Mesa MS"}]
[null,null,null,null,null,null,null,null,null,null,null,null,null,null,null,null,null,null,null,null,null,null,43,"VP","Virgina Peterson Elem",43,null,{"$f":"+X102","v":0},{"$f":"+Y102","v":0}]
[null,null,null,null,null,null,null,null,null,null,null,null,null,null,null,null,null,null,null,null,null,null,44,"WP","Winifred Pifer Elem",44,null,0,0]
[null,null,null,null,null,null,null,null,null,null,null,null,null,null,null,null,null,null,null,null,null,null,73,null,null,73,null,0,0]
[null,null,null,null,null,null,null,null,null,null,null,null,null,null,null,null,null,null,null,null,null,null,74,{"$f":"+'Mileage Log'!M50","v":0},{"$f":"+'Mileage Log'!N50","v":0},74,null,0,0]
[null,null,null,null,null,null,null,null,null,null,null,null,null,null,null,null,null,null,null,null,null,null,75,{"$f":"+'Mileage Log'!M51","v":0},{"$f":"+'Mileage Log'!N51","v":0},75,null,{"$f":"+X96","v":"CDO"},{"$f":"+Y96","v":"Coast Union DO"}]
[null,null,null,null,null,null,null,null,null,null,null,null,null,null,null,null,null,null,null,null,null,null,76,{"$f":"+'Mileage Log'!M52","v":0},{"$f":"+'Mileage Log'!N52","v":0},76,null,"DRO","Del Rio Continuation"]
[null,null,null,null,null,null,null,null,null,null,null,null,null,null,null,null,null,null,null,null,null,null,77,{"$f":"+'Mileage Log'!M53","v":0},{"$f":"+'Mileage Log'!N53","v":0},77,null,"WMA","West Mall Alternative"]
[null,null,null,null,null,null,null,null,null,null,null,null,null,null,null,null,null,null,null,null,null,null,80,"CDO","Coast Union DO",80,null,"LHS","Leffingwell High"]
[null,null,null,null,null,null,null,null,null,null,null,null,null,null,null,null,null,null,null,null,null,null,82,"DRO","Del Rio Continuation",82,null,"SL","Santa Lucia Middle"]
[null,null,null,null,null,null,null,null,null,null,null,null,null,null,null,null,null,null,null,null,null,null,83,"WMA","West Mall Alternative",83,null,"PBH","Pacific Beach High"]
[null,null,null,null,null,null,null,null,null,null,null,null,null,null,null,null,null,null,null,null,null,null,84,"LHS","Leffingwell High",84,null,0,0]
[null,null,null,null,null,null,null,null,null,null,null,null,null,null,null,null,null,null,null,null,null,null,85,"SL","Santa Lucia Middle",85,null,"MEP","Migrant Ed Program"]
[null,null,null,null,null,null,null,null,null,null,null,null,null,null,null,null,null,null,null,null,null,null,86,"PBH","Pacific Beach High",86,null,"New 17",0]
[null,null,null,null,null,null,null,null,null,null,null,null,null,null,null,null,null,null,null,null,null,null,87,0,0,87,null,"New 18",0]
[null,null,null,null,null,null,null,null,null,null,null,null,null,null,null,null,null,null,null,null,null,null,88,"MEP","Migrant Ed Program",88,null,"New 19",0]
[null,null,null,null,null,null,null,null,null,null,null,null,null,null,null,null,null,null,null,null,null,null,89,"New 17",null,89,null,"New 20",0]
[null,null,null,null,null,null,null,null,null,null,null,null,null,null,null,null,null,null,null,null,null,null,90,"New 18",null,90,null,"New 21",0]
[null,null,null,null,null,null,null,null,null,null,null,null,null,null,null,null,null,null,null,null,null,null,91,"New 19",null,91,null,"New 22",0]
[null,null,null,null,null,null,null,null,null,null,null,null,null,null,null,null,null,null,null,null,null,null,92,"New 20",null,92,null,"New 23",0]
[null,null,null,null,null,null,null,null,null,null,null,null,null,null,null,null,null,null,null,null,null,null,93,"New 21",null,93,null,"New 24",0]
[null,null,null,null,null,null,null,null,null,null,null,null,null,null,null,null,null,null,null,null,null,null,94,"New 22",null,94]
[null,null,null,null,null,null,null,null,null,null,null,null,null,null,null,null,null,null,null,null,null,null,95,"New 23",null,95]
[null,null,null,null,null,null,null,null,null,null,null,null,null,null,null,null,null,null,null,null,null,null,96,"New 24",null,96]
[null,null,null,null,null,null,null,null,null,null,null,null,null,null,null,null,null,null,null,null,null,null,97,"New 25",null,97]
[null,null,null,null,null,null,null,null,null,null,null,null,null,null,null,null,null,null,null,null,null,null,98,"New 26",null,98]
[null,null,null,null,null,null,null,null,null,null,null,null,null,null,null,null,null,null,null,null,null,null,99,"New 27",null,99]
[null,null,null,null,null,null,null,null,null,null,null,null,null,null,null,null,null,null,null,null,null,null,100,"New 28",null,100]

{"sheet":"Print Matrix","index":2,"n_rows":102,"n_cols":101,"rows_kept":102,"cut":false,"hidden":false,"merged":[]}
[null,null,null,"© 2019 San Luis Obispo County Office of Education - Revised 04/2019",null,null,null,null,null,null,null,null,null,null,null,null,null,null,null,null,null,null,null,null,null,null,null,null,null,null,null,null,null,null,null,null,null,null,null,null,null,null,null,null,null,null,null,null,null,null,null,null,null,null,null,null,null,null,null,null,null,null,null,null,null,null,null,null,null,null,null,null,"Lopez",null,"PR Ind.",null,null,null,null,null,"Dorthea","Paso","Coast","Pacheco","Del Rio","West ","Leffingwell","S Lucia","Pacific","Coast","Migrant"]
[null,null,null,null,null,null,null,null,null,null,null,null,null,null,null,null,null,null,null,null,null,null,null,null,null,null,null,null,null,null,null,null,null,null,null,null,null,null,null,null,null,null,null,null,null,null,null,null,null,null,null,null,null,null,null,null,null,null,null,null,null,null,null,null,null,null,null,null,null,null,null,"Lucia Mar IS","Cont. Sch",null,"Study",null,null,null,null,null,"Lange","Culinary","DO","Elem.","Cont.","Mall Alt.","HS","MS","Bch HS","U. HS","Ed. Pro"]
[null,null,null,1,2,3,4,5,6,7,8,9,10,11,12,13,14,15,16,17,18,19,20,21,22,23,24,25,26,27,28,29,30,31,32,33,34,35,36,37,38,39,40,41,42,43,44,45,46,47,48,49,50,51,52,53,54,55,56,57,58,59,60,61,62,63,64,65,66,67,68,69,70,71,72,73,74,75,76,77,78,79,80,81,82,83,84,85,86,87,88,89,90,91,92,93,94,95,96]
[null,null,null,{"$f":"+C5","v":"BA"},{"$f":"+C6","v":"BSF"},{"$f":"+C7","v":"BP"},{"$f":"+C8","v":"DM"},{"$f":"+C9","v":"HW"},{"$f":"+C10","v":"LR"},{"$f":"+C11","v":"MREC"},{"$f":"+C12","v":"MG"},{"$f":"+C13","v":"CJ"},{"$f":"+C14","v":"SI"},{"$f":"+C15","v":"CLS"},0,{"$f":"+C17","v":"TE"},{"$f":"+C18","v":"VI"},{"$f":"+C19","v":"LAMS"},{"$f":"+C20","v":"LOMS"},{"$f":"+C21","v":"MBHS"},{"$f":"+C22","v":"SLOHS"},{"$f":"+C23","v":"BR"},{"$f":"+C24","v":"DA"},{"$f":"+C25","v":"GH"},{"$f":"+C26","v":"GR"},{"$f":"+C27","v":"HA"},{"$f":"+C28","v":"NI"},{"$f":"+C29","v":"FG"},{"$f":"+C30","v":"OC"},{"$f":"+C31","v":"OV"},{"$f":"+C32","v":"SB"},{"$f":"+C33","v":"JMS"},{"$f":"+C34","v":"PMS"},{"$f":"+C35","v":"MMS"},{"$f":"+C36","v":"AGHS"},{"$f":"+C37","v":"COE"},{"$f":"+C38","v":"CA"},{"$f":"+C39","v":"CAY"},{"$f":"+C40","v":"LV"},{"$f":"+C41","v":"SN"},{"$f":"+C42","v":"SHS"},{"$f":"+C43","v":"PD"},{"$f":"+C44","v":"BS"},{"$f":"+C45","v":"GB"},{"$f":"+C46","v":"PB"},{"$f":"+C47","v":"VP"},{"$f":"+C48","v":"WP"},{"$f":"+C49","v":"FMS"},{"$f":"+C50","v":"LMS"},{"$f":"+C51","v":"PRHS"},{"$f":"+C52","v":"LL"},{"$f":"+C53","v":"JSC"},{"$f":"+C54","v":"TM"},{"$f":"+C55","v":"VD"},{"$f":"+C56","v":"TMS"},{"$f":"+C57","v":"THS"},{"$f":"+C58","v":"GA"},{"$f":"+C59","v":"MR"},{"$f":"+C60","v":"SO"},{"$f":"+C61","v":"SG"},{"$f":"+C62","v":"SM"},{"$f":"+C63","v":"SR"},{"$f":"+C64","v":"AMS"},{"$f":"+C65","v":"ATHS"},{"$f":"+C66","v":"CP"},{"$f":"+C67","v":"CR"},{"$f":"+C68","v":"CC"},{"$f":"+C69","v":"NIHS"},"PC",{"$f":"+C71","v":"PV"},{"$f":"+C72","v":"KK"},{"$f":"+C73","v":"LMIS"},{"$f":"+C74","v":"LCS"},0,{"$f":"+C76","v":"PRIS"},0,0,0,0,0,{"$f":"+C82","v":"DL"},{"$f":"+C83","v":"CAA"},{"$f":"+C84","v":"CDO"},{"$f":"+C85","v":"PA"},{"$f":"+C86","v":"DRO"},{"$f":"+C87","v":"WMA"},{"$f":"+C88","v":"LHS"},{"$f":"+C89","v":"SLM"},{"$f":"+C90","v":"PBH"},{"$f":"+C91","v":"CHS"},{"$f":"+C92","v":"MEP"},{"$f":"+C93","v":"New 17"},{"$f":"+C94","v":"New 18"},{"$f":"+C95","v":"New 19"},{"$f":"+C96","v":"New 20"},{"$f":"+C97","v":"New 21"},{"$f":"+C98","v":"New 22"},{"$f":"+C99","v":"New 23"},{"$f":"+C100","v":"New 24"}]
["Baywood",1,"BA",0,16.100000000000001,11.1,6.8,12.7,16.100000000000001,20.6,1.9,14.2,14.2,10.7,0,12.7,12.9,10.1,1.2,5.7,13,28.2,33.6,23.1,23.8,24.6,32.9,24.6,25,24.3,18.2,20.8,25,27.3,24.8,8.6,24.1,11.5,9.6999999999999993,45.9,46.1,65.5,33.299999999999997,35.700000000000003,33.200000000000003,34.9,33.9,34.6,34,33.1,42.3,10.4,27.2,25.9,27,27,9.8000000000000007,23.1,24.5,20.2,22.7,21.1,21.8,21.5,63.7,33.1,48.9,31.9,22.4,43,35.5,28,27.9,0,33,0,0,0,0,0,35.299999999999997,34.9,26.3,11.3,25.1,25.1,25.3,24.7,10.8,25.7,39,null,null,null,null,null,null,null,null,{"$f":"+C5","v":"BA"},1]
["Belvue Santa Fe",2,"BSF",{"$f":"TRANSPOSE(E5:CU5)","v":16.100000000000001},0,10,22.8,7.3,9,24.2,15.7,8.9,10.1,6.4,0,9,8.8000000000000007,6.3,15.7,21.6,8.9,14.1,19.399999999999999,9,9.6999999999999993,10.5,18.7,10.5,10.9,10.199999999999999,4,6.6,10.9,13.2,10.7,14.1,40.1,27.5,15.3,54.7,54.5,68.2,36,38.4,35.9,37.6,36.6,37.299999999999997,36.700000000000003,35.9,45,12.1,29.9,31,29.7,29.7,13.3,26.3,28,23.9,18.5,23.1,25,25.7,59.4,35.9,51.6,17.7,22.1,45.8,38.200000000000003,13.8,14,0,35.700000000000003,{"$f":"+$BX$5","v":0},{"$f":"+$BY$5","v":0},{"$f":"+$BZ$5","v":0},{"$f":"+$CA$5","v":0},{"$f":"+$CB$5","v":0},21.3,37.6,42.3,9.5,27.8,21.6,41.3,40.700000000000003,5.5,41.6,25.9,null,null,null,null,null,null,null,null,"BSF",2]
["Bishop's Peak",3,"BP",11.1,{"$f":"TRANSPOSE(F6:CU6)","v":10},0,14.5,3.5,7.2,18,10.6,2.2999999999999998,3.8,4.4000000000000004,0,2.2000000000000002,2.4,3.8,10.6,13.3,2.6,16,26.7,16.3,17,17.8,26,17.7,18.2,17.5,11.3,13.9,18.2,20.5,18,5.8,31.8,19.100000000000001,6.9,48.5,48.3,62,29.8,32.200000000000003,29.7,31.8,30.4,31.1,30.5,29.7,38.799999999999997,4.2,23.7,24.8,23.5,23.5,5,20.100000000000001,21.8,17.7,12.3,16.899999999999999,18.8,19.5,53.2,29.7,45.4,25,15.9,39.6,32,21.8,21.8,0,29.5,0,0,0,0,0,29.2,31.3,33.9,0.9,21.6,21.5,32.9,32.299999999999997,4.5,33.299999999999997,33.700000000000003,null,null,null,null,null,null,null,null,"BP",3]
["Del Mar",4,"DM",6.8,22.8,{"$f":"TRANSPOSE(G7:CU7)","v":14.5},0,16.7,22.6,16.3,8.8000000000000007,15.2,16.7,16.5,0,15.1,15.3,15.9,6.5,1.4,15.5,28.9,39.9,29.5,30.2,31,39.200000000000003,31,31.4,30.7,24.5,27.1,31.4,33.700000000000003,31.2,8.9,17.899999999999999,5.3,10,41.1,47.5,61.2,25.6,31.4,28.9,29,29.6,30.3,29.7,28.8,38,10.7,22.9,19.600000000000001,22.7,22.7,10.1,18.8,19.7,15.3,25.2,16.2,17.5,17.2,62.3,28.7,44.6,38.200000000000003,18.100000000000001,38.799999999999997,31.2,34.9,34.700000000000003,0,28.6,0,0,0,0,0,42,30.5,20,14.2,20.2,20.2,19.100000000000001,18.399999999999999,16.600000000000001,19.399999999999999,46.6,null,null,null,null,null,null,null,null,"DM",4]
["Hawthorne",5,"HW",12.7,7.3,3.5,{"$f":"TRANSPOSE(H8:CU8)","v":16.7},0,4.3,18.3,12.3,2.9,2,2.2000000000000002,0,3.1,1.4,2.9,12.3,14.9,1.3,13.2,25.3,14.8,15.5,16.399999999999999,24.6,16.3,16.7,16.100000000000001,9.9,12.5,12,19,16.5,7.4,33.4,20.8,8.5,48.7,48.6,62.3,30.1,32.5,29.9,31.7,30.7,31.3,30.7,29.9,39.1,6.5,23.9,25.1,23.8,23.8,6.6,20.399999999999999,22.1,18,12.6,17.100000000000001,19.100000000000001,19.8,53.5,30,45.6,23.6,16.2,39.299999999999997,32.299999999999997,19.899999999999999,19.2,0,30.1,0,0,0,0,0,26.5,31.9,36.1,3.1,22.1,22.1,35.200000000000003,34.5,2.5,35.5,31.1,null,null,null,null,null,null,null,null,"HW",5]
["Los Ranchos",6,"LR",16.100000000000001,9,7.2,22.6,{"$f":"TRANSPOSE(I9:CU9)","v":4.3},0,24.3,15.7,9,4.4000000000000004,6.4,0,9.1999999999999993,5.4,6.3,15.7,18.899999999999999,5.3,10.199999999999999,20.100000000000001,9.6999999999999993,9.6,11.2,19.399999999999999,10.3,8.9,9.9,11,7.3,8.6,13.9,11.4,11.4,37.4,24.8,12.5,54.8,54.7,68.400000000000006,36.200000000000003,38.6,36,37.700000000000003,36.799999999999997,37.4,36.799999999999997,36,45.2,12.2,30,35.5,29.8,29.9,10.6,26.4,28.1,24.1,18.600000000000001,23.3,25.2,25.8,59.6,36.1,51.7,18.399999999999999,22.2,45.9,38.4,15.2,14.4,0,35.9,0,0,0,0,0,21.9,37.700000000000003,41.9,6.8,26.5,27.9,41.1,40.4,5.5,41.4,26.5,null,null,null,null,null,null,null,null,"LR",6]
["Morro Road Ed Ctr",7,"MREC",20.6,24.2,18,16.3,18.3,{"$f":"TRANSPOSE(J10:CU10)","v":24.3},0,22.6,15.9,17.5,19.2,0,15.9,16.100000000000001,19.8,20.3,15.1,16.2,29.7,41.6,31.1,31.8,32.700000000000003,40.9,32.6,33,32.4,26.2,28.8,33,35.299999999999997,32.799999999999997,22.2,29,21,23.3,31.4,31.2,49.5,12.7,15.1,12.6,14.3,13.3,14,13.4,12.5,21.7,20.6,6.6,7.7,6.4,6.4,21.4,3.2,3.9,1.3,8.6,1.1000000000000001,1.2,0.9,46,12.4,28.1,39.9,2.4,22.3,14.8,36.6,36.1,0,12.3,0,0,0,0,0,43.4,14.2,30.9,17.600000000000001,4.3,4.3,29.9,29.3,19.399999999999999,30.3,48,null,null,null,null,null,null,null,null,"MREC",7]
["Monarch Grove",8,"MG",1.9,15.7,10.6,8.8000000000000007,12.3,15.7,{"$f":"TRANSPOSE(K11:CU11)","v":22.6},0,12.3,13.8,10.3,0,12.2,12.4,9.6999999999999993,2.6,7.7,12.6,25,33.1,22.7,23.4,24.2,32.4,24.1,24.6,23.9,17.7,20.3,24.6,26.9,24.4,10.6,26.2,13.5,11.7,47.9,48.2,72.2,35.299999999999997,37.700000000000003,35.200000000000003,36.9,40.5,36.1,40.5,39.700000000000003,49.1,12.5,33.700000000000003,27.9,33.5,33.5,11.8,25.2,31.8,22.2,22.3,23.1,23.9,23.6,63.3,35.1,54.5,31.4,25.9,44.9,37.1,28.3,27.6,0,34.9,0,0,0,0,0,15.4,36.799999999999997,28.2,10.9,27,27,27.3,26.6,10.3,27.6,39.5,null,null,null,null,null,null,null,null,"MG",8]
["Chris Jesperson",9,"CJ",14.2,8.9,2.2999999999999998,15.2,2.9,9,15.9,{"$f":"TRANSPOSE(L12:CU12)","v":12.3},0,2.2000000000000002,3.7,0,0.3,0.9,4.4000000000000004,13.8,14.2,1,14.4,26.2,15.7,16.399999999999999,17.2,25.5,17.2,17.600000000000001,16.899999999999999,10.8,13.4,17.600000000000001,19.899999999999999,17.399999999999999,6.7,32.700000000000003,20.100000000000001,7.9,46.6,46.5,60.2,27.9,30.3,27.8,29.5,28.6,29.2,28.6,27.8,37,5.0999999999999996,21.8,23,21.6,21.6,5.9,18.2,19.2,15.9,10.4,15,17,16.899999999999999,51.4,27.9,43.5,24.5,14,37.700000000000003,29.3,21.2,20.7,0,27.5,0,0,0,0,0,27.9,30.5,34.799999999999997,2.1,19.600000000000001,19.600000000000001,33.9,33,4.7,34.200000000000003,32.6,null,null,null,null,null,null,null,null,"CJ",9]
["Sinshiemer",10,"SI",14.2,10.1,3.8,16.7,2,4.4000000000000004,17.5,13.8,{"$f":"TRANSPOSE(M13:CV13)","v":2.2000000000000002},0,4,0,2.5,1.4,4.7,13.8,15.5,1.2,12.5,23.7,13.2,13.2,14.8,23,13.9,14.4,13.4,12.4,10.9,12.2,17.5,15,8,34,21.4,9.1,47.9,47.8,66.099999999999994,29.3,31.7,29.1,30.8,29.9,30.5,29.9,29.1,38.299999999999997,6.4,23.1,24.3,23,23,7.2,19.5,21.2,17.2,11.7,16.3,18.3,18.899999999999999,52.7,29.2,44.8,22,15.3,39.1,31.5,18.8,18.3,0,29.1,0,0,0,0,0,25.5,31,36.1,3.4,21.2,21.1,35.200000000000003,34.5,4.3,35.5,33.700000000000003,null,null,null,null,null,null,null,null,"SI",10]
["CLSmith",11,"CLS",10.7,6.4,4.4000000000000004,16.5,2.2000000000000002,6.4,19.2,10.3,3.7,{"$f":"TRANSPOSE(N14:CW14)","v":4},0,0,4,3.7,0.8,10.3,15.3,3.8,19.2,24.6,14.2,14.9,15.7,23.9,15.6,16.100000000000001,15.4,9.1999999999999993,11.8,16.100000000000001,18.399999999999999,15.9,9.1,33.799999999999997,21.2,10.199999999999999,49.6,49.5,63.2,30.9,33.299999999999997,30.8,32.5,31.6,32.200000000000003,31.6,30.8,40,7.2,24.6,26,24.6,24.6,8.3000000000000007,21.2,22.9,18.899999999999999,13.4,18,20,20.6,54.4,28.5,46.5,22.9,17,40.700000000000003,33.200000000000003,18.899999999999999,18.3,0,30.8,0,0,0,0,0,25.7,32.700000000000003,35.799999999999997,4.7,22.9,22.9,34.9,34.299999999999997,1.1000000000000001,35.299999999999997,30.2,null,null,null,null,null,null,null,null,"CLS",11]
[null,12,0,0,0,0,0,0,0,0,0,0,0,{"$f":"TRANSPOSE(O15:CX15)","v":0},0,0,0,0,0,0,0,0,0,0,0,0,0,0,0,0,0,0,0,0,0,0,0,0,0,0,0,0,0,0,0,0,0,0,0,0,0,0,0,0,0,0,0,0,0,0,0,0,0,0,0,0,0,0,0,0,0,0,0,0,0,0,0,0,0,0,0,0,0,0,0,0,0,0,0,0,0,null,null,null,null,null,null,null,null,0,12]
["Teach",13,"TE",12.7,9,2.2000000000000002,15.1,3.1,9.1999999999999993,15.9,12.2,0.3,2.5,4,{"$f":"TRANSPOSE(P16:CY16)","v":0},0,0.9,4.4000000000000004,13.8,14.3,1.1000000000000001,14.5,26.2,15.8,16.5,17.3,25.5,17.2,17.7,17,10.8,13.4,17.7,20,17.5,6.8,32.799999999999997,20.2,7.9,46.7,46.5,60.2,28,30.4,27.9,29.6,28.6,29.3,28.7,27.8,37,4.8,21.9,23,21.7,21.7,6,18.3,20,15.9,10.5,15,17,17.7,51.4,25.6,43.6,24.5,14.1,37.799999999999997,30.2,21.8,20.9,0,27.6,0,0,0,0,0,28.2,29.4,34.5,1.8,19.600000000000001,19.600000000000001,33.6,32.9,4.2,33.9,32.799999999999997,null,null,null,null,null,null,null,null,"TE",13]
["Vicente Elementary",14,"VI",12.9,8.8000000000000007,2.4,15.3,1.4,5.4,16.100000000000001,12.4,0.9,1.4,3.7,0,{"$f":"TRANSPOSE(Q17:CZ17)","v":0.9},0,4.5999999999999996,12.4,14.1,0.1,13.6,26.4,15.9,16.600000000000001,17.5,25.7,17.399999999999999,17.8,17.2,11,13.6,17.8,20.2,17.7,6.6,32.6,20,7.7,46.6,46.4,60.1,27.9,30.3,27.8,29.5,28.5,29.2,28.5,27.7,36.9,5,21.8,22.9,21.6,21.6,5.8,18.2,19.899999999999999,15.8,10.4,14.9,16.899999999999999,17.600000000000001,51.3,25.5,43.4,24.7,14,37.700000000000003,30.1,18.600000000000001,20.6,0,27.8,0,0,0,0,0,28,29.6,34.700000000000003,2,19.8,19.8,33.799999999999997,33.1,4,34.1,32.5,null,null,null,null,null,null,null,null,"VI",14]
["Laguna MS",15,"LAMS",10.1,6.3,3.8,15.9,2.9,6.3,19.8,9.6999999999999993,4.4000000000000004,4.7,0.8,0,4.4000000000000004,{"$f":"TRANSPOSE(R18:DA18)","v":4.5999999999999996},0,9.6999999999999993,14.8,4.5,18.399999999999999,23.8,13.3,14,14.8,23.1,14.8,15.2,14.5,8.3000000000000007,11,15.2,17.5,15,9.4,33.299999999999997,20.6,10.5,50.3,50.1,63.9,31.6,34,31.5,33.200000000000003,32.299999999999997,32.9,32.299999999999997,31.5,40.700000000000003,7.7,25.5,26.7,25.3,25.3,8.6,21.9,23.6,19.600000000000001,14.1,18.7,20.7,21.3,55.1,29.2,47.2,22.1,17.7,41.4,33.9,18.7,18.2,0,31.5,0,0,0,0,0,25.5,33.299999999999997,35.299999999999997,4.0999999999999996,23.5,23.5,34.299999999999997,33.700000000000003,0.9,34.700000000000003,30.1,null,null,null,null,null,null,null,null,"LAMS",15]
["Los Osos MS",16,"LOMS",1.2,15.7,10.6,6.5,12.3,15.7,20.3,2.6,13.8,13.8,10.3,0,13.8,12.4,{"$f":"TRANSPOSE(S19:DB19)","v":9.6999999999999993},0,5.3,12.6,27.7,33.1,22.7,23.4,24.2,32.4,24.2,24.6,23.9,17.7,20.3,24.6,26.9,24.4,8.3000000000000007,23.8,11.2,9.4,45.6,51.5,65.2,33,35.4,32.9,34.6,33.6,34.299999999999997,33.700000000000003,32.799999999999997,42,10.1,26.9,25.6,26.7,26.7,9.5,22.8,24.2,19.899999999999999,22.3,20.8,21.5,21.2,63.3,32.700000000000003,48.6,31.4,22.1,42.8,35.200000000000003,28.2,27.6,0,32.6,0,0,0,0,0,34.9,34.5,20.7,10.9,24.6,24.6,24.9,24.3,10.3,25.3,39.5,null,null,null,null,null,null,null,null,"LOMS",16]
["Morro Bay HS",17,"MBHS",5.7,21.6,13.3,1.4,14.9,18.899999999999999,15.1,7.7,14.2,15.5,15.3,0,14.3,14.1,14.8,{"$f":"TRANSPOSE(T20:DC20)","v":5.3},0,14.2,27.7,38.700000000000003,28.2,28.9,29.8,38,29.7,30.1,29.5,23.3,25.9,30.2,32.5,30,7.6,18.7,6.1,8.6999999999999993,40.4,46.4,64.7,27.8,30.2,27.7,29.4,28.5,29.1,28.5,27.7,36.9,9.5,21.7,20.399999999999999,21.5,21.5,8.9,17.7,19.100000000000001,14.7,24,15.6,16.399999999999999,16.100000000000001,61.2,27.6,43.4,37,16.899999999999999,37.6,30.1,33.799999999999997,33.5,0,27.4,0,0,0,0,0,40.9,29.3,20.7,12.9,19.5,19.5,19.8,19.2,15.4,20.2,45.4,null,null,null,null,null,null,null,null,"MBHS",17]
["San Luis Obispo HS",18,"SLOHS",13,8.9,2.6,15.5,1.3,5.3,16.2,12.6,1,1.2,3.8,0,1.1000000000000001,0.1,4.5,12.6,{"$f":"TRANSPOSE(U21:DD21)","v":14.2},0,13.4,26.5,16.100000000000001,16.8,17.600000000000001,25.8,17.5,18,17.3,11.1,13.7,14.3,20.3,17.8,6.7,32.700000000000003,20.100000000000001,7.9,46.7,46.5,64.900000000000006,28,30.4,27.9,29.6,28.6,29.3,28.7,27.9,37.1,5.0999999999999996,21.7,23.1,21.7,21.7,6,18.3,20,15.9,10.3,15.1,17.100000000000001,17.7,51.5,28.4,43.6,23.9,14.1,37.799999999999997,30.3,21.4,20.8,0,27.9,0,0,0,0,0,28.1,29.8,34.799999999999997,2.1,19.899999999999999,19.899999999999999,33.9,33.299999999999997,4.0999999999999996,34.299999999999997,32.700000000000003,null,null,null,null,null,null,null,null,"SLOHS",18]
["Branch Elementary",19,"BR",28.2,14.1,16,28.9,13.2,10.199999999999999,29.7,25,14.4,12.5,19.2,0,14.5,13.6,18.399999999999999,27.7,27.7,{"$f":"TRANSPOSE(V22:DE22)","v":13.4},0,12.5,7.5,6.2,5,11.8,6.1,6.7,5.0999999999999996,10.1,7.9,3.3,7.9,4.0999999999999996,20.2,46.2,33.5,21.3,60.1,60,73.7,41.5,43.9,41.3,43,42.1,42.7,42.1,41.3,50.5,18.600000000000001,35.299999999999997,36.5,35.1,35.200000000000003,19.399999999999999,31.7,33.4,29.4,23.9,28.5,30.5,31.1,64.900000000000006,39,57,10.8,27.5,51.2,43.7,7.9,7.9,0,41.4,0,0,0,0,0,14.3,43.2,48.3,15.6,33.4,33.4,47.7,46.7,15,47.7,18.899999999999999,null,null,null,null,null,null,null,null,"BR",19]
["Dana Elementary",20,"DA",33.6,19.399999999999999,26.7,39.9,25.3,20.100000000000001,41.6,33.1,26.2,23.7,24.6,0,26.2,26.4,23.8,33.1,38.700000000000003,26.5,{"$f":"TRANSPOSE(W23:DF23)","v":12.5},0,13,11.8,10.3,2.2000000000000002,11.4,12.1,10.6,16.8,13.4,10.199999999999999,7.8,9.5,31.6,57.6,45,32.799999999999997,72.2,72,85.8,53.3,55.9,53.4,55.1,54.2,54.8,54.2,53.4,62.6,29.47,47.4,48.6,47.2,47.2,30.9,43.8,45.5,4.1500000000000004,42.6,40.6,42.6,43.2,77,51.1,69.099999999999994,2.9,39.6,63.3,55.8,7.9,8.1999999999999993,0,53.3,0,0,0,0,0,1.8,55.1,59.8,28,45.3,45.3,58.4,57.7,22.9,58.7,8.5,null,null,null,null,null,null,null,null,"DA",20]
["Grover Heights",21,"GH",23.1,9,16.3,29.5,14.8,9.6999999999999993,31.1,22.7,15.7,13.2,14.2,0,15.8,15.9,13.3,22.7,28.2,16.100000000000001,7.5,{"$f":"TRANSPOSE(X24:DG24)","v":13},0,0.8,2.8,11,2.4,2.2999999999999998,2.2000000000000002,6,2.7,3.2,5.9,3,20.9,46.9,34.299999999999997,22,61.5,61.3,75,42.8,45.2,42.7,44.4,43.4,44.1,43.4,42.6,51.8,19.100000000000001,36.700000000000003,37.799999999999997,36.5,36.5,20.100000000000001,33.1,34.799999999999997,30.7,25.3,29.8,31.8,32.5,66.2,40.4,58.3,10,28.9,52.6,45,6.6,6.3,0,42.8,0,0,0,0,0,14.7,44.7,48.8,17.600000000000001,34.799999999999997,34.799999999999997,47.9,47.3,12.5,48.3,19.3,null,null,null,null,null,null,null,null,"GH",21]
["Grover Beach",22,"GR",23.8,9.6999999999999993,17,30.2,15.5,9.6,31.8,23.4,16.399999999999999,13.2,14.9,0,16.5,16.600000000000001,14,23.4,28.9,16.8,6.2,11.8,{"$f":"TRANSPOSE(Y25:DH25)","v":0.8},0,2.1,11.6,1.5,1.4,1.5,6.6,3.3,3.1,4.5999999999999996,2.9,21.5,47.5,34.9,22.7,62.1,61.9,75.599999999999994,43.4,45.8,43.3,45,44,44.7,44.1,43.3,52.4,19.8,37.299999999999997,38.4,37.1,37.1,20.7,33.700000000000003,35.4,31.3,25.9,30.4,32.4,33.1,66.8,41,59,10.6,29.5,53.2,45.6,5.4,5.2,0,43.5,0,0,0,0,0,13.5,45.4,50,18.3,35.5,35.5,48.6,48,13.2,49,18.100000000000001,null,null,null,null,null,null,null,null,"GR",22]
["Harloe",23,"HA",24.6,10.5,17.8,31,16.399999999999999,11.2,32.700000000000003,24.2,17.2,14.8,15.7,0,17.3,17.5,14.8,24.2,29.8,17.600000000000001,5,10.3,2.8,{"$f":"TRANSPOSE(Z26:DI26)","v":2.1},0,9.5,1.3,2,1.2,7.7,4.3,1.8,2.9,0.9,22.6,48.6,35.9,23.7,63.1,63,76.7,44.5,46.9,44.3,46,45.1,45.7,45.1,44.3,53.5,20.7,38.299999999999997,39.5,38.1,38.200000000000003,21.8,34.700000000000003,36.4,32.4,26.9,31.5,33.5,34.1,67.900000000000006,42,60,8.5,30.5,54.2,46.7,3.6,3.7,0,44.3,0,0,0,0,0,12,46.2,50.9,19.100000000000001,36.4,36.4,49.4,48.8,14,49.8,16.600000000000001,null,null,null,null,null,null,null,null,"HA",23]
["Nipomo",24,"NI",32.9,18.7,26,39.200000000000003,24.6,19.399999999999999,40.9,32.4,25.5,23,23.9,0,25.5,25.7,23.1,32.4,38,25.8,11.8,2.2000000000000002,11,11.6,{"$f":"TRANSPOSE(AA27:DJ27)","v":9.5},0,10.5,10.4,9.6999999999999993,15.9,12.6,9.3000000000000007,8.6,8.6999999999999993,30.8,56.8,44.2,31.9,71.400000000000006,71.2,84.9,52.7,55.1,52.6,54.3,53.3,54,53.3,52.5,61.7,28.9,46.6,47.7,46.4,46.4,30,43,44.7,40.6,35.200000000000003,39.700000000000003,41.7,42.4,76.099999999999994,50.3,68.2,1.3,38.799999999999997,62.5,54.9,9,9.1,0,52.6,0,0,0,0,0,3.9,54.4,59.1,27.3,44.6,44.6,57.7,57,22.2,58,8.4,null,null,null,null,null,null,null,null,"NI",24]
["Fairgrove Elementary",25,"FG",24.6,10.5,17.7,31,16.3,10.3,32.6,24.1,17.2,13.9,15.6,0,17.2,17.399999999999999,14.8,24.2,29.7,17.5,6.1,11.4,2.4,1.5,1.3,{"$f":"TRANSPOSE(AB28:DK28)","v":10.5},0,0.7,1.5,7.7,4.4000000000000004,2.9,3.2,2,22.6,48.6,36,23.7,63.2,63,76.599999999999994,45.8,46.9,44.4,46.1,45.1,45.8,45.1,44.3,53.5,20.6,38.4,39.5,38.200000000000003,38.200000000000003,21.8,34.799999999999997,36.5,32.4,27,31.5,33.5,34.200000000000003,67.900000000000006,42.1,60,9.8000000000000007,30.6,54.3,46.7,4,3.8,0,44.3,0,0,0,0,0,11.5,46.1,50.8,19,36.299999999999997,36.299999999999997,49.4,48.8,13.9,49.8,17.600000000000001,null,null,null,null,null,null,null,null,"FG",25]
["Oceano",26,"OC",25,10.9,18.2,31.4,16.7,8.9,33,24.6,17.600000000000001,14.4,16.100000000000001,0,17.7,17.8,15.2,24.6,30.1,18,6.7,12.1,2.2999999999999998,1.4,2,10.4,{"$f":"TRANSPOSE(AC29:DL29)","v":0.7},0,2.2000000000000002,8.1999999999999993,4.0999999999999996,3.6,3.3,2.7,23,49,36.4,24.2,63.6,63.4,77.2,44.9,47.3,44.8,46.5,45.6,46.2,45.6,44.8,54,21,38.799999999999997,40,38.6,38.6,22.3,35.200000000000003,36.9,32.9,27.4,32,34,34.6,68.400000000000006,42.5,60.5,9.4,31,54.7,47.1,4.2,3.9,0,44.7,0,0,0,0,0,11.6,46.5,51.2,19.5,36.700000000000003,36.700000000000003,49.8,49.2,14.4,50.2,18.3,null,null,null,null,null,null,null,null,"OC",26]
["Ocean View",27,"OV",24.3,10.199999999999999,17.5,30.7,16.100000000000001,9.9,32.4,23.9,16.899999999999999,13.4,15.4,0,17,17.2,14.5,23.9,29.5,17.3,5.0999999999999996,10.6,2.2000000000000002,1.5,1.2,9.6999999999999993,1.5,{"$f":"TRANSPOSE(AD30:DM30)","v":2.2000000000000002},0,6.8,3.5,2.4,4.7,2.2000000000000002,21.7,47.7,35.1,22.8,62.3,62.1,75.8,43.6,46,43.5,45.2,44.2,44.9,44.2,43.4,52.6,20.399999999999999,37.5,38.6,37.299999999999997,37.299999999999997,20.9,33.9,35.6,31.5,26.1,30.6,32.6,33.299999999999997,67,41.2,59.1,9.1999999999999993,29.7,53.4,45.8,10.5,4.7,0,44,0,0,0,0,0,12.3,45.9,50.1,18.8,36.1,36.1,49.1,48.5,13.7,49.5,16.8,null,null,null,null,null,null,null,null,"OV",27]
["Shell Beach",28,"SB",18.2,4,11.3,24.5,9.9,11,26.2,17.7,10.8,12.4,9.1999999999999993,0,10.8,11,8.3000000000000007,17.7,23.3,11.1,10.1,16.8,6,6.6,7.7,15.9,7.7,8.1999999999999993,{"$f":"TRANSPOSE(AE31:DN31)","v":6.8},0,2.7,6.9,10.9,6.7,16.2,42.2,29.6,17.3,56.7,56.6,70.3,38.1,40.5,37.9,39.700000000000003,38.700000000000003,39.299999999999997,38.700000000000003,37.9,47.1,14.4,31.9,33.1,31.8,31.8,15.4,28.4,30.1,26,20.6,25.1,27.1,27.8,61.5,35.6,53.6,13.8,24.2,47.9,40.299999999999997,11.5,11.1,0,37.799999999999997,0,0,0,0,0,18.5,39.700000000000003,44.4,12.6,29.9,29.9,43,42.3,7.5,43.3,23.2,null,null,null,null,null,null,null,null,"SB",28]
["Judkins MS",29,"JMS",20.8,6.6,13.9,27.1,12.5,7.3,28.8,20.3,13.4,10.9,11.8,0,13.4,13.6,11,20.3,25.9,13.7,7.9,13.4,2.7,3.3,4.3,12.6,4.4000000000000004,4.0999999999999996,3.5,{"$f":"TRANSPOSE(AF32:DO32)","v":2.7},0,4.9000000000000004,7.2,4.7,18.600000000000001,44.6,32,19.8,59.2,59,72.8,40.5,42.9,40.4,42.1,41.2,41.8,41.2,40.4,49.6,16.8,34.4,35.6,34.200000000000003,34.200000000000003,17.899999999999999,30.8,32.5,28.5,23,27.6,29.6,30.2,64,38.1,56.1,11.7,26.6,50.3,42.8,8.6,7.8,0,40.5,0,0,0,0,0,15.1,42.3,47,15.2,32.5,32.5,45.6,44.9,10.1,45.9,19.7,null,null,null,null,null,null,null,null,"JMS",29]
["Paulding MS",30,"PMS",25,10.9,18.2,31.4,12,8.6,33,24.6,17.600000000000001,12.2,16.100000000000001,0,17.7,17.8,15.2,24.6,30.2,14.3,3.3,10.199999999999999,3.2,3.1,1.8,9.3000000000000007,2.9,3.6,2.4,6.9,{"$f":"TRANSPOSE(AG33:DP33)","v":4.9000000000000004},0,4.5999999999999996,1.2,23,49,36.299999999999997,24.1,63.5,63.4,77.099999999999994,44.9,47.3,44.7,46.4,45.5,46.1,45.5,44.7,53.9,21.1,38.700000000000003,39.9,38.5,38.6,22.2,35.1,36.799999999999997,32.799999999999997,27.3,31.9,33.9,34.5,68.3,42.4,60.4,8.1,30.9,54.5,47.1,5.3,5,0,44.7,0,0,0,0,0,11.9,44,47.2,14.5,36.799999999999997,36.799999999999997,49.8,49.2,14.4,50.2,16.399999999999999,null,null,null,null,null,null,null,null,"PMS",30]
["Mesa MS",31,"MMS",27.3,13.2,20.5,33.700000000000003,19,13.9,35.299999999999997,26.9,19.899999999999999,17.5,18.399999999999999,0,20,20.2,17.5,26.9,32.5,20.3,7.9,7.8,5.9,4.5999999999999996,2.9,8.6,3.2,3.3,4.7,10.9,7.2,{"$f":"TRANSPOSE(AH34:DQ34)","v":4.5999999999999996},0,3.2,25.4,51.4,38.700000000000003,26.5,65.900000000000006,65.8,79.5,47.2,49.6,47.1,48.8,47.9,48.5,47.9,47.1,56.3,23.4,41.1,42.3,40.9,40.9,24.6,37.5,39.200000000000003,35.200000000000003,29.7,34.299999999999997,36.299999999999997,36.9,70.7,44.8,62.8,7.6,33.299999999999997,57,49.5,1.7,1.6,0,47,0,0,0,0,0,9.1999999999999993,48.9,53.6,21.8,39.1,39.1,52.1,51.5,16.7,52.5,15.7,null,null,null,null,null,null,null,null,"MMS",31]
["Arroyo Grande HS",32,"AGHS",24.8,10.7,18,31.2,16.5,11.4,32.799999999999997,24.4,17.399999999999999,15,15.9,0,17.5,17.7,15,24.4,30,17.8,4.0999999999999996,9.5,3,2.9,0.9,8.6999999999999993,2,2.7,2.2000000000000002,6.7,4.7,1.2,{"$f":"TRANSPOSE(AI35:DR35)","v":3.2},0,23.1,49.1,36.4,24.2,63.6,63.5,77.2,44.9,47.3,44.8,46.5,45.6,46.2,46.2,44.8,54,20.9,38.799999999999997,40,38.6,38.6,22.3,35.200000000000003,36.9,32.9,27.4,32,34,34.6,68.400000000000006,42.5,60.5,7.7,31,54.7,47.2,3.7,3.9,0,44.5,0,0,0,0,0,11.2,46.4,50.6,19.3,36.6,36.6,49.6,49,14.2,50,15.8,null,null,null,null,null,null,null,null,"AGHS",32]
["County Offices",33,"COE",8.6,14.1,5.8,8.9,7.4,11.4,22.2,10.6,6.7,8,9.1,0,6.8,6.6,9.4,8.3000000000000007,7.6,6.7,20.2,31.6,20.9,21.5,22.6,30.8,22.6,23,21.7,16.2,18.600000000000001,23,25.4,{"$f":"TRANSPOSE(AJ36:DS36)","v":23.1},0,26.1,13.5,1.1000000000000001,52.7,52.5,70.900000000000006,34,36.4,33.9,35.6,34.6,35.299999999999997,34.700000000000003,35.1,43.1,2,27.9,29.1,27.7,27.7,1.4,24.3,26,22.12,16.5,21.1,23.1,23.5,57.5,31.6,49.6,29.5,20.100000000000001,43.8,36.299999999999997,26.1,26,0,33.799999999999997,0,0,0,0,0,33.700000000000003,35.700000000000003,28.2,5.4,25.9,25.9,27.3,26.7,9.3000000000000007,27.7,37.9,null,null,null,null,null,null,null,null,"COE",33]
["Cambria Grammar",34,"CA",24.1,40.1,31.8,17.899999999999999,33.4,37.4,29,26.2,32.700000000000003,34,33.799999999999997,0,32.799999999999997,32.6,33.299999999999997,23.8,18.7,32.700000000000003,46.2,57.6,46.9,47.5,48.6,56.8,48.6,49,47.7,42.2,44.6,49,51.4,49.1,{"$f":"TRANSPOSE(AK37:DT37)","v":26.1},0,12.8,27.3,46.2,46,64.3,27.3,29.9,27.4,29.1,28.1,28.8,28.1,27.3,36.5,28,23.5,21.3,23.3,23.3,27.4,27.3,26.2,30.1,36.700000000000003,29.8,28,28.5,70.2,36.6,41.9,55.5,30.6,37.299999999999997,29.7,51.7,52,0,27.2,0,0,0,0,0,59.3,29.1,1.8,31.4,26,26,1.2,0.5,33.9,1.5,63.9,null,null,null,null,null,null,null,null,"CA",34]
["Cayucos",35,"CAY",11.5,27.5,19.100000000000001,5.3,20.8,24.8,21,13.5,20.100000000000001,21.4,21.2,0,20.2,20,20.6,11.2,6.1,20.100000000000001,33.5,45,34.299999999999997,34.9,35.9,44.2,36,36.4,35.1,29.6,32,36.299999999999997,38.700000000000003,36.4,13.5,{"$f":"TRANSPOSE(AL38:DU38)","v":12.8},0,14.6,43.6,43.5,61.8,24.7,27.4,24.8,26.5,25.6,26.2,25.6,24.8,34,15.3,20.9,18.8,20.8,20.8,27.4,23.5,24.9,20.5,29.8,21.4,22.2,21.9,67,33.4,39.4,42.8,22.8,34.799999999999997,27.2,49.6,39.4,0,24.8,0,0,0,0,0,46.7,26.6,14.9,18.7,25.4,25.4,14,13.3,21.2,14.3,51.3,null,null,null,null,null,null,null,null,"CAY",35]
["Loma Vista",36,"LV",9.6999999999999993,15.3,6.9,10,8.5,12.5,23.3,11.7,7.9,9.1,10.199999999999999,0,7.9,7.7,10.5,9.4,8.6999999999999993,7.9,21.3,32.799999999999997,22,22.7,23.7,31.9,23.7,24.2,22.8,17.3,19.8,24.1,26.5,24.2,1.1000000000000001,27.3,{"$f":"TRANSPOSE(AM39:DV39)","v":14.6},0,53.7,53.7,72,35.200000000000003,37.6,35,36.700000000000003,35.799999999999997,36.4,35.799999999999997,35,44.2,3.1,29,30.2,28.9,28.9,2.5,25.4,27.1,23.3,17.600000000000001,22.2,24.2,24.6,58.6,35.1,50.7,30.7,21.2,45,37.4,26.8,27.1,0,34.9,0,0,0,0,0,34.200000000000003,36.799999999999997,29.4,6.5,27,27,28.4,27.8,10.5,28.8,39,null,null,null,null,null,null,null,null,"LV",36]
["Shandon ",37,"SN",45.9,54.7,48.5,41.1,48.7,54.8,31.4,47.9,46.6,47.9,49.6,0,46.7,46.6,50.3,45.6,40.4,46.7,60.1,72.2,61.5,62.1,63.1,71.400000000000006,63.2,63.6,62.3,56.7,59.2,63.5,65.900000000000006,63.6,52.7,46.2,43.6,{"$f":"TRANSPOSE(AN40:DW40)","v":53.7},0,0.2,23.8,19.3,19.8,28.4,19.7,18.3,18.600000000000001,18.600000000000001,19.2,26.4,51.1,25.3,27.2,26,26.1,52,29.8,28.7,26.6,30.8,32.299999999999997,24.6,31,38.4,15.3,32.9,70.5,33.1,15.8,18.2,77,66.5,0,19.2,0,0,0,0,0,73.900000000000006,16.7,48.3,53.9,28.3,28.3,47.3,46.7,49.9,47.7,78.5,null,null,null,null,null,null,null,null,"SN",37]
["Shandon HS",38,"SHS",46.1,54.5,48.3,47.5,48.6,54.7,31.2,48.2,46.5,47.8,49.5,0,46.5,46.4,50.1,51.5,46.4,46.5,60,72,61.3,61.9,63,71.2,63,63.4,62.1,56.6,59,63.4,65.8,63.5,52.5,46,43.5,53.7,{"$f":"TRANSPOSE(AO41:DX41)","v":0.2},0,28.2,19.100000000000001,19.600000000000001,19.600000000000001,19.5,18.100000000000001,18.5,18,19,26.3,50.9,25.9,27,25.9,25.9,51.9,29.7,28.6,32.4,31,32.1,24.8,30.9,38.200000000000003,15.5,32.799999999999997,70.400000000000006,33,15.7,18,77,66.400000000000006,0,19,0,0,0,0,0,73.7,16.600000000000001,48.1,48.1,28.2,28.2,47.2,46.5,49.7,47.5,78.3,null,null,null,null,null,null,null,null,"SHS",38]
["Parkfield",39,"PD",65.5,68.2,62,61.2,62.3,68.400000000000006,49.5,72.2,60.2,66.099999999999994,63.2,0,60.2,60.1,63.9,65.2,64.7,64.900000000000006,73.7,85.8,75,75.599999999999994,76.7,84.9,76.599999999999994,77.2,75.8,70.3,72.8,77.099999999999994,79.5,77.2,70.900000000000006,64.3,61.8,72,23.8,{"$f":"TRANSPOSE(AP42:DY42)","v":28.2},0,37.6,35.5,38.4,39.9,38.5,36.200000000000003,37.700000000000003,38.4,28.5,73.900000000000006,43.4,45.3,44.1,44.1,70.099999999999994,47.9,46.8,50.7,57.3,50.4,48.6,49.1,58.2,45.2,43.8,88.6,51.2,34.200000000000003,36.200000000000003,94,80.099999999999994,0,34.299999999999997,0,0,0,0,0,87.5,39.6,66.400000000000006,66.2,46.5,46.5,65.5,60.3,68.099999999999994,65.8,92,null,null,null,null,null,null,null,null,"PD",39]
["Bauer/Speck",40,"BS",33.299999999999997,36,29.8,25.6,30.1,36.200000000000003,12.7,35.299999999999997,27.9,29.3,30.9,0,28,27.9,31.6,33,27.8,28,41.5,53.3,42.8,43.4,44.5,52.7,45.8,44.9,43.6,38.1,40.5,44.9,47.2,44.9,34,27.3,24.7,35.200000000000003,19.3,19.100000000000001,{"$f":"TRANSPOSE(AQ43:DZ43)","v":37.6},0,1.5,2.5,4.2,2.7,0.7,1.8,2.5,9.1,32.4,7,8.9,7.8,7.8,33.700000000000003,11.5,10.5,14.3,20.9,14,12.2,12.7,48.6,15.3,14.7,52.2,14.9,10.4,2.6,47.9,49.2,0,2.4,0,0,0,0,0,55.2,2.8,29.4,29.4,9.6999999999999993,9.6999999999999993,28.4,27.8,31.2,28.8,59.8,null,null,null,null,null,null,null,null,"BS",40]
["Georgia Brown",41,"GB",35.700000000000003,38.4,32.200000000000003,31.4,32.5,38.6,15.1,37.700000000000003,30.3,31.7,33.299999999999997,0,30.4,30.3,34,35.4,30.2,30.4,43.9,55.9,45.2,45.8,46.9,55.1,46.9,47.3,46,40.5,42.9,47.3,49.6,47.3,36.4,29.9,27.4,37.6,19.8,19.600000000000001,35.5,{"$f":"TRANSPOSE(AR44:EA44)","v":1.5},0,3.8,5.3,4,0.9,3.1,3.8,7.6,34.799999999999997,8.1999999999999993,10,8.9,8.9,34.9,12.7,11.6,15.5,22.1,15.2,13.3,13.9,49.9,16.600000000000001,14.6,53.4,16,10.7,3.1,50,50.3,0,4.5,0,0,0,0,0,57.6,3.7,32,31.8,12.1,12.1,31.1,30.4,33.6,31.4,62.2,null,null,null,null,null,null,null,null,"GB",41]
["Pat Butler",42,"PB",33.200000000000003,35.9,29.7,28.9,29.9,36,12.6,35.200000000000003,27.8,29.1,30.8,0,27.9,27.8,31.5,32.9,27.7,27.9,41.3,53.4,42.7,43.3,44.3,52.6,44.4,44.8,43.5,37.9,40.4,44.7,47.1,44.8,33.9,27.4,24.8,35,28.4,19.600000000000001,38.4,2.5,{"$f":"TRANSPOSE(AS45:EB45)","v":3.8},0,1.7,1.5,2.9,1.3,0.7,11.2,32.299999999999997,6.4,8.3000000000000007,7.2,7.2,33.1,10.9,9.9,13.7,20.3,13.4,11.6,12.2,46,12.7,17.2,51.7,14.3,10.9,3.3,47.8,47.7,0,0.7,0,0,0,0,0,55.1,3.1,29.5,29.3,9.5,9.5,28.5,27.9,31.1,28.9,59.7,null,null,null,null,null,null,null,null,"PB",42]
["Virgina Peterson",43,"VP",34.9,37.6,31.8,29,31.7,37.700000000000003,14.3,36.9,29.5,30.8,32.5,0,29.6,29.5,33.200000000000003,34.6,29.4,29.6,43,55.1,44.4,45,46,54.3,46.1,46.5,45.2,39.700000000000003,42.1,46.4,48.8,46.5,35.6,29.1,26.5,36.700000000000003,19.7,19.5,39.9,4.2,5.3,{"$f":"TRANSPOSE(AT46:EC46)","v":1.7},0,1.4,4.4000000000000004,2.2000000000000002,1.9,12.7,34.1,8.3000000000000007,10,8.1,8,34.799999999999997,12.7,11.6,15.4,22.1,15.1,13.3,13.9,44.7,11.4,18.7,53.4,16,10.8,4.7,49.6,49.4,0,1.9,0,0,0,0,0,56.8,3,31.2,31,11.2,11.2,30.2,29.6,32.799999999999997,30.6,61.5,null,null,null,null,null,null,null,null,"VP",43]
["Winifred Pifer",44,"WP",33.9,36.6,30.4,29.6,30.7,36.799999999999997,13.3,40.5,28.6,29.9,31.6,0,28.6,28.5,32.299999999999997,33.6,28.5,28.6,42.1,54.2,43.4,44,45.1,53.3,45.1,45.6,44.2,38.700000000000003,41.2,45.5,47.9,45.6,34.6,28.1,25.6,35.799999999999997,18.3,18.100000000000001,38.5,2.7,4,1.5,{"$f":"TRANSPOSE(AU47:ED47)","v":1.4},0,3,0.8,0.9,11.3,33,7.2,9,7.9,7.9,37,11.7,10.6,14.5,21.1,14.2,12.3,12.9,46,12.7,17.3,52.4,15,9.4,3.3,48.5,48.5,0,0.9,0,0,0,0,0,55.9,1.6,30.2,30,10.3,10.3,29.3,28.6,31.8,29.6,60.4,null,null,null,null,null,null,null,null,"WP",44]
["George Flamson MS",45,"FMS",34.6,37.299999999999997,31.1,30.3,31.3,37.4,14,36.1,29.2,30.5,32.200000000000003,0,29.3,29.2,32.9,34.299999999999997,29.1,29.3,42.7,54.8,44.1,44.7,45.7,54,45.8,46.2,44.9,39.299999999999997,41.8,46.1,48.5,46.2,35.299999999999997,28.8,26.2,36.4,18.600000000000001,18.5,36.200000000000003,0.7,0.9,2.9,4.4000000000000004,{"$f":"TRANSPOSE(AV48:EE48)","v":3},0,2.2000000000000002,2.9,8.3000000000000007,33.700000000000003,7.3,9.1,8,8,34,11.8,10.7,14.5,21.2,14.3,12.4,13,48.9,15.6,14.4,52.5,15.1,9.6999999999999993,2.2000000000000002,49.1,49.1,0,0,0,0,0,0,0,56.5,2.5,30.9,30.7,10.9,10.9,29.9,29.3,32.5,30.3,61.1,null,null,null,null,null,null,null,null,"FMS",45]
["Daniel Lewis MS",46,"LMS",34,36.700000000000003,30.5,29.7,30.7,36.799999999999997,13.4,40.5,28.6,29.9,31.6,0,28.7,28.5,32.299999999999997,33.700000000000003,28.5,28.7,42.1,54.2,43.4,44.1,45.1,53.3,45.1,45.6,44.2,38.700000000000003,41.2,45.5,47.9,46.2,34.700000000000003,28.1,25.6,35.799999999999997,18.600000000000001,18,37.700000000000003,1.8,3.1,1.3,2.2000000000000002,0.8,{"$f":"TRANSPOSE(AW49:EF49)","v":2.2000000000000002},0,1.2,10.5,33.1,7.3,9.1,8,8,34,11.8,10.7,14.6,21.2,14.3,12.4,13,46.8,13.5,16.5,52.5,15.1,9.3000000000000007,2.5,48.7,48.5,0,1.3,0,0,0,0,0,55.9,1.5,30.2,30.1,10.3,10.3,29.3,28.7,31.9,29.7,60.4,null,null,null,null,null,null,null,null,"LMS",46]
["Paso Robles HS",47,"PRHS",33.1,35.9,29.7,28.8,29.9,36,12.5,39.700000000000003,27.8,29.1,30.8,0,27.8,27.7,31.5,32.799999999999997,27.7,27.9,41.3,53.4,42.6,43.3,44.3,52.5,44.3,44.8,43.4,37.9,40.4,44.7,47.1,44.8,35.1,27.3,24.8,35,19.2,19,38.4,2.5,3.8,0.7,1.9,0.9,2.9,{"$f":"TRANSPOSE(AX50:EG50)","v":1.2},0,11.2,32.299999999999997,6.4,8.3000000000000007,7.2,7.2,33.1,10.9,9.9,13.7,20.3,13.4,11.6,12.2,46.6,13.3,17.2,51.7,14.3,10.4,3.3,47.8,47.7,0,0.1,0,0,0,0,0,55.1,2.5,29.4,29.3,9.5,9.5,28.5,27.9,31.1,28.9,59.8,null,null,null,null,null,null,null,null,"PRHS",47]
["Lillian Larsen",48,"LL",42.3,45,38.799999999999997,38,39.1,45.2,21.7,49.1,37,38.299999999999997,40,0,37,36.9,40.700000000000003,42,36.9,37.1,50.5,62.6,51.8,52.4,53.5,61.7,53.5,54,52.6,47.1,49.6,53.9,56.3,54,43.1,36.5,34,44.2,26.4,26.3,28.5,9.1,7.6,11.2,12.7,11.3,8.3000000000000007,10.5,{"$f":"TRANSPOSE(AY51:EH51)","v":11.2},0,41.4,15.6,17.5,16.3,16.3,42.3,20.100000000000001,19,22.9,29.5,22.6,20.8,21.3,57.9,24.6,16,60.8,23.4,7.6,9.6,56.9,56.9,0,11.1,0,0,0,0,0,64.3,10.3,38.6,38.4,18.7,18.7,37.700000000000003,37,40.299999999999997,38,68.8,null,null,null,null,null,null,null,null,"LL",48]
["Juvenile Court Sch",49,"JSC",10.4,12.1,4.2,10.7,6.5,12.2,20.6,12.5,5.0999999999999996,6.4,7.2,0,4.8,5,7.7,10.1,9.5,5.0999999999999996,18.600000000000001,29.47,19.100000000000001,19.8,20.7,28.9,20.6,21,20.399999999999999,14.4,16.8,21.1,23.4,20.9,2,28,15.3,3.1,51.1,50.9,73.900000000000006,32.4,34.799999999999997,32.299999999999997,34.1,33,33.700000000000003,33.1,32.299999999999997,{"$f":"TRANSPOSE(AZ52:EI52)","v":41.4},0,26.6,27.9,26.5,26.3,1.4,23,24.8,20.399999999999999,15.2,19.8,21.8,22.1,56.1,32.700000000000003,48.3,28.4,18.7,42.5,34.9,24.4,21.6,0,28.7,0,0,0,0,0,29,30.6,30.1,3.8,24.3,24.3,29.1,28.5,7.7,29.5,36.299999999999997,null,null,null,null,null,null,null,null,"JSC",49]
["Templeton",50,"TM",27.2,29.9,23.7,22.9,23.9,30,6.6,33.700000000000003,21.8,23.1,24.6,0,21.9,21.8,25.5,26.9,21.7,21.7,35.299999999999997,47.4,36.700000000000003,37.299999999999997,38.299999999999997,46.6,38.4,38.799999999999997,37.5,31.9,34.4,38.700000000000003,41.1,38.799999999999997,27.9,23.5,20.9,29,25.3,25.9,43.4,7,8.1999999999999993,6.4,8.3000000000000007,7.2,7.3,7.3,6.4,15.6,{"$f":"TRANSPOSE(BA53:EJ53)","v":26.6},0,2.2000000000000002,0.3,0.4,27.3,5.0999999999999996,4,7.9,14.5,7.6,5.7,6.3,47.3,13.7,22.7,45.8,8.4,17,9.4,41.9,41.7,0,6.3,0,0,0,0,0,49.1,8.1999999999999993,25.6,23.3,3.5,3.5,24.6,24,25.1,25,53.6,null,null,null,null,null,null,null,null,"TM",50]
["Vineyard",51,"VD",25.9,31,24.8,19.600000000000001,25.1,35.5,7.7,27.9,23,24.3,26,0,23,22.9,26.7,25.6,20.399999999999999,23.1,36.5,48.6,37.799999999999997,38.4,39.5,47.7,39.5,40,38.6,33.1,35.6,39.9,42.3,40,29.1,21.3,18.8,30.2,27.2,27,45.3,8.9,10,8.3000000000000007,10,9,9.1,9.1,8.3000000000000007,17.5,27.9,{"$f":"TRANSPOSE(BB54:EK54)","v":2.2000000000000002},0,2,2,28.2,6,4.9000000000000004,8.8000000000000007,15.4,8.5,6.7,7.2,48.9,15.3,23.8,46.7,9.3000000000000007,18.100000000000001,10.5,43,42.9,0,8.1999999999999993,0,0,0,0,0,50.3,10.1,23.4,24.4,4.7,4.7,22.5,21.8,26.2,22.8,54.8,null,null,null,null,null,null,null,null,"VD",51]
["Templeton MS",52,"TMS",27,29.7,23.5,22.7,23.8,29.8,6.4,33.5,21.6,23,24.6,0,21.7,21.6,25.3,26.7,21.5,21.7,35.1,47.2,36.5,37.1,38.1,46.4,38.200000000000003,38.6,37.299999999999997,31.8,34.200000000000003,38.5,40.9,38.6,27.7,23.3,20.8,28.9,26,25.9,44.1,7.8,8.9,7.2,8.1,7.9,8,8,7.2,16.3,26.5,0.3,{"$f":"TRANSPOSE(BC55:EL55)","v":2},0,0.4,27.1,4.9000000000000004,3.8,7.7,14.3,7.4,5.6,6.1,47.2,13.7,22.6,45.6,8.1999999999999993,16.8,9.1999999999999993,41.7,41.6,0,7.1,0,0,0,0,0,48.9,8.9,25.4,23.1,3.4,3.4,24.4,23.8,24.9,24.8,53.5,null,null,null,null,null,null,null,null,"TMS",52]
["Templeton HS",53,"THS",27,29.7,23.5,22.7,23.8,29.9,6.4,33.5,21.6,23,24.6,0,21.7,21.6,25.3,26.7,21.5,21.7,35.200000000000003,47.2,36.5,37.1,38.200000000000003,46.4,38.200000000000003,38.6,37.299999999999997,31.8,34.200000000000003,38.6,40.9,38.6,27.7,23.3,20.8,28.9,26.1,25.9,44.1,7.8,8.9,7.2,8,7.9,8,8,7.2,16.3,26.3,0.4,2,{"$f":"TRANSPOSE(BD56:EM56)","v":0.4},0,27.1,4.9000000000000004,3.8,7.7,14.3,7.4,5.5,6.1,47.1,13.5,22.5,45.6,8.1999999999999993,16.8,9.1999999999999993,41.8,41.6,0,7.1,0,0,0,0,0,48.9,8.9,25.4,23.1,3.4,3.4,24.5,23.8,24.9,24.8,53.5,null,null,null,null,null,null,null,null,"THS",53]
["Grizzly Academy",54,"GA",9.8000000000000007,13.3,5,10.1,6.6,10.6,21.4,11.8,5.9,7.2,8.3000000000000007,0,6,5.8,8.6,9.5,8.9,6,19.399999999999999,30.9,20.100000000000001,20.7,21.8,30,21.8,22.3,20.9,15.4,17.899999999999999,22.2,24.6,22.3,1.4,27.4,27.4,2.5,52,51.9,70.099999999999994,33.700000000000003,34.9,33.1,34.799999999999997,37,34,34,33.1,42.3,1.4,27.3,28.2,27.1,{"$f":"TRANSPOSE(BE57:EN57)","v":27.1},0,23.4,25.1,23.5,15.7,20.2,22.2,22.8,56.6,30.7,48.7,28.7,19.3,43,35.4,24.8,25.2,0,33,0,0,0,0,0,32,34.9,29.5,4.5,25.1,25.1,28.5,27.9,8.6,28.9,37.1,null,null,null,null,null,null,null,null,"GA",54]
["Monterey Road",55,"MR",23.1,26.3,20.100000000000001,18.8,20.399999999999999,26.4,3.2,25.2,18.2,19.5,21.2,0,18.3,18.2,21.9,22.8,17.7,18.3,31.7,43.8,33.1,33.700000000000003,34.700000000000003,43,34.799999999999997,35.200000000000003,33.9,28.4,30.8,35.1,37.5,35.200000000000003,24.3,27.3,23.5,25.4,29.8,29.7,47.9,11.5,12.7,10.9,12.7,11.7,11.8,11.8,10.9,20.100000000000001,23,5.0999999999999996,6,4.9000000000000004,4.9000000000000004,{"$f":"TRANSPOSE(BF58:EO58)","v":23.4},0,2.4,4,10.6,3.7,1.9,2,47.1,13.6,26.7,42,4.5999999999999996,20.9,13.3,38.1,38.200000000000003,0,10.8,0,0,0,0,0,45.5,12.7,29.4,19.7,2.2999999999999998,2.2999999999999998,28.5,27.8,21.5,28.8,50.1,null,null,null,null,null,null,null,null,"MR",55]
["San Benito",56,"SO",24.5,28,21.8,19.7,22.1,28.1,3.9,31.8,19.2,21.2,22.9,0,20,19.899999999999999,23.6,24.2,19.100000000000001,20,33.4,45.5,34.799999999999997,35.4,36.4,44.7,36.5,36.9,35.6,30.1,32.5,36.799999999999997,39.200000000000003,36.9,26,26.2,24.9,27.1,28.7,28.6,46.8,10.5,11.6,9.9,11.6,10.6,10.7,10.7,9.9,19,24.8,4,4.9000000000000004,3.8,3.8,25.1,{"$f":"TRANSPOSE(BG59:EP59)","v":2.4},0,5.9,12.5,5.6,2.5,3.5,46.3,12.7,25.5,43.8,6.4,19.7,12.1,40,39.9,0,9.8000000000000007,0,0,0,0,0,47.2,11.6,28.3,21.4,0.2,0.2,27.4,26.8,23.2,27.8,51.1,null,null,null,null,null,null,null,null,"SO",56]
["San Gabriel",57,"SG",20.2,23.9,17.7,15.3,18,24.1,1.3,22.2,15.9,17.2,18.899999999999999,0,15.9,15.8,19.600000000000001,19.899999999999999,14.7,15.9,29.4,4.1500000000000004,30.7,31.3,32.4,40.6,32.4,32.9,31.5,26,28.5,32.799999999999997,35.200000000000003,32.9,22.12,30.1,20.5,23.3,26.6,32.4,50.7,14.3,15.5,13.7,15.4,14.5,14.5,14.6,13.7,22.9,20.399999999999999,7.9,8.8000000000000007,7.7,7.7,23.5,4,{"$f":"TRANSPOSE(BH60:EQ60)","v":5.9},0,8,1.1000000000000001,2.6,2.2999999999999998,47.3,13.8,30.3,39.5,2.5,24.5,17,35.4,35.799999999999997,0,13.6,0,0,0,0,0,43.1,15.5,32.200000000000003,17.3,5.7,5.7,31.3,30.6,19.100000000000001,31.6,47.7,null,null,null,null,null,null,null,null,"SG",57]
["Santa Margarita",58,"SM",22.7,18.5,12.3,25.2,12.6,18.600000000000001,8.6,22.3,10.4,11.7,13.4,0,10.5,10.4,14.1,22.3,24,10.3,23.9,42.6,25.3,25.9,26.9,35.200000000000003,27,27.4,26.1,20.6,23,27.3,29.7,27.4,16.5,36.700000000000003,29.8,17.600000000000001,30.8,31,57.3,20.9,22.1,20.3,22.1,21.1,21.2,21.2,20.3,29.5,15.2,14.5,15.4,14.3,14.3,15.7,10.6,12.5,{"$f":"TRANSPOSE(BI61:ER61)","v":8},0,6.9,10.3,11,58.9,15.5,36.799999999999997,34.299999999999997,5.8,31.1,23.5,30.4,30.4,0,20.2,0,0,0,0,0,37.700000000000003,22.1,38.799999999999997,11.9,12.3,12.3,37.9,37.200000000000003,13.7,38.200000000000003,42.2,null,null,null,null,null,null,null,null,"SM",58]
["Santa Rosa",59,"SR",21.1,23.1,16.899999999999999,16.2,17.100000000000001,23.3,1.1000000000000001,23.1,15,16.3,18,0,15,14.9,18.7,20.8,15.6,15.1,28.5,40.6,29.8,30.4,31.5,39.700000000000003,31.5,32,30.6,25.1,27.6,31.9,34.299999999999997,32,21.1,29.8,21.4,22.2,32.299999999999997,32.1,50.4,14,15.2,13.4,15.1,14.2,14.3,14.3,13.4,22.6,19.8,7.6,8.5,7.4,7.4,20.2,3.7,5.6,1.1000000000000001,{"$f":"TRANSPOSE(BJ62:ES62)","v":6.9},0,2.6,1.8,47.1,13.5,29.1,38.700000000000003,1.3,23.4,15.8,34.9,34.9,0,13.3,0,0,0,0,0,42.3,15.2,31.9,16.399999999999999,5.4,5.4,31,30.3,18.3,31.3,46.8,null,null,null,null,null,null,null,null,"SR",59]
["Atascadero MS",60,"AMS",21.8,25,18.8,17.5,19.100000000000001,25.2,1.2,23.9,17,18.3,20,0,17,16.899999999999999,20.7,21.5,16.399999999999999,17.100000000000001,30.5,42.6,31.8,32.4,33.5,41.7,33.5,34,32.6,27.1,29.6,33.9,36.299999999999997,34,23.1,28,22.2,24.2,24.6,24.8,48.6,12.2,13.3,11.6,13.3,12.3,12.4,12.4,11.6,20.8,21.8,5.7,6.7,5.6,5.5,22.2,1.9,2.5,2.6,10.3,{"$f":"TRANSPOSE(BK63:ET63)","v":2.6},0,1.2,45.3,11.7,27.2,40.799999999999997,3.4,21.4,13.8,36.9,36.9,0,11.5,0,0,0,0,0,44.3,13.4,30.1,18.399999999999999,2.7,2.7,29.1,28.5,20.3,29.5,48.8,null,null,null,null,null,null,null,null,"AMS",60]
["Atascadero HS",61,"ATHS",21.5,25.7,19.5,17.2,19.8,25.8,0.9,23.6,16.899999999999999,18.899999999999999,20.6,0,17.7,17.600000000000001,21.3,21.2,16.100000000000001,17.7,31.1,43.2,32.5,33.1,34.1,42.4,34.200000000000003,34.6,33.299999999999997,27.8,30.2,34.5,36.9,34.6,23.5,28.5,21.9,24.6,31,30.9,49.1,12.7,13.9,12.2,13.9,12.9,13,13,12.2,21.3,22.1,6.3,7.2,6.1,6.1,22.8,2,3.5,2.2999999999999998,11,1.8,{"$f":"TRANSPOSE(BL64:EU64)","v":1.2},0,46,12.4,27.9,40.799999999999997,3.1,22.1,14.6,37.200000000000003,37.6,0,12.1,0,0,0,0,0,44.9,13.9,30.6,19.100000000000001,4.0999999999999996,4.0999999999999996,29.7,29,20.9,30,48.7,null,null,null,null,null,null,null,null,"ATHS",61]
["Carrisa Plains",62,"CP",63.7,59.4,53.2,62.3,53.5,59.6,46,63.3,51.4,52.7,54.4,0,51.4,51.3,55.1,63.3,61.2,51.5,64.900000000000006,77,66.2,66.8,67.900000000000006,76.099999999999994,67.900000000000006,68.400000000000006,67,61.5,64,68.3,70.7,68.400000000000006,57.5,70.2,67,58.6,38.4,38.200000000000003,58.2,48.6,49.9,46,44.7,46,48.9,46.8,46.6,57.9,56.1,47.3,48.9,47.2,47.1,56.6,47.1,46.3,47.3,58.9,47.1,45.3,{"$f":"TRANSPOSE(BM65:EV65)","v":46},0,36.799999999999997,63.2,75.2,46.8,55.4,49.3,71.3,71.3,0,46.5,0,0,0,0,0,78.7,47.5,72.3,52.8,46.5,46.5,71.3,70.7,54.7,71.7,83.1,null,null,null,null,null,null,null,null,"CP",62]
["Creston",63,"CR",33.1,35.9,29.7,28.7,30,36.1,12.4,35.1,27.9,29.2,28.5,0,25.6,25.5,29.2,32.700000000000003,27.6,28.4,39,51.1,40.4,41,42,50.3,42.1,42.5,41.2,35.6,38.1,42.4,44.8,42.5,31.6,36.6,33.4,35.1,15.3,15.5,45.2,15.3,16.600000000000001,12.7,11.4,12.7,15.6,13.5,13.3,24.6,32.700000000000003,13.7,15.3,13.7,13.5,30.7,13.6,12.7,13.8,15.5,13.5,11.7,12.4,{"$f":"TRANSPOSE(BN66:EW66)","v":36.799999999999997},0,29.9,51.7,14.3,22.1,16,47.9,45.4,0,13.2,0,0,0,0,0,52.8,14.3,38.700000000000003,30.1,12.9,12.9,37.799999999999997,37.1,28.8,38.1,59.7,null,null,null,null,null,null,null,null,"CR",63]
["Cappy Culver",64,"CC",48.9,51.6,45.4,44.6,45.6,51.7,28.1,54.5,43.5,44.8,46.5,0,43.6,43.4,47.2,48.6,43.4,43.6,57,69.099999999999994,58.3,59,60,68.2,60,60.5,59.1,53.6,56.1,60.4,62.8,60.5,49.6,41.9,39.4,50.7,32.9,32.799999999999997,43.8,14.7,14.6,17.2,18.7,17.3,14.4,16.5,17.2,16,48.3,22.7,23.8,22.6,22.5,48.7,26.7,25.5,30.3,36.799999999999997,29.1,27.2,27.9,63.2,{"$f":"TRANSPOSE(BO67:EX67)","v":29.9},0,66.8,29.9,24,16.5,63.3,63.4,0,17.100000000000001,0,0,0,0,0,70.8,16.8,44,45,25.2,25.2,43.1,42.4,46.8,43.4,75.3,null,null,null,null,null,null,null,null,"CC",64]
["Nipomo High School",65,"NIHS",31.9,17.7,25,38.200000000000003,23.6,18.399999999999999,39.9,31.4,24.5,22,22.9,0,24.5,24.7,22.1,31.4,37,23.9,10.8,2.9,10,10.6,8.5,1.3,9.8000000000000007,9.4,9.1999999999999993,13.8,11.7,8.1,7.6,7.7,29.5,55.5,42.8,30.7,70.5,70.400000000000006,88.6,52.2,53.4,51.7,53.4,52.4,52.5,52.5,51.7,60.8,28.4,45.8,46.7,45.6,45.6,28.7,42,43.8,39.5,34.299999999999997,38.700000000000003,40.799999999999997,40.799999999999997,75.2,51.7,{"$f":"TRANSPOSE(BP68:EY68)","v":66.8},0,38,61.6,54.1,8.1,8.1,0,51.6,0,0,0,0,0,5.5,53.4,58.1,26.3,43.6,43.6,56.7,56,21.2,57,8.5,null,null,null,null,null,null,null,null,{"$f":"+C69","v":"NIHS"},65]
["Paloma Creek",66,"PC",22.4,22.1,15.9,18.100000000000001,16.2,22.2,2.4,25.9,14,15.3,17,0,14.1,14,17.7,22.1,16.899999999999999,14.1,27.5,39.6,28.9,29.5,30.5,38.799999999999997,30.6,31,29.7,24.2,26.6,30.9,33.299999999999997,31,20.100000000000001,30.6,22.8,21.2,33.1,33,51.2,14.9,16,14.3,16,15,15.1,15.1,14.3,23.4,18.7,8.4,9.3000000000000007,8.1999999999999993,8.1999999999999993,19.3,4.5999999999999996,6.4,2.5,5.8,1.3,3.4,3.1,46.8,14.3,29.9,{"$f":"TRANSPOSE(BQ69:EZ69)","v":38},0,24.2,16.7,34.1,34,0,14.2,{"$f":"+$BX$5","v":0},{"$f":"+$BY$5","v":0},{"$f":"+$BZ$5","v":0},{"$f":"+$CA$5","v":0},{"$f":"+$CB$5","v":0},41.3,16,32.700000000000003,15.5,6.2,6.2,31.8,31.2,17.3,32.200000000000003,45.9,null,null,null,null,null,null,null,null,"PC",66]
["Pleasant Valley",67,"PV",43,45.8,39.6,38.799999999999997,39.299999999999997,45.9,22.3,44.9,37.700000000000003,39.1,40.700000000000003,0,37.799999999999997,37.700000000000003,41.4,42.8,37.6,37.799999999999997,51.2,63.3,52.6,53.2,54.2,62.5,54.3,54.7,53.4,47.9,50.3,54.5,57,54.7,43.8,37.299999999999997,34.799999999999997,45,15.8,15.7,34.200000000000003,10.4,10.7,10.9,10.8,9.4,9.6999999999999993,9.3000000000000007,10.4,7.6,42.5,17,18.100000000000001,16.8,16.8,43,20.9,19.7,24.5,31.1,23.4,21.4,22.1,55.4,22.1,24,61.6,{"$f":"TRANSPOSE(BR70:FA70)","v":24.2},0,9.3000000000000007,57.7,57.7,0,10.3,0,0,0,0,0,65,7.9,39.4,39.200000000000003,19.5,19.5,38.4,37.799999999999997,41,38.799999999999997,74,null,null,null,null,null,null,null,null,"PV",67]
["Kermit King",68,"KK",35.5,38.200000000000003,32,31.2,32.299999999999997,38.4,14.8,37.1,29.3,31.5,33.200000000000003,0,30.2,30.1,33.9,35.200000000000003,30.1,30.3,43.7,55.8,45,45.6,46.7,54.9,46.7,47.1,45.8,40.299999999999997,42.8,47.1,49.5,47.2,36.299999999999997,29.7,27.2,37.4,18.2,18,36.200000000000003,2.6,3.1,3.3,4.7,3.3,2.2000000000000002,2.5,3.3,9.6,34.9,9.4,10.5,9.1999999999999993,9.1999999999999993,35.4,13.3,12.1,17,23.5,15.8,13.8,14.6,49.3,16,16.5,54.1,16.7,{"$f":"TRANSPOSE(BS71:FB71)","v":9.3000000000000007},0,50.1,50,0,3.2,0,0,0,0,0,57.5,2.1,31.8,31.6,11.9,11.9,30.9,30.2,33.5,31.2,61.2,null,null,null,null,null,null,null,null,"KK",68]
["Lucia Mar IS",69,"LMIS",28,13.8,21.8,34.9,19.899999999999999,15.2,36.6,28.3,21.2,18.8,18.899999999999999,0,21.8,18.600000000000001,18.7,28.2,33.799999999999997,21.4,7.9,7.9,6.6,5.4,3.6,9,4,4.2,10.5,11.5,8.6,5.3,1.7,3.7,26.1,51.7,49.6,26.8,77,77,94,47.9,50,47.8,49.6,48.5,49.1,48.7,47.8,56.9,24.4,41.9,43,41.7,41.8,24.8,38.1,40,35.4,30.4,34.9,36.9,37.200000000000003,71.3,47.9,63.3,8.1,34.1,57.7,{"$f":"TRANSPOSE(BT72:FC72)","v":50.1},0,0.1,0,49.2,0,0,0,0,0,9,50.5,53.9,21.1,39.700000000000003,39.700000000000003,53.2,52.3,17.399999999999999,53.8,15.8,null,null,null,null,null,null,null,null,"LMIS",69]
["Lopez Continuation",70,"LCS",27.9,14,21.8,34.700000000000003,19.2,14.4,36.1,27.6,20.7,18.3,18.3,0,20.9,20.6,18.2,27.6,33.5,20.8,7.9,8.1999999999999993,6.3,5.2,3.7,9.1,3.8,3.9,4.7,11.1,7.8,5,1.6,3.9,26,52,39.4,27.1,66.5,66.400000000000006,80.099999999999994,49.2,50.3,47.7,49.4,48.5,49.1,48.5,47.7,56.9,21.6,41.7,42.9,41.6,41.6,25.2,38.200000000000003,39.9,35.799999999999997,30.4,34.9,36.9,37.6,71.3,45.4,63.4,8.1,34,57.7,50,{"$f":"TRANSPOSE(BU73:FD73)","v":0.1},0,0,47.6,5,15,20,25,30,7.7,49.5,54.2,20.7,39.700000000000003,39.700000000000003,52.8,52.1,17.3,53.1,15.8,null,null,null,null,null,null,null,null,"LCS",70]
[null,71,0,0,0,0,0,0,0,0,0,0,0,0,0,0,0,0,0,0,0,0,0,0,0,0,0,0,0,0,0,0,0,0,0,0,0,0,0,0,0,0,0,0,0,0,0,0,0,0,0,0,0,0,0,0,0,0,0,0,0,0,0,0,0,0,0,0,0,0,0,0,{"$f":"TRANSPOSE(BV74:FE74)","v":0},0,32.200000000000003,{"$f":"+$BX$5","v":0},{"$f":"+$BY$5","v":0},{"$f":"+$BZ$5","v":0},{"$f":"+$CA$5","v":0},{"$f":"+$CB$5","v":0},25.1,33.5,36.9,4.8,22.7,22.7,36.200000000000003,35.4,0.3,36.799999999999997,36.799999999999997,null,null,null,null,null,null,null,null,0,71]
["Paso Robles IS Center",72,"PRIS",33,35.700000000000003,29.5,28.6,30.1,35.9,12.3,34.9,27.5,29.1,30.8,0,27.6,27.8,31.5,32.6,27.4,27.9,41.4,53.3,42.8,43.5,44.3,52.6,44.3,44.7,44,37.799999999999997,40.5,44.7,47,44.5,33.799999999999997,27.2,24.8,34.9,19.2,19,34.299999999999997,2.4,4.5,0.7,1.9,0.9,0,1.3,0.1,11.1,28.7,6.3,8.1999999999999993,7.1,7.1,33,10.8,9.8000000000000007,13.6,20.2,13.3,11.5,12.1,46.5,13.2,17.100000000000001,51.6,14.2,10.3,3.2,49.2,47.6,{"$f":"TRANSPOSE(BW75:FF75)","v":32.200000000000003},0,5,15,20,25,30,55,2.5,29.4,29.2,9.4,9.4,28.4,28.5,31,28.8,59.5,null,null,null,null,null,null,null,null,"PRIS",72]
[null,73,0,0,0,0,0,0,0,0,0,0,0,0,0,0,0,0,0,0,0,0,0,0,0,0,0,0,0,0,0,0,0,0,0,0,0,0,0,0,0,0,0,0,0,0,0,0,0,0,0,0,0,0,0,0,0,0,0,0,0,0,0,0,0,0,0,0,0,0,0,0,5,0,{"$f":"TRANSPOSE(BX76:FG76)","v":5},0,{"$f":"+$BY$5","v":0},{"$f":"+$BZ$5","v":0},{"$f":"+$CA$5","v":0},{"$f":"+$CB$5","v":0},0,0,0,0,0,0,0,0,0,0,0,null,null,null,null,null,null,null,null,0,73]
[null,74,0,0,0,0,0,0,0,0,0,0,0,0,0,0,0,0,0,0,0,0,0,0,0,0,0,0,0,0,0,0,0,0,0,0,0,0,0,0,0,0,0,0,0,0,0,0,0,0,0,0,0,0,0,0,0,0,0,0,0,0,0,0,0,0,0,0,0,0,0,0,15,0,15,{"$f":"TRANSPOSE(BY77:FH77)","v":0},0,{"$f":"+$BZ$5","v":0},{"$f":"+$CA$5","v":0},{"$f":"+$CB$5","v":0},0,0,0,0,0,0,0,0,0,0,0,null,null,null,null,null,null,null,null,0,74]
[null,75,0,0,0,0,0,0,0,0,0,0,0,0,0,0,0,0,0,0,0,0,0,0,0,0,0,0,0,0,0,0,0,0,0,0,0,0,0,0,0,0,0,0,0,0,0,0,0,0,0,0,0,0,0,0,0,0,0,0,0,0,0,0,0,0,0,0,0,0,0,0,20,0,20,0,{"$f":"TRANSPOSE(BZ78:FI78)","v":0},0,{"$f":"+$CA$5","v":0},{"$f":"+$CB$5","v":0},0,0,0,0,0,0,0,0,0,0,0,null,null,null,null,null,null,null,null,0,75]
[null,76,0,0,0,0,0,0,0,0,0,0,0,0,0,0,0,0,0,0,0,0,0,0,0,0,0,0,0,0,0,0,0,0,0,0,0,0,0,0,0,0,0,0,0,0,0,0,0,0,0,0,0,0,0,0,0,0,0,0,0,0,0,0,0,0,0,0,0,0,0,0,25,0,25,0,0,{"$f":"TRANSPOSE(CA79:FJ79)","v":0},0,{"$f":"+$CB$5","v":0},0,0,0,0,0,0,0,0,0,0,0,null,null,null,null,null,null,null,null,0,76]
[null,77,0,0,0,0,0,0,0,0,0,0,0,0,0,0,0,0,0,0,0,0,0,0,0,0,0,0,0,0,0,0,0,0,0,0,0,0,0,0,0,0,0,0,0,0,0,0,0,0,0,0,0,0,0,0,0,0,0,0,0,0,0,0,0,0,0,0,0,0,0,0,30,0,30,0,0,0,{"$f":"TRANSPOSE(CB80:FK80)","v":0},0,0,0,0,0,0,0,0,0,0,0,0,null,null,null,null,null,null,null,null,0,77]
["Dorthea Lange",78,"DL",35.299999999999997,21.3,29.2,42,26.5,21.9,43.4,15.4,27.9,25.5,25.7,0,28.2,28,25.5,34.9,40.9,28.1,14.3,1.8,14.7,13.5,12,3.9,11.5,11.6,12.3,18.5,15.1,11.9,9.1999999999999993,11.2,33.700000000000003,59.3,46.7,34.200000000000003,73.900000000000006,73.7,87.5,55.2,57.6,55.1,56.8,55.9,56.5,55.9,55.1,64.3,29,49.1,50.3,48.9,48.9,32,45.5,47.2,43.1,37.700000000000003,42.3,44.3,44.9,78.7,52.8,70.8,5.5,41.3,65,57.5,9,7.7,25.1,55,0,0,0,0,{"$f":"TRANSPOSE(CC81:FL81)","v":0},0,56.8,61.5,28,47,46.9,60.1,59.4,24.6,60.4,10.4,null,null,null,null,null,null,null,null,"DL",78]
["Paso Tch Ctr/Culinary",79,"CAA",34.9,37.6,31.3,30.5,31.9,37.700000000000003,14.2,36.799999999999997,30.5,31,32.700000000000003,0,29.4,29.6,33.299999999999997,34.5,29.3,29.8,43.2,55.1,44.7,45.4,46.2,54.4,46.1,46.5,45.9,39.700000000000003,42.3,44,48.9,46.4,35.700000000000003,29.1,26.6,36.799999999999997,16.7,16.600000000000001,39.6,2.8,3.7,3.1,3,1.6,2.5,1.5,2.5,10.3,30.6,8.1999999999999993,10.1,8.9,8.9,34.9,12.7,11.6,15.5,22.1,15.2,13.4,13.9,47.5,14.3,16.8,53.4,16,7.9,2.1,50.5,49.5,33.5,2.5,0,0,0,0,0,{"$f":"TRANSPOSE(CD82:FM82)","v":56.8},0,32.200000000000003,32,12.2,12.4,31.2,30.6,33.799999999999997,31.6,62.3,null,null,null,null,null,null,null,null,"CAA",79]
["Coast Union DO",80,"CDO",26.3,42.3,33.9,20,36.1,41.9,30.9,28.2,34.799999999999997,36.1,35.799999999999997,0,34.5,34.700000000000003,35.299999999999997,20.7,20.7,34.799999999999997,48.3,59.8,48.8,50,50.9,59.1,50.8,51.2,50.1,44.4,47,47.2,53.6,50.6,28.2,1.8,14.9,29.4,48.3,48.1,66.400000000000006,29.4,32,29.5,31.2,30.2,30.9,30.2,29.4,38.6,30.1,25.6,23.4,25.4,25.4,29.5,29.4,28.3,32.200000000000003,38.799999999999997,31.9,30.1,30.6,72.3,38.700000000000003,44,58.1,32.700000000000003,39.4,31.8,53.9,54.2,36.9,29.4,0,0,0,0,0,61.5,{"$f":"TRANSPOSE(CE83:FN83)","v":32.200000000000003},0,33.5,28.1,27.8,1.1000000000000001,1.2,36,1.5,65.400000000000006,null,null,null,null,null,null,null,null,"CDO",80]
["Pacheco Elem",81,"PA",11.3,9.5,0.9,14.2,3.1,6.8,17.600000000000001,10.9,2.1,3.4,4.7,0,1.8,2,4.0999999999999996,10.9,12.9,2.1,15.6,28,17.600000000000001,18.3,19.100000000000001,27.3,19,19.5,18.8,12.6,15.2,14.5,21.8,19.3,5.4,31.4,18.7,6.5,53.9,48.1,66.2,29.4,31.8,29.3,31,30,30.7,30.1,29.3,38.4,3.8,23.3,24.4,23.1,23.1,4.5,19.7,21.4,17.3,11.9,16.399999999999999,18.399999999999999,19.100000000000001,52.8,30.1,45,26.3,15.5,39.200000000000003,31.6,21.1,20.7,4.8,29.2,0,0,0,0,0,28,32,{"$f":"TRANSPOSE(CF84:FO84)","v":33.5},0,21,31.9,32.6,32,4.7,33,33.200000000000003,null,null,null,null,null,null,null,null,"PA",81]
["Del Rio Continuation",82,"DRO",25.1,27.8,21.6,20.2,22.1,26.5,4.3,27,19.600000000000001,21.2,22.9,0,19.600000000000001,19.8,23.5,24.6,19.5,19.899999999999999,33.4,45.3,34.799999999999997,35.5,36.4,44.6,36.299999999999997,36.700000000000003,36.1,29.9,32.5,36.799999999999997,39.1,36.6,25.9,26,25.4,27,28.3,28.2,46.5,9.6999999999999993,12.1,9.5,11.2,10.3,10.9,10.3,9.5,18.7,24.3,3.5,4.7,3.4,3.4,25.1,2.2999999999999998,0.2,5.7,12.3,5.4,2.7,4.0999999999999996,46.5,12.9,25.2,43.6,6.2,19.5,11.9,39.700000000000003,39.700000000000003,22.7,9.4,0,0,0,0,0,47,12.2,28.1,{"$f":"TRANSPOSE(CG85:FP85)","v":21},0,0,27.2,26.5,23,27.5,51.5,null,null,null,null,null,null,null,null,"DRO",82]
["West Mall Alternative",83,"WMA",25.1,21.6,21.5,20.2,22.1,27.9,4.3,27,19.600000000000001,21.1,22.9,0,19.600000000000001,19.8,23.5,24.6,19.5,19.899999999999999,33.4,45.3,34.799999999999997,35.5,36.4,44.6,36.299999999999997,36.700000000000003,36.1,29.9,32.5,36.799999999999997,39.1,36.6,25.9,26,25.4,27,28.3,28.2,46.5,9.6999999999999993,12.1,9.5,11.2,10.3,10.9,10.3,9.5,18.7,24.3,3.5,4.7,3.4,3.4,25.1,2.2999999999999998,0.2,5.7,12.3,5.4,2.7,4.0999999999999996,46.5,12.9,25.2,43.6,6.2,19.5,11.9,39.700000000000003,39.700000000000003,22.7,9.4,0,0,0,0,0,46.9,12.4,27.8,31.9,{"$f":"TRANSPOSE(CH86:FQ86)","v":0},0,27.2,26.5,23,27.5,51.5,null,null,null,null,null,null,null,null,"WMA",83]
["Leffingwell High",84,"LHS",25.3,41.3,32.9,19.100000000000001,35.200000000000003,41.1,29.9,27.3,33.9,35.200000000000003,34.9,0,33.6,33.799999999999997,34.299999999999997,24.9,19.8,33.9,47.7,58.4,47.9,48.6,49.4,57.7,49.4,49.8,49.1,43,45.6,49.8,52.1,49.6,27.3,1.2,14,28.4,47.3,47.2,65.5,28.4,31.1,28.5,30.2,29.3,29.9,29.3,28.5,37.700000000000003,29.1,24.6,22.5,24.4,24.5,28.5,28.5,27.4,31.3,37.9,31,29.1,29.7,71.3,37.799999999999997,43.1,56.7,31.8,38.4,30.9,53.2,52.8,36.200000000000003,28.4,0,0,0,0,0,60.1,31.2,1.1000000000000001,32.6,27.2,{"$f":"TRANSPOSE(CI87:FR87)","v":27.2},0,1.7,35,0.4,65,null,null,null,null,null,null,null,null,"LHS",84]
["Santa Lucia Middle",85,"SLM",24.7,40.700000000000003,32.299999999999997,18.399999999999999,34.5,40.4,29.3,26.6,33,34.5,34.299999999999997,0,32.9,33.1,33.700000000000003,24.3,19.2,33.299999999999997,46.7,57.7,47.3,48,48.8,57,48.8,49.2,48.5,42.3,44.9,49.2,51.5,49,26.7,0.5,13.3,27.8,46.7,46.5,60.3,27.8,30.4,27.9,29.6,28.6,29.3,28.7,27.9,37,28.5,24,21.8,23.8,23.8,27.9,27.8,26.8,30.6,37.200000000000003,30.3,28.5,29,70.7,37.1,42.4,56,31.2,37.799999999999997,30.2,52.3,52.1,35.4,28.5,0,0,0,0,0,59.4,30.6,1.2,32,26.5,26.5,{"$f":"TRANSPOSE(CJ88:FS88)","v":1.7},0,34.4,2.1,64.400000000000006,null,null,null,null,null,null,null,null,"SLM",85]
["Pacific Beach High",86,"PBH",10.8,5.5,4.5,16.600000000000001,2.5,5.5,19.399999999999999,10.3,4.7,4.3,1.1000000000000001,0,4.2,4,0.9,10.3,15.4,4.0999999999999996,15,22.9,12.5,13.2,14,22.2,13.9,14.4,13.7,7.5,10.1,14.4,16.7,14.2,9.3000000000000007,33.9,21.2,10.5,49.9,49.7,68.099999999999994,31.2,33.6,31.1,32.799999999999997,31.8,32.5,31.9,31.1,40.299999999999997,7.7,25.1,26.2,24.9,24.9,8.6,21.5,23.2,19.100000000000001,13.7,18.3,20.3,20.9,54.7,28.8,46.8,21.2,17.3,41,33.5,17.399999999999999,17.3,0.3,31,0,0,0,0,0,24.6,33.799999999999997,36,4.7,23,23,35,{"$f":"TRANSPOSE(CK89:FT89)","v":34.4},0,35.4,29.2,null,null,null,null,null,null,null,null,"PBH",86]
["Coast Union High",87,"CHS",25.7,41.6,33.299999999999997,19.399999999999999,35.5,41.4,30.3,27.6,34.200000000000003,35.5,35.299999999999997,0,33.9,34.1,34.700000000000003,25.3,20.2,34.299999999999997,47.7,58.7,48.3,49,49.8,58,49.8,50.2,49.5,43.3,45.9,50.2,52.5,50,27.7,1.5,14.3,28.8,47.7,47.5,65.8,28.8,31.4,28.9,30.6,29.6,30.3,29.7,28.9,38,29.5,25,22.8,24.8,24.8,28.9,28.8,27.8,31.6,38.200000000000003,31.3,29.5,30,71.7,38.1,43.4,57,32.200000000000003,38.799999999999997,31.2,53.8,53.1,36.799999999999997,28.8,0,0,0,0,0,60.4,31.6,1.5,33,27.5,27.5,0.4,2.1,{"$f":"TRANSPOSE(CL90:FU90)","v":35.4},0,65.400000000000006,null,null,null,null,null,null,null,null,"CHS",87]
["Migrant Ed Program",88,"MEP",39,25.9,33.700000000000003,46.6,31.1,26.5,48,39.5,32.6,33.700000000000003,30.2,0,32.799999999999997,32.5,30.1,39.5,45.4,32.700000000000003,18.899999999999999,8.5,19.3,18.100000000000001,16.600000000000001,8.4,17.600000000000001,18.3,16.8,23.2,19.7,16.399999999999999,15.7,15.8,37.9,63.9,51.3,39,78.5,78.3,92,59.8,62.2,59.7,61.5,60.4,61.1,60.4,59.8,68.8,36.299999999999997,53.6,54.8,53.5,53.5,37.1,50.1,51.1,47.7,42.2,46.8,48.8,48.7,83.1,59.7,75.3,8.5,45.9,74,61.2,15.8,15.8,36.799999999999997,59.5,0,0,0,0,0,10.4,62.3,65.400000000000006,33.200000000000003,51.5,51.5,65,64.400000000000006,29.2,{"$f":"TRANSPOSE(CM91:FV91)","v":65.400000000000006},0,null,null,null,null,null,null,null,null,"MEP",88]
[null,89,"New 17",0,0,0,0,0,0,0,0,0,0,0,0,0,0,0,0,0,0,0,0,0,0,0,0,0,0,0,0,0,0,0,0,0,0,0,0,0,0,0,0,0,0,0,0,0,0,0,0,0,0,0,0,0,0,0,0,0,0,0,0,0,0,0,0,0,0,0,0,0,0,0,0,0,0,0,0,0,0,0,0,0,0,0,0,0,0,0,{"$f":"TRANSPOSE(CN92:FW92)","v":0},0,null,null,null,null,null,null,null,"New 17",89]
[null,90,"New 18",0,0,0,0,0,0,0,0,0,0,0,0,0,0,0,0,0,0,0,0,0,0,0,0,0,0,0,0,0,0,0,0,0,0,0,0,0,0,0,0,0,0,0,0,0,0,0,0,0,0,0,0,0,0,0,0,0,0,0,0,0,0,0,0,0,0,0,0,0,0,0,0,0,0,0,0,0,0,0,0,0,0,0,0,0,0,0,0,{"$f":"TRANSPOSE(CO93:FX93)","v":0},0,null,null,null,null,null,null,"New 18",90]
[null,91,"New 19",0,0,0,0,0,0,0,0,0,0,0,0,0,0,0,0,0,0,0,0,0,0,0,0,0,0,0,0,0,0,0,0,0,0,0,0,0,0,0,0,0,0,0,0,0,0,0,0,0,0,0,0,0,0,0,0,0,0,0,0,0,0,0,0,0,0,0,0,0,0,0,0,0,0,0,0,0,0,0,0,0,0,0,0,0,0,0,0,0,{"$f":"TRANSPOSE(CP94:FY94)","v":0},0,null,null,null,null,null,"New 19",91]
[null,92,"New 20",0,0,0,0,0,0,0,0,0,0,0,0,0,0,0,0,0,0,0,0,0,0,0,0,0,0,0,0,0,0,0,0,0,0,0,0,0,0,0,0,0,0,0,0,0,0,0,0,0,0,0,0,0,0,0,0,0,0,0,0,0,0,0,0,0,0,0,0,0,0,0,0,0,0,0,0,0,0,0,0,0,0,0,0,0,0,0,0,0,0,{"$f":"TRANSPOSE(CQ95:FZ95)","v":0},0,null,null,null,null,"New 20",92]
[null,93,"New 21",0,0,0,0,0,0,0,0,0,0,0,0,0,0,0,0,0,0,0,0,0,0,0,0,0,0,0,0,0,0,0,0,0,0,0,0,0,0,0,0,0,0,0,0,0,0,0,0,0,0,0,0,0,0,0,0,0,0,0,0,0,0,0,0,0,0,0,0,0,0,0,0,0,0,0,0,0,0,0,0,0,0,0,0,0,0,0,0,0,0,0,{"$f":"TRANSPOSE(CR96:GA96)","v":0},0,null,null,null,"New 21",93]
[null,94,"New 22",0,0,0,0,0,0,0,0,0,0,0,0,0,0,0,0,0,0,0,0,0,0,0,0,0,0,0,0,0,0,0,0,0,0,0,0,0,0,0,0,0,0,0,0,0,0,0,0,0,0,0,0,0,0,0,0,0,0,0,0,0,0,0,0,0,0,0,0,0,0,0,0,0,0,0,0,0,0,0,0,0,0,0,0,0,0,0,0,0,0,0,0,{"$f":"TRANSPOSE(CS97:GB97)","v":0},0,null,null,"New 22",94]
[null,95,"New 23",0,0,0,0,0,0,0,0,0,0,0,0,0,0,0,0,0,0,0,0,0,0,0,0,0,0,0,0,0,0,0,0,0,0,0,0,0,0,0,0,0,0,0,0,0,0,0,0,0,0,0,0,0,0,0,0,0,0,0,0,0,0,0,0,0,0,0,0,0,0,0,0,0,0,0,0,0,0,0,0,0,0,0,0,0,0,0,0,0,0,0,0,0,{"$f":"TRANSPOSE(CT98:GC98)","v":0},0,null,"New 23",95]
[null,96,"New 24",0,0,0,0,0,0,0,0,0,0,0,0,0,0,0,0,0,0,0,0,0,0,0,0,0,0,0,0,0,0,0,0,0,0,0,0,0,0,0,0,0,0,0,0,0,0,0,0,0,0,0,0,0,0,0,0,0,0,0,0,0,0,0,0,0,0,0,0,0,0,0,0,0,0,0,0,0,0,0,0,0,0,0,0,0,0,0,0,0,0,0,0,0,0,{"$f":"TRANSPOSE(CU99:GD99)","v":0},0,"New 24",96]
[null,null,null,{"$f":"+C5","v":"BA"},{"$f":"+C6","v":"BSF"},{"$f":"+C7","v":"BP"},{"$f":"+C8","v":"DM"},{"$f":"+C9","v":"HW"},{"$f":"+C10","v":"LR"},{"$f":"+C11","v":"MREC"},{"$f":"+C12","v":"MG"},{"$f":"+C13","v":"CJ"},{"$f":"+C14","v":"SI"},{"$f":"+C15","v":"CLS"},{"$f":"+C16","v":0},{"$f":"+C17","v":"TE"},{"$f":"+C18","v":"VI"},{"$f":"+C19","v":"LAMS"},{"$f":"+C20","v":"LOMS"},{"$f":"+C21","v":"MBHS"},{"$f":"+C22","v":"SLOHS"},{"$f":"+C23","v":"BR"},{"$f":"+C24","v":"DA"},{"$f":"+C25","v":"GH"},{"$f":"+C26","v":"GR"},{"$f":"+C27","v":"HA"},{"$f":"+C28","v":"NI"},{"$f":"+C29","v":"FG"},{"$f":"+C30","v":"OC"},{"$f":"+C31","v":"OV"},{"$f":"+C32","v":"SB"},{"$f":"+C33","v":"JMS"},{"$f":"+C34","v":"PMS"},{"$f":"+C35","v":"MMS"},{"$f":"+C36","v":"AGHS"},{"$f":"+C37","v":"COE"},{"$f":"+C38","v":"CA"},{"$f":"+C39","v":"CAY"},{"$f":"+C40","v":"LV"},{"$f":"+C41","v":"SN"},{"$f":"+C42","v":"SHS"},{"$f":"+C43","v":"PD"},{"$f":"+C44","v":"BS"},{"$f":"+C45","v":"GB"},{"$f":"+C46","v":"PB"},{"$f":"+C47","v":"VP"},{"$f":"+C48","v":"WP"},{"$f":"+C49","v":"FMS"},{"$f":"+C50","v":"LMS"},{"$f":"+C51","v":"PRHS"},{"$f":"+C52","v":"LL"},{"$f":"+C53","v":"JSC"},{"$f":"+C54","v":"TM"},{"$f":"+C55","v":"VD"},{"$f":"+C56","v":"TMS"},{"$f":"+C57","v":"THS"},{"$f":"+C58","v":"GA"},{"$f":"+C59","v":"MR"},{"$f":"+C60","v":"SO"},{"$f":"+C61","v":"SG"},{"$f":"+C62","v":"SM"},{"$f":"+C63","v":"SR"},{"$f":"+C64","v":"AMS"},{"$f":"+C65","v":"ATHS"},{"$f":"+C66","v":"CP"},{"$f":"+C67","v":"CR"},{"$f":"+C68","v":"CC"},{"$f":"+C69","v":"NIHS"},{"$f":"+C70","v":"PC"},{"$f":"+C71","v":"PV"},{"$f":"+C72","v":"KK"},{"$f":"+C73","v":"LMIS"},{"$f":"+C74","v":"LCS"},{"$f":"+C75","v":0},{"$f":"+C76","v":"PRIS"},{"$f":"+C77","v":0},{"$f":"+C78","v":0},{"$f":"+C79","v":0},{"$f":"+C80","v":0},{"$f":"+C81","v":0},{"$f":"+C82","v":"DL"},{"$f":"+C83","v":"CAA"},{"$f":"+C84","v":"CDO"},{"$f":"+C85","v":"PA"},{"$f":"+C86","v":"DRO"},{"$f":"+C87","v":"WMA"},{"$f":"+C88","v":"LHS"},{"$f":"+C89","v":"SLM"},{"$f":"+C90","v":"PBH"},{"$f":"+C91","v":"CHS"},{"$f":"+C92","v":"MEP"},{"$f":"+C93","v":"New 17"},{"$f":"+C94","v":"New 18"},{"$f":"+C95","v":"New 19"},{"$f":"+C96","v":"New 20"},{"$f":"+C97","v":"New 21"},{"$f":"+C98","v":"New 22"},{"$f":"+C99","v":"New 23"},{"$f":"+C100","v":"New 24"}]
[null,null,null,1,2,3,4,5,6,7,8,9,10,11,12,13,14,15,16,17,18,19,20,21,22,23,24,25,26,27,28,29,30,31,32,33,34,35,36,37,38,39,40,41,42,43,44,45,46,47,48,49,50,51,52,53,54,55,56,57,58,59,60,61,62,63,64,65,66,67,68,69,70,71,72,73,74,75,76,77,78,79,80,81,82,83,84,85,86,87,88,89,90,91,92,93,94,95,96]

{"sheet":"Module","index":3,"n_rows":0,"n_cols":0,"rows_kept":0,"cut":false,"hidden":true,"merged":[]}